BEGIN:VCALENDAR
VERSION:2.0
PRODID:-//Yuma Golf &amp; Country Club - ECPv6.15.18//NONSGML v1.0//EN
CALSCALE:GREGORIAN
METHOD:PUBLISH
X-WR-CALNAME:Yuma Golf &amp; Country Club
X-ORIGINAL-URL:https://www.ygcc.org
X-WR-CALDESC:Events for Yuma Golf &amp; Country Club
REFRESH-INTERVAL;VALUE=DURATION:PT1H
X-Robots-Tag:noindex
X-PUBLISHED-TTL:PT1H
BEGIN:VTIMEZONE
TZID:America/Phoenix
BEGIN:STANDARD
TZOFFSETFROM:-0700
TZOFFSETTO:-0700
TZNAME:MST
DTSTART:20230101T000000
END:STANDARD
END:VTIMEZONE
BEGIN:VEVENT
DTSTART;TZID=America/Phoenix:20241213T070000
DTEND;TZID=America/Phoenix:20241213T110000
DTSTAMP:20260423T220647
CREATED:20240625T180112Z
LAST-MODIFIED:20240625T180117Z
UID:10007578-1734073200-1734087600@www.ygcc.org
SUMMARY:Breakfast
DESCRIPTION:
URL:https://www.ygcc.org/event/breakfast-2/2024-12-13/
END:VEVENT
BEGIN:VEVENT
DTSTART;TZID=America/Phoenix:20241213T110000
DTEND;TZID=America/Phoenix:20241213T170000
DTSTAMP:20260423T220647
CREATED:20240625T175843Z
LAST-MODIFIED:20240625T180758Z
UID:10006124-1734087600-1734109200@www.ygcc.org
SUMMARY:Lunch
DESCRIPTION:
URL:https://www.ygcc.org/event/lunch/2024-12-13/
END:VEVENT
BEGIN:VEVENT
DTSTART;TZID=America/Phoenix:20241213T150000
DTEND;TZID=America/Phoenix:20241213T180000
DTSTAMP:20260423T220647
CREATED:20240725T214417Z
LAST-MODIFIED:20240725T214417Z
UID:10009169-1734102000-1734112800@www.ygcc.org
SUMMARY:Happy Hour
DESCRIPTION:
URL:https://www.ygcc.org/event/happy-hour/2024-12-13/
END:VEVENT
END:VCALENDAR