BEGIN:VCALENDAR
VERSION:2.0
PRODID:-//Yuma Golf &amp; Country Club - ECPv6.15.18//NONSGML v1.0//EN
CALSCALE:GREGORIAN
METHOD:PUBLISH
X-WR-CALNAME:Yuma Golf &amp; Country Club
X-ORIGINAL-URL:https://www.ygcc.org
X-WR-CALDESC:Events for Yuma Golf &amp; Country Club
REFRESH-INTERVAL;VALUE=DURATION:PT1H
X-Robots-Tag:noindex
X-PUBLISHED-TTL:PT1H
BEGIN:VTIMEZONE
TZID:America/Phoenix
BEGIN:STANDARD
TZOFFSETFROM:-0700
TZOFFSETTO:-0700
TZNAME:MST
DTSTART:20270101T000000
END:STANDARD
END:VTIMEZONE
BEGIN:VEVENT
DTSTART;TZID=America/Phoenix:20280524T110000
DTEND;TZID=America/Phoenix:20280524T180000
DTSTAMP:20260423T013642
CREATED:20240725T214050Z
LAST-MODIFIED:20240725T214050Z
UID:10008748-1842778800-1842804000@www.ygcc.org
SUMMARY:Wing Wednesday
DESCRIPTION:
URL:https://www.ygcc.org/event/wing-wednesday/2028-05-24/
END:VEVENT
BEGIN:VEVENT
DTSTART;TZID=America/Phoenix:20280531T110000
DTEND;TZID=America/Phoenix:20280531T180000
DTSTAMP:20260423T013642
CREATED:20240725T214050Z
LAST-MODIFIED:20240725T214050Z
UID:10008749-1843383600-1843408800@www.ygcc.org
SUMMARY:Wing Wednesday
DESCRIPTION:
URL:https://www.ygcc.org/event/wing-wednesday/2028-05-31/
END:VEVENT
BEGIN:VEVENT
DTSTART;TZID=America/Phoenix:20280607T110000
DTEND;TZID=America/Phoenix:20280607T180000
DTSTAMP:20260423T013642
CREATED:20240725T214050Z
LAST-MODIFIED:20240725T214050Z
UID:10008750-1843988400-1844013600@www.ygcc.org
SUMMARY:Wing Wednesday
DESCRIPTION:
URL:https://www.ygcc.org/event/wing-wednesday/2028-06-07/
END:VEVENT
BEGIN:VEVENT
DTSTART;TZID=America/Phoenix:20280614T110000
DTEND;TZID=America/Phoenix:20280614T180000
DTSTAMP:20260423T013642
CREATED:20240725T214050Z
LAST-MODIFIED:20240725T214050Z
UID:10008751-1844593200-1844618400@www.ygcc.org
SUMMARY:Wing Wednesday
DESCRIPTION:
URL:https://www.ygcc.org/event/wing-wednesday/2028-06-14/
END:VEVENT
BEGIN:VEVENT
DTSTART;TZID=America/Phoenix:20280621T110000
DTEND;TZID=America/Phoenix:20280621T180000
DTSTAMP:20260423T013643
CREATED:20240725T214050Z
LAST-MODIFIED:20240725T214050Z
UID:10008752-1845198000-1845223200@www.ygcc.org
SUMMARY:Wing Wednesday
DESCRIPTION:
URL:https://www.ygcc.org/event/wing-wednesday/2028-06-21/
END:VEVENT
BEGIN:VEVENT
DTSTART;TZID=America/Phoenix:20280628T110000
DTEND;TZID=America/Phoenix:20280628T180000
DTSTAMP:20260423T013643
CREATED:20240725T214050Z
LAST-MODIFIED:20240725T214050Z
UID:10008753-1845802800-1845828000@www.ygcc.org
SUMMARY:Wing Wednesday
DESCRIPTION:
URL:https://www.ygcc.org/event/wing-wednesday/2028-06-28/
END:VEVENT
BEGIN:VEVENT
DTSTART;TZID=America/Phoenix:20280705T110000
DTEND;TZID=America/Phoenix:20280705T180000
DTSTAMP:20260423T013643
CREATED:20240725T214050Z
LAST-MODIFIED:20240725T214050Z
UID:10008754-1846407600-1846432800@www.ygcc.org
SUMMARY:Wing Wednesday
DESCRIPTION:
URL:https://www.ygcc.org/event/wing-wednesday/2028-07-05/
END:VEVENT
BEGIN:VEVENT
DTSTART;TZID=America/Phoenix:20280712T110000
DTEND;TZID=America/Phoenix:20280712T180000
DTSTAMP:20260423T013643
CREATED:20240725T214050Z
LAST-MODIFIED:20240725T214050Z
UID:10008755-1847012400-1847037600@www.ygcc.org
SUMMARY:Wing Wednesday
DESCRIPTION:
URL:https://www.ygcc.org/event/wing-wednesday/2028-07-12/
END:VEVENT
BEGIN:VEVENT
DTSTART;TZID=America/Phoenix:20280719T110000
DTEND;TZID=America/Phoenix:20280719T180000
DTSTAMP:20260423T013643
CREATED:20240725T214050Z
LAST-MODIFIED:20240725T214050Z
UID:10008756-1847617200-1847642400@www.ygcc.org
SUMMARY:Wing Wednesday
DESCRIPTION:
URL:https://www.ygcc.org/event/wing-wednesday/2028-07-19/
END:VEVENT
BEGIN:VEVENT
DTSTART;TZID=America/Phoenix:20280726T110000
DTEND;TZID=America/Phoenix:20280726T180000
DTSTAMP:20260423T013643
CREATED:20240725T214050Z
LAST-MODIFIED:20240725T214050Z
UID:10008757-1848222000-1848247200@www.ygcc.org
SUMMARY:Wing Wednesday
DESCRIPTION:
URL:https://www.ygcc.org/event/wing-wednesday/2028-07-26/
END:VEVENT
BEGIN:VEVENT
DTSTART;TZID=America/Phoenix:20280802T110000
DTEND;TZID=America/Phoenix:20280802T180000
DTSTAMP:20260423T013643
CREATED:20240725T214050Z
LAST-MODIFIED:20240725T214050Z
UID:10008758-1848826800-1848852000@www.ygcc.org
SUMMARY:Wing Wednesday
DESCRIPTION:
URL:https://www.ygcc.org/event/wing-wednesday/2028-08-02/
END:VEVENT
BEGIN:VEVENT
DTSTART;TZID=America/Phoenix:20280809T110000
DTEND;TZID=America/Phoenix:20280809T180000
DTSTAMP:20260423T013643
CREATED:20240725T214050Z
LAST-MODIFIED:20240725T214050Z
UID:10008759-1849431600-1849456800@www.ygcc.org
SUMMARY:Wing Wednesday
DESCRIPTION:
URL:https://www.ygcc.org/event/wing-wednesday/2028-08-09/
END:VEVENT
BEGIN:VEVENT
DTSTART;TZID=America/Phoenix:20280816T110000
DTEND;TZID=America/Phoenix:20280816T180000
DTSTAMP:20260423T013643
CREATED:20240725T214050Z
LAST-MODIFIED:20240725T214050Z
UID:10008760-1850036400-1850061600@www.ygcc.org
SUMMARY:Wing Wednesday
DESCRIPTION:
URL:https://www.ygcc.org/event/wing-wednesday/2028-08-16/
END:VEVENT
BEGIN:VEVENT
DTSTART;TZID=America/Phoenix:20280823T110000
DTEND;TZID=America/Phoenix:20280823T180000
DTSTAMP:20260423T013643
CREATED:20240725T214050Z
LAST-MODIFIED:20240725T214050Z
UID:10008761-1850641200-1850666400@www.ygcc.org
SUMMARY:Wing Wednesday
DESCRIPTION:
URL:https://www.ygcc.org/event/wing-wednesday/2028-08-23/
END:VEVENT
BEGIN:VEVENT
DTSTART;TZID=America/Phoenix:20280830T110000
DTEND;TZID=America/Phoenix:20280830T180000
DTSTAMP:20260423T013643
CREATED:20240725T214050Z
LAST-MODIFIED:20240725T214050Z
UID:10008762-1851246000-1851271200@www.ygcc.org
SUMMARY:Wing Wednesday
DESCRIPTION:
URL:https://www.ygcc.org/event/wing-wednesday/2028-08-30/
END:VEVENT
BEGIN:VEVENT
DTSTART;TZID=America/Phoenix:20280906T110000
DTEND;TZID=America/Phoenix:20280906T180000
DTSTAMP:20260423T013643
CREATED:20240725T214050Z
LAST-MODIFIED:20240725T214050Z
UID:10008763-1851850800-1851876000@www.ygcc.org
SUMMARY:Wing Wednesday
DESCRIPTION:
URL:https://www.ygcc.org/event/wing-wednesday/2028-09-06/
END:VEVENT
BEGIN:VEVENT
DTSTART;TZID=America/Phoenix:20280913T110000
DTEND;TZID=America/Phoenix:20280913T180000
DTSTAMP:20260423T013643
CREATED:20240725T214050Z
LAST-MODIFIED:20240725T214050Z
UID:10008764-1852455600-1852480800@www.ygcc.org
SUMMARY:Wing Wednesday
DESCRIPTION:
URL:https://www.ygcc.org/event/wing-wednesday/2028-09-13/
END:VEVENT
BEGIN:VEVENT
DTSTART;TZID=America/Phoenix:20280920T110000
DTEND;TZID=America/Phoenix:20280920T180000
DTSTAMP:20260423T013643
CREATED:20240725T214050Z
LAST-MODIFIED:20240725T214050Z
UID:10008765-1853060400-1853085600@www.ygcc.org
SUMMARY:Wing Wednesday
DESCRIPTION:
URL:https://www.ygcc.org/event/wing-wednesday/2028-09-20/
END:VEVENT
BEGIN:VEVENT
DTSTART;TZID=America/Phoenix:20280927T110000
DTEND;TZID=America/Phoenix:20280927T180000
DTSTAMP:20260423T013643
CREATED:20240725T214050Z
LAST-MODIFIED:20240725T214050Z
UID:10008766-1853665200-1853690400@www.ygcc.org
SUMMARY:Wing Wednesday
DESCRIPTION:
URL:https://www.ygcc.org/event/wing-wednesday/2028-09-27/
END:VEVENT
BEGIN:VEVENT
DTSTART;TZID=America/Phoenix:20281004T110000
DTEND;TZID=America/Phoenix:20281004T180000
DTSTAMP:20260423T013643
CREATED:20240725T214050Z
LAST-MODIFIED:20240725T214050Z
UID:10008767-1854270000-1854295200@www.ygcc.org
SUMMARY:Wing Wednesday
DESCRIPTION:
URL:https://www.ygcc.org/event/wing-wednesday/2028-10-04/
END:VEVENT
BEGIN:VEVENT
DTSTART;TZID=America/Phoenix:20281011T110000
DTEND;TZID=America/Phoenix:20281011T180000
DTSTAMP:20260423T013643
CREATED:20240725T214050Z
LAST-MODIFIED:20240725T214050Z
UID:10008768-1854874800-1854900000@www.ygcc.org
SUMMARY:Wing Wednesday
DESCRIPTION:
URL:https://www.ygcc.org/event/wing-wednesday/2028-10-11/
END:VEVENT
BEGIN:VEVENT
DTSTART;TZID=America/Phoenix:20281018T110000
DTEND;TZID=America/Phoenix:20281018T180000
DTSTAMP:20260423T013643
CREATED:20240725T214050Z
LAST-MODIFIED:20240725T214050Z
UID:10008769-1855479600-1855504800@www.ygcc.org
SUMMARY:Wing Wednesday
DESCRIPTION:
URL:https://www.ygcc.org/event/wing-wednesday/2028-10-18/
END:VEVENT
BEGIN:VEVENT
DTSTART;TZID=America/Phoenix:20281025T110000
DTEND;TZID=America/Phoenix:20281025T180000
DTSTAMP:20260423T013643
CREATED:20240725T214050Z
LAST-MODIFIED:20240725T214050Z
UID:10008770-1856084400-1856109600@www.ygcc.org
SUMMARY:Wing Wednesday
DESCRIPTION:
URL:https://www.ygcc.org/event/wing-wednesday/2028-10-25/
END:VEVENT
BEGIN:VEVENT
DTSTART;TZID=America/Phoenix:20281101T110000
DTEND;TZID=America/Phoenix:20281101T180000
DTSTAMP:20260423T013643
CREATED:20240725T214050Z
LAST-MODIFIED:20240725T214050Z
UID:10008771-1856689200-1856714400@www.ygcc.org
SUMMARY:Wing Wednesday
DESCRIPTION:
URL:https://www.ygcc.org/event/wing-wednesday/2028-11-01/
END:VEVENT
BEGIN:VEVENT
DTSTART;TZID=America/Phoenix:20281108T110000
DTEND;TZID=America/Phoenix:20281108T180000
DTSTAMP:20260423T013643
CREATED:20240725T214050Z
LAST-MODIFIED:20240725T214050Z
UID:10008772-1857294000-1857319200@www.ygcc.org
SUMMARY:Wing Wednesday
DESCRIPTION:
URL:https://www.ygcc.org/event/wing-wednesday/2028-11-08/
END:VEVENT
BEGIN:VEVENT
DTSTART;TZID=America/Phoenix:20281115T110000
DTEND;TZID=America/Phoenix:20281115T180000
DTSTAMP:20260423T013643
CREATED:20240725T214050Z
LAST-MODIFIED:20240725T214050Z
UID:10008773-1857898800-1857924000@www.ygcc.org
SUMMARY:Wing Wednesday
DESCRIPTION:
URL:https://www.ygcc.org/event/wing-wednesday/2028-11-15/
END:VEVENT
BEGIN:VEVENT
DTSTART;TZID=America/Phoenix:20281122T110000
DTEND;TZID=America/Phoenix:20281122T180000
DTSTAMP:20260423T013643
CREATED:20240725T214050Z
LAST-MODIFIED:20240725T214050Z
UID:10008774-1858503600-1858528800@www.ygcc.org
SUMMARY:Wing Wednesday
DESCRIPTION:
URL:https://www.ygcc.org/event/wing-wednesday/2028-11-22/
END:VEVENT
BEGIN:VEVENT
DTSTART;TZID=America/Phoenix:20281129T110000
DTEND;TZID=America/Phoenix:20281129T180000
DTSTAMP:20260423T013643
CREATED:20240725T214050Z
LAST-MODIFIED:20240725T214050Z
UID:10008775-1859108400-1859133600@www.ygcc.org
SUMMARY:Wing Wednesday
DESCRIPTION:
URL:https://www.ygcc.org/event/wing-wednesday/2028-11-29/
END:VEVENT
BEGIN:VEVENT
DTSTART;TZID=America/Phoenix:20281206T110000
DTEND;TZID=America/Phoenix:20281206T180000
DTSTAMP:20260423T013643
CREATED:20240725T214050Z
LAST-MODIFIED:20240725T214050Z
UID:10008776-1859713200-1859738400@www.ygcc.org
SUMMARY:Wing Wednesday
DESCRIPTION:
URL:https://www.ygcc.org/event/wing-wednesday/2028-12-06/
END:VEVENT
BEGIN:VEVENT
DTSTART;TZID=America/Phoenix:20281213T110000
DTEND;TZID=America/Phoenix:20281213T180000
DTSTAMP:20260423T013643
CREATED:20240725T214050Z
LAST-MODIFIED:20240725T214050Z
UID:10008777-1860318000-1860343200@www.ygcc.org
SUMMARY:Wing Wednesday
DESCRIPTION:
URL:https://www.ygcc.org/event/wing-wednesday/2028-12-13/
END:VEVENT
END:VCALENDAR