BEGIN:VCALENDAR
VERSION:2.0
PRODID:-//Yuma Golf &amp; Country Club - ECPv6.15.18//NONSGML v1.0//EN
CALSCALE:GREGORIAN
METHOD:PUBLISH
X-ORIGINAL-URL:https://www.ygcc.org
X-WR-CALDESC:Events for Yuma Golf &amp; Country Club
REFRESH-INTERVAL;VALUE=DURATION:PT1H
X-Robots-Tag:noindex
X-PUBLISHED-TTL:PT1H
BEGIN:VTIMEZONE
TZID:America/Phoenix
BEGIN:STANDARD
TZOFFSETFROM:-0700
TZOFFSETTO:-0700
TZNAME:MST
DTSTART:20270101T000000
END:STANDARD
END:VTIMEZONE
BEGIN:VEVENT
DTSTART;TZID=America/Phoenix:20280810T110000
DTEND;TZID=America/Phoenix:20280810T180000
DTSTAMP:20260423T023947
CREATED:20240725T214223Z
LAST-MODIFIED:20240725T214528Z
UID:10009021-1849518000-1849543200@www.ygcc.org
SUMMARY:Burgers & Draft
DESCRIPTION:
URL:https://www.ygcc.org/event/burgers-draft/2028-08-10/
END:VEVENT
BEGIN:VEVENT
DTSTART;TZID=America/Phoenix:20280817T110000
DTEND;TZID=America/Phoenix:20280817T180000
DTSTAMP:20260423T023947
CREATED:20240725T214223Z
LAST-MODIFIED:20240725T214528Z
UID:10009022-1850122800-1850148000@www.ygcc.org
SUMMARY:Burgers & Draft
DESCRIPTION:
URL:https://www.ygcc.org/event/burgers-draft/2028-08-17/
END:VEVENT
BEGIN:VEVENT
DTSTART;TZID=America/Phoenix:20280824T110000
DTEND;TZID=America/Phoenix:20280824T180000
DTSTAMP:20260423T023947
CREATED:20240725T214223Z
LAST-MODIFIED:20240725T214528Z
UID:10009023-1850727600-1850752800@www.ygcc.org
SUMMARY:Burgers & Draft
DESCRIPTION:
URL:https://www.ygcc.org/event/burgers-draft/2028-08-24/
END:VEVENT
BEGIN:VEVENT
DTSTART;TZID=America/Phoenix:20280831T110000
DTEND;TZID=America/Phoenix:20280831T180000
DTSTAMP:20260423T023947
CREATED:20240725T214223Z
LAST-MODIFIED:20240725T214528Z
UID:10009024-1851332400-1851357600@www.ygcc.org
SUMMARY:Burgers & Draft
DESCRIPTION:
URL:https://www.ygcc.org/event/burgers-draft/2028-08-31/
END:VEVENT
BEGIN:VEVENT
DTSTART;TZID=America/Phoenix:20280907T110000
DTEND;TZID=America/Phoenix:20280907T180000
DTSTAMP:20260423T023947
CREATED:20240725T214223Z
LAST-MODIFIED:20240725T214528Z
UID:10009025-1851937200-1851962400@www.ygcc.org
SUMMARY:Burgers & Draft
DESCRIPTION:
URL:https://www.ygcc.org/event/burgers-draft/2028-09-07/
END:VEVENT
BEGIN:VEVENT
DTSTART;TZID=America/Phoenix:20280914T110000
DTEND;TZID=America/Phoenix:20280914T180000
DTSTAMP:20260423T023947
CREATED:20240725T214223Z
LAST-MODIFIED:20240725T214528Z
UID:10009026-1852542000-1852567200@www.ygcc.org
SUMMARY:Burgers & Draft
DESCRIPTION:
URL:https://www.ygcc.org/event/burgers-draft/2028-09-14/
END:VEVENT
BEGIN:VEVENT
DTSTART;TZID=America/Phoenix:20280921T110000
DTEND;TZID=America/Phoenix:20280921T180000
DTSTAMP:20260423T023947
CREATED:20240725T214223Z
LAST-MODIFIED:20240725T214528Z
UID:10009027-1853146800-1853172000@www.ygcc.org
SUMMARY:Burgers & Draft
DESCRIPTION:
URL:https://www.ygcc.org/event/burgers-draft/2028-09-21/
END:VEVENT
BEGIN:VEVENT
DTSTART;TZID=America/Phoenix:20280928T110000
DTEND;TZID=America/Phoenix:20280928T180000
DTSTAMP:20260423T023947
CREATED:20240725T214223Z
LAST-MODIFIED:20240725T214528Z
UID:10009028-1853751600-1853776800@www.ygcc.org
SUMMARY:Burgers & Draft
DESCRIPTION:
URL:https://www.ygcc.org/event/burgers-draft/2028-09-28/
END:VEVENT
BEGIN:VEVENT
DTSTART;TZID=America/Phoenix:20281005T110000
DTEND;TZID=America/Phoenix:20281005T180000
DTSTAMP:20260423T023947
CREATED:20240725T214223Z
LAST-MODIFIED:20240725T214528Z
UID:10009029-1854356400-1854381600@www.ygcc.org
SUMMARY:Burgers & Draft
DESCRIPTION:
URL:https://www.ygcc.org/event/burgers-draft/2028-10-05/
END:VEVENT
BEGIN:VEVENT
DTSTART;TZID=America/Phoenix:20281012T110000
DTEND;TZID=America/Phoenix:20281012T180000
DTSTAMP:20260423T023947
CREATED:20240725T214223Z
LAST-MODIFIED:20240725T214528Z
UID:10009030-1854961200-1854986400@www.ygcc.org
SUMMARY:Burgers & Draft
DESCRIPTION:
URL:https://www.ygcc.org/event/burgers-draft/2028-10-12/
END:VEVENT
BEGIN:VEVENT
DTSTART;TZID=America/Phoenix:20281019T110000
DTEND;TZID=America/Phoenix:20281019T180000
DTSTAMP:20260423T023947
CREATED:20240725T214223Z
LAST-MODIFIED:20240725T214528Z
UID:10009031-1855566000-1855591200@www.ygcc.org
SUMMARY:Burgers & Draft
DESCRIPTION:
URL:https://www.ygcc.org/event/burgers-draft/2028-10-19/
END:VEVENT
BEGIN:VEVENT
DTSTART;TZID=America/Phoenix:20281026T110000
DTEND;TZID=America/Phoenix:20281026T180000
DTSTAMP:20260423T023947
CREATED:20240725T214223Z
LAST-MODIFIED:20240725T214528Z
UID:10009032-1856170800-1856196000@www.ygcc.org
SUMMARY:Burgers & Draft
DESCRIPTION:
URL:https://www.ygcc.org/event/burgers-draft/2028-10-26/
END:VEVENT
BEGIN:VEVENT
DTSTART;TZID=America/Phoenix:20281102T110000
DTEND;TZID=America/Phoenix:20281102T180000
DTSTAMP:20260423T023947
CREATED:20240725T214223Z
LAST-MODIFIED:20240725T214528Z
UID:10009033-1856775600-1856800800@www.ygcc.org
SUMMARY:Burgers & Draft
DESCRIPTION:
URL:https://www.ygcc.org/event/burgers-draft/2028-11-02/
END:VEVENT
BEGIN:VEVENT
DTSTART;TZID=America/Phoenix:20281109T110000
DTEND;TZID=America/Phoenix:20281109T180000
DTSTAMP:20260423T023947
CREATED:20240725T214223Z
LAST-MODIFIED:20240725T214528Z
UID:10009034-1857380400-1857405600@www.ygcc.org
SUMMARY:Burgers & Draft
DESCRIPTION:
URL:https://www.ygcc.org/event/burgers-draft/2028-11-09/
END:VEVENT
BEGIN:VEVENT
DTSTART;TZID=America/Phoenix:20281116T110000
DTEND;TZID=America/Phoenix:20281116T180000
DTSTAMP:20260423T023947
CREATED:20240725T214223Z
LAST-MODIFIED:20240725T214528Z
UID:10009035-1857985200-1858010400@www.ygcc.org
SUMMARY:Burgers & Draft
DESCRIPTION:
URL:https://www.ygcc.org/event/burgers-draft/2028-11-16/
END:VEVENT
BEGIN:VEVENT
DTSTART;TZID=America/Phoenix:20281123T110000
DTEND;TZID=America/Phoenix:20281123T180000
DTSTAMP:20260423T023947
CREATED:20240725T214223Z
LAST-MODIFIED:20240725T214528Z
UID:10009036-1858590000-1858615200@www.ygcc.org
SUMMARY:Burgers & Draft
DESCRIPTION:
URL:https://www.ygcc.org/event/burgers-draft/2028-11-23/
END:VEVENT
BEGIN:VEVENT
DTSTART;TZID=America/Phoenix:20281130T110000
DTEND;TZID=America/Phoenix:20281130T180000
DTSTAMP:20260423T023947
CREATED:20240725T214223Z
LAST-MODIFIED:20240725T214528Z
UID:10009037-1859194800-1859220000@www.ygcc.org
SUMMARY:Burgers & Draft
DESCRIPTION:
URL:https://www.ygcc.org/event/burgers-draft/2028-11-30/
END:VEVENT
BEGIN:VEVENT
DTSTART;TZID=America/Phoenix:20281207T110000
DTEND;TZID=America/Phoenix:20281207T180000
DTSTAMP:20260423T023947
CREATED:20240725T214223Z
LAST-MODIFIED:20240725T214528Z
UID:10009038-1859799600-1859824800@www.ygcc.org
SUMMARY:Burgers & Draft
DESCRIPTION:
URL:https://www.ygcc.org/event/burgers-draft/2028-12-07/
END:VEVENT
BEGIN:VEVENT
DTSTART;TZID=America/Phoenix:20281214T110000
DTEND;TZID=America/Phoenix:20281214T180000
DTSTAMP:20260423T023947
CREATED:20240725T214223Z
LAST-MODIFIED:20240725T214528Z
UID:10009039-1860404400-1860429600@www.ygcc.org
SUMMARY:Burgers & Draft
DESCRIPTION:
URL:https://www.ygcc.org/event/burgers-draft/2028-12-14/
END:VEVENT
BEGIN:VEVENT
DTSTART;TZID=America/Phoenix:20281221T110000
DTEND;TZID=America/Phoenix:20281221T180000
DTSTAMP:20260423T023947
CREATED:20240725T214223Z
LAST-MODIFIED:20240725T214528Z
UID:10009040-1861009200-1861034400@www.ygcc.org
SUMMARY:Burgers & Draft
DESCRIPTION:
URL:https://www.ygcc.org/event/burgers-draft/2028-12-21/
END:VEVENT
BEGIN:VEVENT
DTSTART;TZID=America/Phoenix:20281228T110000
DTEND;TZID=America/Phoenix:20281228T180000
DTSTAMP:20260423T023947
CREATED:20240725T214223Z
LAST-MODIFIED:20240725T214528Z
UID:10009041-1861614000-1861639200@www.ygcc.org
SUMMARY:Burgers & Draft
DESCRIPTION:
URL:https://www.ygcc.org/event/burgers-draft/2028-12-28/
END:VEVENT
BEGIN:VEVENT
DTSTART;TZID=America/Phoenix:20290104T110000
DTEND;TZID=America/Phoenix:20290104T180000
DTSTAMP:20260423T023947
CREATED:20240725T214223Z
LAST-MODIFIED:20240725T214528Z
UID:10009042-1862218800-1862244000@www.ygcc.org
SUMMARY:Burgers & Draft
DESCRIPTION:
URL:https://www.ygcc.org/event/burgers-draft/2029-01-04/
END:VEVENT
BEGIN:VEVENT
DTSTART;TZID=America/Phoenix:20290111T110000
DTEND;TZID=America/Phoenix:20290111T180000
DTSTAMP:20260423T023947
CREATED:20240725T214223Z
LAST-MODIFIED:20240725T214528Z
UID:10009043-1862823600-1862848800@www.ygcc.org
SUMMARY:Burgers & Draft
DESCRIPTION:
URL:https://www.ygcc.org/event/burgers-draft/2029-01-11/
END:VEVENT
BEGIN:VEVENT
DTSTART;TZID=America/Phoenix:20290118T110000
DTEND;TZID=America/Phoenix:20290118T180000
DTSTAMP:20260423T023947
CREATED:20240725T214223Z
LAST-MODIFIED:20240725T214528Z
UID:10009044-1863428400-1863453600@www.ygcc.org
SUMMARY:Burgers & Draft
DESCRIPTION:
URL:https://www.ygcc.org/event/burgers-draft/2029-01-18/
END:VEVENT
BEGIN:VEVENT
DTSTART;TZID=America/Phoenix:20290125T110000
DTEND;TZID=America/Phoenix:20290125T180000
DTSTAMP:20260423T023947
CREATED:20240725T214223Z
LAST-MODIFIED:20240725T214528Z
UID:10009045-1864033200-1864058400@www.ygcc.org
SUMMARY:Burgers & Draft
DESCRIPTION:
URL:https://www.ygcc.org/event/burgers-draft/2029-01-25/
END:VEVENT
BEGIN:VEVENT
DTSTART;TZID=America/Phoenix:20290201T110000
DTEND;TZID=America/Phoenix:20290201T180000
DTSTAMP:20260423T023947
CREATED:20240725T214223Z
LAST-MODIFIED:20240725T214528Z
UID:10009046-1864638000-1864663200@www.ygcc.org
SUMMARY:Burgers & Draft
DESCRIPTION:
URL:https://www.ygcc.org/event/burgers-draft/2029-02-01/
END:VEVENT
BEGIN:VEVENT
DTSTART;TZID=America/Phoenix:20290208T110000
DTEND;TZID=America/Phoenix:20290208T180000
DTSTAMP:20260423T023947
CREATED:20240725T214223Z
LAST-MODIFIED:20240725T214528Z
UID:10009047-1865242800-1865268000@www.ygcc.org
SUMMARY:Burgers & Draft
DESCRIPTION:
URL:https://www.ygcc.org/event/burgers-draft/2029-02-08/
END:VEVENT
BEGIN:VEVENT
DTSTART;TZID=America/Phoenix:20290215T110000
DTEND;TZID=America/Phoenix:20290215T180000
DTSTAMP:20260423T023947
CREATED:20240725T214223Z
LAST-MODIFIED:20240725T214528Z
UID:10009048-1865847600-1865872800@www.ygcc.org
SUMMARY:Burgers & Draft
DESCRIPTION:
URL:https://www.ygcc.org/event/burgers-draft/2029-02-15/
END:VEVENT
BEGIN:VEVENT
DTSTART;TZID=America/Phoenix:20290222T110000
DTEND;TZID=America/Phoenix:20290222T180000
DTSTAMP:20260423T023947
CREATED:20240725T214223Z
LAST-MODIFIED:20240725T214528Z
UID:10009049-1866452400-1866477600@www.ygcc.org
SUMMARY:Burgers & Draft
DESCRIPTION:
URL:https://www.ygcc.org/event/burgers-draft/2029-02-22/
END:VEVENT
BEGIN:VEVENT
DTSTART;TZID=America/Phoenix:20290301T110000
DTEND;TZID=America/Phoenix:20290301T180000
DTSTAMP:20260423T023947
CREATED:20240725T214223Z
LAST-MODIFIED:20240725T214528Z
UID:10009050-1867057200-1867082400@www.ygcc.org
SUMMARY:Burgers & Draft
DESCRIPTION:
URL:https://www.ygcc.org/event/burgers-draft/2029-03-01/
END:VEVENT
END:VCALENDAR