BEGIN:VCALENDAR
VERSION:2.0
PRODID:-//Yuma Golf &amp; Country Club - ECPv6.15.18//NONSGML v1.0//EN
CALSCALE:GREGORIAN
METHOD:PUBLISH
X-ORIGINAL-URL:https://www.ygcc.org
X-WR-CALDESC:Events for Yuma Golf &amp; Country Club
REFRESH-INTERVAL;VALUE=DURATION:PT1H
X-Robots-Tag:noindex
X-PUBLISHED-TTL:PT1H
BEGIN:VTIMEZONE
TZID:America/Phoenix
BEGIN:STANDARD
TZOFFSETFROM:-0700
TZOFFSETTO:-0700
TZNAME:MST
DTSTART:20280101T000000
END:STANDARD
END:VTIMEZONE
BEGIN:VEVENT
DTSTART;TZID=America/Phoenix:20290724T150000
DTEND;TZID=America/Phoenix:20290724T180000
DTSTAMP:20260422T015926
CREATED:20240725T214417Z
LAST-MODIFIED:20240725T214417Z
UID:10010371-1879599600-1879610400@www.ygcc.org
SUMMARY:Happy Hour
DESCRIPTION:
URL:https://www.ygcc.org/event/happy-hour/2029-07-24/
END:VEVENT
BEGIN:VEVENT
DTSTART;TZID=America/Phoenix:20290725T110000
DTEND;TZID=America/Phoenix:20290725T180000
DTSTAMP:20260422T015926
CREATED:20240725T214050Z
LAST-MODIFIED:20240725T214050Z
UID:10008809-1879671600-1879696800@www.ygcc.org
SUMMARY:Wing Wednesday
DESCRIPTION:
URL:https://www.ygcc.org/event/wing-wednesday/2029-07-25/
END:VEVENT
BEGIN:VEVENT
DTSTART;TZID=America/Phoenix:20290725T150000
DTEND;TZID=America/Phoenix:20290725T180000
DTSTAMP:20260422T015926
CREATED:20240725T214417Z
LAST-MODIFIED:20240725T214417Z
UID:10010372-1879686000-1879696800@www.ygcc.org
SUMMARY:Happy Hour
DESCRIPTION:
URL:https://www.ygcc.org/event/happy-hour/2029-07-25/
END:VEVENT
END:VCALENDAR