BEGIN:VCALENDAR
VERSION:2.0
PRODID:-//Yuma Golf &amp; Country Club - ECPv6.15.18//NONSGML v1.0//EN
CALSCALE:GREGORIAN
METHOD:PUBLISH
X-WR-CALNAME:Yuma Golf &amp; Country Club
X-ORIGINAL-URL:https://www.ygcc.org
X-WR-CALDESC:Events for Yuma Golf &amp; Country Club
REFRESH-INTERVAL;VALUE=DURATION:PT1H
X-Robots-Tag:noindex
X-PUBLISHED-TTL:PT1H
BEGIN:VTIMEZONE
TZID:America/Phoenix
BEGIN:STANDARD
TZOFFSETFROM:-0700
TZOFFSETTO:-0700
TZNAME:MST
DTSTART:20250101T000000
END:STANDARD
END:VTIMEZONE
BEGIN:VEVENT
DTSTART;TZID=America/Phoenix:20261023T150000
DTEND;TZID=America/Phoenix:20261023T180000
DTSTAMP:20260422T045922
CREATED:20240725T214417Z
LAST-MODIFIED:20240725T214417Z
UID:10009654-1792767600-1792778400@www.ygcc.org
SUMMARY:Happy Hour
DESCRIPTION:
URL:https://www.ygcc.org/event/happy-hour/2026-10-23/
END:VEVENT
BEGIN:VEVENT
DTSTART;TZID=America/Phoenix:20261024T150000
DTEND;TZID=America/Phoenix:20261024T180000
DTSTAMP:20260422T045922
CREATED:20240725T214417Z
LAST-MODIFIED:20240725T214417Z
UID:10009655-1792854000-1792864800@www.ygcc.org
SUMMARY:Happy Hour
DESCRIPTION:
URL:https://www.ygcc.org/event/happy-hour/2026-10-24/
END:VEVENT
BEGIN:VEVENT
DTSTART;TZID=America/Phoenix:20261027T150000
DTEND;TZID=America/Phoenix:20261027T180000
DTSTAMP:20260422T045922
CREATED:20240725T214417Z
LAST-MODIFIED:20240725T214417Z
UID:10009656-1793113200-1793124000@www.ygcc.org
SUMMARY:Happy Hour
DESCRIPTION:
URL:https://www.ygcc.org/event/happy-hour/2026-10-27/
END:VEVENT
BEGIN:VEVENT
DTSTART;TZID=America/Phoenix:20261028T150000
DTEND;TZID=America/Phoenix:20261028T180000
DTSTAMP:20260422T045922
CREATED:20240725T214417Z
LAST-MODIFIED:20240725T214417Z
UID:10009657-1793199600-1793210400@www.ygcc.org
SUMMARY:Happy Hour
DESCRIPTION:
URL:https://www.ygcc.org/event/happy-hour/2026-10-28/
END:VEVENT
BEGIN:VEVENT
DTSTART;TZID=America/Phoenix:20261029T150000
DTEND;TZID=America/Phoenix:20261029T180000
DTSTAMP:20260422T045922
CREATED:20240725T214417Z
LAST-MODIFIED:20240725T214417Z
UID:10009658-1793286000-1793296800@www.ygcc.org
SUMMARY:Happy Hour
DESCRIPTION:
URL:https://www.ygcc.org/event/happy-hour/2026-10-29/
END:VEVENT
BEGIN:VEVENT
DTSTART;TZID=America/Phoenix:20261030T150000
DTEND;TZID=America/Phoenix:20261030T180000
DTSTAMP:20260422T045922
CREATED:20240725T214417Z
LAST-MODIFIED:20240725T214417Z
UID:10009659-1793372400-1793383200@www.ygcc.org
SUMMARY:Happy Hour
DESCRIPTION:
URL:https://www.ygcc.org/event/happy-hour/2026-10-30/
END:VEVENT
BEGIN:VEVENT
DTSTART;TZID=America/Phoenix:20261031T150000
DTEND;TZID=America/Phoenix:20261031T180000
DTSTAMP:20260422T045922
CREATED:20240725T214417Z
LAST-MODIFIED:20240725T214417Z
UID:10009660-1793458800-1793469600@www.ygcc.org
SUMMARY:Happy Hour
DESCRIPTION:
URL:https://www.ygcc.org/event/happy-hour/2026-10-31/
END:VEVENT
BEGIN:VEVENT
DTSTART;TZID=America/Phoenix:20261103T150000
DTEND;TZID=America/Phoenix:20261103T180000
DTSTAMP:20260422T045922
CREATED:20240725T214417Z
LAST-MODIFIED:20240725T214417Z
UID:10009661-1793718000-1793728800@www.ygcc.org
SUMMARY:Happy Hour
DESCRIPTION:
URL:https://www.ygcc.org/event/happy-hour/2026-11-03/
END:VEVENT
BEGIN:VEVENT
DTSTART;TZID=America/Phoenix:20261104T150000
DTEND;TZID=America/Phoenix:20261104T180000
DTSTAMP:20260422T045922
CREATED:20240725T214417Z
LAST-MODIFIED:20240725T214417Z
UID:10009662-1793804400-1793815200@www.ygcc.org
SUMMARY:Happy Hour
DESCRIPTION:
URL:https://www.ygcc.org/event/happy-hour/2026-11-04/
END:VEVENT
BEGIN:VEVENT
DTSTART;TZID=America/Phoenix:20261105T150000
DTEND;TZID=America/Phoenix:20261105T180000
DTSTAMP:20260422T045922
CREATED:20240725T214417Z
LAST-MODIFIED:20240725T214417Z
UID:10009663-1793890800-1793901600@www.ygcc.org
SUMMARY:Happy Hour
DESCRIPTION:
URL:https://www.ygcc.org/event/happy-hour/2026-11-05/
END:VEVENT
BEGIN:VEVENT
DTSTART;TZID=America/Phoenix:20261106T150000
DTEND;TZID=America/Phoenix:20261106T180000
DTSTAMP:20260422T045922
CREATED:20240725T214417Z
LAST-MODIFIED:20240725T214417Z
UID:10009664-1793977200-1793988000@www.ygcc.org
SUMMARY:Happy Hour
DESCRIPTION:
URL:https://www.ygcc.org/event/happy-hour/2026-11-06/
END:VEVENT
BEGIN:VEVENT
DTSTART;TZID=America/Phoenix:20261107T150000
DTEND;TZID=America/Phoenix:20261107T180000
DTSTAMP:20260422T045922
CREATED:20240725T214417Z
LAST-MODIFIED:20240725T214417Z
UID:10009665-1794063600-1794074400@www.ygcc.org
SUMMARY:Happy Hour
DESCRIPTION:
URL:https://www.ygcc.org/event/happy-hour/2026-11-07/
END:VEVENT
BEGIN:VEVENT
DTSTART;TZID=America/Phoenix:20261110T150000
DTEND;TZID=America/Phoenix:20261110T180000
DTSTAMP:20260422T045922
CREATED:20240725T214417Z
LAST-MODIFIED:20240725T214417Z
UID:10009666-1794322800-1794333600@www.ygcc.org
SUMMARY:Happy Hour
DESCRIPTION:
URL:https://www.ygcc.org/event/happy-hour/2026-11-10/
END:VEVENT
BEGIN:VEVENT
DTSTART;TZID=America/Phoenix:20261111T150000
DTEND;TZID=America/Phoenix:20261111T180000
DTSTAMP:20260422T045922
CREATED:20240725T214417Z
LAST-MODIFIED:20240725T214417Z
UID:10009667-1794409200-1794420000@www.ygcc.org
SUMMARY:Happy Hour
DESCRIPTION:
URL:https://www.ygcc.org/event/happy-hour/2026-11-11/
END:VEVENT
BEGIN:VEVENT
DTSTART;TZID=America/Phoenix:20261112T150000
DTEND;TZID=America/Phoenix:20261112T180000
DTSTAMP:20260422T045922
CREATED:20240725T214417Z
LAST-MODIFIED:20240725T214417Z
UID:10009668-1794495600-1794506400@www.ygcc.org
SUMMARY:Happy Hour
DESCRIPTION:
URL:https://www.ygcc.org/event/happy-hour/2026-11-12/
END:VEVENT
BEGIN:VEVENT
DTSTART;TZID=America/Phoenix:20261113T150000
DTEND;TZID=America/Phoenix:20261113T180000
DTSTAMP:20260422T045922
CREATED:20240725T214417Z
LAST-MODIFIED:20240725T214417Z
UID:10009669-1794582000-1794592800@www.ygcc.org
SUMMARY:Happy Hour
DESCRIPTION:
URL:https://www.ygcc.org/event/happy-hour/2026-11-13/
END:VEVENT
BEGIN:VEVENT
DTSTART;TZID=America/Phoenix:20261114T150000
DTEND;TZID=America/Phoenix:20261114T180000
DTSTAMP:20260422T045922
CREATED:20240725T214417Z
LAST-MODIFIED:20240725T214417Z
UID:10009670-1794668400-1794679200@www.ygcc.org
SUMMARY:Happy Hour
DESCRIPTION:
URL:https://www.ygcc.org/event/happy-hour/2026-11-14/
END:VEVENT
BEGIN:VEVENT
DTSTART;TZID=America/Phoenix:20261117T150000
DTEND;TZID=America/Phoenix:20261117T180000
DTSTAMP:20260422T045922
CREATED:20240725T214417Z
LAST-MODIFIED:20240725T214417Z
UID:10009671-1794927600-1794938400@www.ygcc.org
SUMMARY:Happy Hour
DESCRIPTION:
URL:https://www.ygcc.org/event/happy-hour/2026-11-17/
END:VEVENT
BEGIN:VEVENT
DTSTART;TZID=America/Phoenix:20261118T150000
DTEND;TZID=America/Phoenix:20261118T180000
DTSTAMP:20260422T045922
CREATED:20240725T214417Z
LAST-MODIFIED:20240725T214417Z
UID:10009672-1795014000-1795024800@www.ygcc.org
SUMMARY:Happy Hour
DESCRIPTION:
URL:https://www.ygcc.org/event/happy-hour/2026-11-18/
END:VEVENT
BEGIN:VEVENT
DTSTART;TZID=America/Phoenix:20261119T150000
DTEND;TZID=America/Phoenix:20261119T180000
DTSTAMP:20260422T045922
CREATED:20240725T214417Z
LAST-MODIFIED:20240725T214417Z
UID:10009673-1795100400-1795111200@www.ygcc.org
SUMMARY:Happy Hour
DESCRIPTION:
URL:https://www.ygcc.org/event/happy-hour/2026-11-19/
END:VEVENT
BEGIN:VEVENT
DTSTART;TZID=America/Phoenix:20261120T150000
DTEND;TZID=America/Phoenix:20261120T180000
DTSTAMP:20260422T045922
CREATED:20240725T214417Z
LAST-MODIFIED:20240725T214417Z
UID:10009674-1795186800-1795197600@www.ygcc.org
SUMMARY:Happy Hour
DESCRIPTION:
URL:https://www.ygcc.org/event/happy-hour/2026-11-20/
END:VEVENT
BEGIN:VEVENT
DTSTART;TZID=America/Phoenix:20261121T150000
DTEND;TZID=America/Phoenix:20261121T180000
DTSTAMP:20260422T045922
CREATED:20240725T214417Z
LAST-MODIFIED:20240725T214417Z
UID:10009675-1795273200-1795284000@www.ygcc.org
SUMMARY:Happy Hour
DESCRIPTION:
URL:https://www.ygcc.org/event/happy-hour/2026-11-21/
END:VEVENT
BEGIN:VEVENT
DTSTART;TZID=America/Phoenix:20261124T150000
DTEND;TZID=America/Phoenix:20261124T180000
DTSTAMP:20260422T045922
CREATED:20240725T214417Z
LAST-MODIFIED:20240725T214417Z
UID:10009676-1795532400-1795543200@www.ygcc.org
SUMMARY:Happy Hour
DESCRIPTION:
URL:https://www.ygcc.org/event/happy-hour/2026-11-24/
END:VEVENT
BEGIN:VEVENT
DTSTART;TZID=America/Phoenix:20261125T150000
DTEND;TZID=America/Phoenix:20261125T180000
DTSTAMP:20260422T045922
CREATED:20240725T214417Z
LAST-MODIFIED:20240725T214417Z
UID:10009677-1795618800-1795629600@www.ygcc.org
SUMMARY:Happy Hour
DESCRIPTION:
URL:https://www.ygcc.org/event/happy-hour/2026-11-25/
END:VEVENT
BEGIN:VEVENT
DTSTART;TZID=America/Phoenix:20261126T150000
DTEND;TZID=America/Phoenix:20261126T180000
DTSTAMP:20260422T045922
CREATED:20240725T214417Z
LAST-MODIFIED:20240725T214417Z
UID:10009678-1795705200-1795716000@www.ygcc.org
SUMMARY:Happy Hour
DESCRIPTION:
URL:https://www.ygcc.org/event/happy-hour/2026-11-26/
END:VEVENT
BEGIN:VEVENT
DTSTART;TZID=America/Phoenix:20261127T150000
DTEND;TZID=America/Phoenix:20261127T180000
DTSTAMP:20260422T045922
CREATED:20240725T214417Z
LAST-MODIFIED:20240725T214417Z
UID:10009679-1795791600-1795802400@www.ygcc.org
SUMMARY:Happy Hour
DESCRIPTION:
URL:https://www.ygcc.org/event/happy-hour/2026-11-27/
END:VEVENT
BEGIN:VEVENT
DTSTART;TZID=America/Phoenix:20261128T150000
DTEND;TZID=America/Phoenix:20261128T180000
DTSTAMP:20260422T045922
CREATED:20240725T214417Z
LAST-MODIFIED:20240725T214417Z
UID:10009680-1795878000-1795888800@www.ygcc.org
SUMMARY:Happy Hour
DESCRIPTION:
URL:https://www.ygcc.org/event/happy-hour/2026-11-28/
END:VEVENT
BEGIN:VEVENT
DTSTART;TZID=America/Phoenix:20261201T150000
DTEND;TZID=America/Phoenix:20261201T180000
DTSTAMP:20260422T045922
CREATED:20240725T214417Z
LAST-MODIFIED:20240725T214417Z
UID:10009681-1796137200-1796148000@www.ygcc.org
SUMMARY:Happy Hour
DESCRIPTION:
URL:https://www.ygcc.org/event/happy-hour/2026-12-01/
END:VEVENT
BEGIN:VEVENT
DTSTART;TZID=America/Phoenix:20261202T150000
DTEND;TZID=America/Phoenix:20261202T180000
DTSTAMP:20260422T045922
CREATED:20240725T214417Z
LAST-MODIFIED:20240725T214417Z
UID:10009682-1796223600-1796234400@www.ygcc.org
SUMMARY:Happy Hour
DESCRIPTION:
URL:https://www.ygcc.org/event/happy-hour/2026-12-02/
END:VEVENT
BEGIN:VEVENT
DTSTART;TZID=America/Phoenix:20261203T150000
DTEND;TZID=America/Phoenix:20261203T180000
DTSTAMP:20260422T045922
CREATED:20240725T214417Z
LAST-MODIFIED:20240725T214417Z
UID:10009683-1796310000-1796320800@www.ygcc.org
SUMMARY:Happy Hour
DESCRIPTION:
URL:https://www.ygcc.org/event/happy-hour/2026-12-03/
END:VEVENT
END:VCALENDAR