BEGIN:VCALENDAR
VERSION:2.0
PRODID:-//Yuma Golf &amp; Country Club - ECPv6.15.18//NONSGML v1.0//EN
CALSCALE:GREGORIAN
METHOD:PUBLISH
X-WR-CALNAME:Yuma Golf &amp; Country Club
X-ORIGINAL-URL:https://www.ygcc.org
X-WR-CALDESC:Events for Yuma Golf &amp; Country Club
REFRESH-INTERVAL;VALUE=DURATION:PT1H
X-Robots-Tag:noindex
X-PUBLISHED-TTL:PT1H
BEGIN:VTIMEZONE
TZID:America/Phoenix
BEGIN:STANDARD
TZOFFSETFROM:-0700
TZOFFSETTO:-0700
TZNAME:MST
DTSTART:20250101T000000
END:STANDARD
END:VTIMEZONE
BEGIN:VEVENT
DTSTART;TZID=America/Phoenix:20261212T150000
DTEND;TZID=America/Phoenix:20261212T180000
DTSTAMP:20260422T114316
CREATED:20240725T214417Z
LAST-MODIFIED:20240725T214417Z
UID:10009690-1797087600-1797098400@www.ygcc.org
SUMMARY:Happy Hour
DESCRIPTION:
URL:https://www.ygcc.org/event/happy-hour/2026-12-12/
END:VEVENT
BEGIN:VEVENT
DTSTART;TZID=America/Phoenix:20261215T150000
DTEND;TZID=America/Phoenix:20261215T180000
DTSTAMP:20260422T114316
CREATED:20240725T214417Z
LAST-MODIFIED:20240725T214417Z
UID:10009691-1797346800-1797357600@www.ygcc.org
SUMMARY:Happy Hour
DESCRIPTION:
URL:https://www.ygcc.org/event/happy-hour/2026-12-15/
END:VEVENT
BEGIN:VEVENT
DTSTART;TZID=America/Phoenix:20261216T150000
DTEND;TZID=America/Phoenix:20261216T180000
DTSTAMP:20260422T114316
CREATED:20240725T214417Z
LAST-MODIFIED:20240725T214417Z
UID:10009692-1797433200-1797444000@www.ygcc.org
SUMMARY:Happy Hour
DESCRIPTION:
URL:https://www.ygcc.org/event/happy-hour/2026-12-16/
END:VEVENT
BEGIN:VEVENT
DTSTART;TZID=America/Phoenix:20261217T150000
DTEND;TZID=America/Phoenix:20261217T180000
DTSTAMP:20260422T114316
CREATED:20240725T214417Z
LAST-MODIFIED:20240725T214417Z
UID:10009693-1797519600-1797530400@www.ygcc.org
SUMMARY:Happy Hour
DESCRIPTION:
URL:https://www.ygcc.org/event/happy-hour/2026-12-17/
END:VEVENT
BEGIN:VEVENT
DTSTART;TZID=America/Phoenix:20261218T150000
DTEND;TZID=America/Phoenix:20261218T180000
DTSTAMP:20260422T114316
CREATED:20240725T214417Z
LAST-MODIFIED:20240725T214417Z
UID:10009694-1797606000-1797616800@www.ygcc.org
SUMMARY:Happy Hour
DESCRIPTION:
URL:https://www.ygcc.org/event/happy-hour/2026-12-18/
END:VEVENT
BEGIN:VEVENT
DTSTART;TZID=America/Phoenix:20261219T150000
DTEND;TZID=America/Phoenix:20261219T180000
DTSTAMP:20260422T114316
CREATED:20240725T214417Z
LAST-MODIFIED:20240725T214417Z
UID:10009695-1797692400-1797703200@www.ygcc.org
SUMMARY:Happy Hour
DESCRIPTION:
URL:https://www.ygcc.org/event/happy-hour/2026-12-19/
END:VEVENT
BEGIN:VEVENT
DTSTART;TZID=America/Phoenix:20261222T150000
DTEND;TZID=America/Phoenix:20261222T180000
DTSTAMP:20260422T114316
CREATED:20240725T214417Z
LAST-MODIFIED:20240725T214417Z
UID:10009696-1797951600-1797962400@www.ygcc.org
SUMMARY:Happy Hour
DESCRIPTION:
URL:https://www.ygcc.org/event/happy-hour/2026-12-22/
END:VEVENT
BEGIN:VEVENT
DTSTART;TZID=America/Phoenix:20261223T150000
DTEND;TZID=America/Phoenix:20261223T180000
DTSTAMP:20260422T114316
CREATED:20240725T214417Z
LAST-MODIFIED:20240725T214417Z
UID:10009697-1798038000-1798048800@www.ygcc.org
SUMMARY:Happy Hour
DESCRIPTION:
URL:https://www.ygcc.org/event/happy-hour/2026-12-23/
END:VEVENT
BEGIN:VEVENT
DTSTART;TZID=America/Phoenix:20261224T150000
DTEND;TZID=America/Phoenix:20261224T180000
DTSTAMP:20260422T114316
CREATED:20240725T214417Z
LAST-MODIFIED:20240725T214417Z
UID:10009698-1798124400-1798135200@www.ygcc.org
SUMMARY:Happy Hour
DESCRIPTION:
URL:https://www.ygcc.org/event/happy-hour/2026-12-24/
END:VEVENT
BEGIN:VEVENT
DTSTART;TZID=America/Phoenix:20261225T150000
DTEND;TZID=America/Phoenix:20261225T180000
DTSTAMP:20260422T114316
CREATED:20240725T214417Z
LAST-MODIFIED:20240725T214417Z
UID:10009699-1798210800-1798221600@www.ygcc.org
SUMMARY:Happy Hour
DESCRIPTION:
URL:https://www.ygcc.org/event/happy-hour/2026-12-25/
END:VEVENT
BEGIN:VEVENT
DTSTART;TZID=America/Phoenix:20261226T150000
DTEND;TZID=America/Phoenix:20261226T180000
DTSTAMP:20260422T114316
CREATED:20240725T214417Z
LAST-MODIFIED:20240725T214417Z
UID:10009700-1798297200-1798308000@www.ygcc.org
SUMMARY:Happy Hour
DESCRIPTION:
URL:https://www.ygcc.org/event/happy-hour/2026-12-26/
END:VEVENT
BEGIN:VEVENT
DTSTART;TZID=America/Phoenix:20261229T150000
DTEND;TZID=America/Phoenix:20261229T180000
DTSTAMP:20260422T114316
CREATED:20240725T214417Z
LAST-MODIFIED:20240725T214417Z
UID:10009701-1798556400-1798567200@www.ygcc.org
SUMMARY:Happy Hour
DESCRIPTION:
URL:https://www.ygcc.org/event/happy-hour/2026-12-29/
END:VEVENT
BEGIN:VEVENT
DTSTART;TZID=America/Phoenix:20261230T150000
DTEND;TZID=America/Phoenix:20261230T180000
DTSTAMP:20260422T114316
CREATED:20240725T214417Z
LAST-MODIFIED:20240725T214417Z
UID:10009702-1798642800-1798653600@www.ygcc.org
SUMMARY:Happy Hour
DESCRIPTION:
URL:https://www.ygcc.org/event/happy-hour/2026-12-30/
END:VEVENT
BEGIN:VEVENT
DTSTART;TZID=America/Phoenix:20261231T150000
DTEND;TZID=America/Phoenix:20261231T180000
DTSTAMP:20260422T114316
CREATED:20240725T214417Z
LAST-MODIFIED:20240725T214417Z
UID:10009703-1798729200-1798740000@www.ygcc.org
SUMMARY:Happy Hour
DESCRIPTION:
URL:https://www.ygcc.org/event/happy-hour/2026-12-31/
END:VEVENT
BEGIN:VEVENT
DTSTART;TZID=America/Phoenix:20270101T150000
DTEND;TZID=America/Phoenix:20270101T180000
DTSTAMP:20260422T114316
CREATED:20240725T214417Z
LAST-MODIFIED:20240725T214417Z
UID:10009704-1798815600-1798826400@www.ygcc.org
SUMMARY:Happy Hour
DESCRIPTION:
URL:https://www.ygcc.org/event/happy-hour/2027-01-01/
END:VEVENT
BEGIN:VEVENT
DTSTART;TZID=America/Phoenix:20270102T150000
DTEND;TZID=America/Phoenix:20270102T180000
DTSTAMP:20260422T114316
CREATED:20240725T214417Z
LAST-MODIFIED:20240725T214417Z
UID:10009705-1798902000-1798912800@www.ygcc.org
SUMMARY:Happy Hour
DESCRIPTION:
URL:https://www.ygcc.org/event/happy-hour/2027-01-02/
END:VEVENT
BEGIN:VEVENT
DTSTART;TZID=America/Phoenix:20270105T150000
DTEND;TZID=America/Phoenix:20270105T180000
DTSTAMP:20260422T114316
CREATED:20240725T214417Z
LAST-MODIFIED:20240725T214417Z
UID:10009706-1799161200-1799172000@www.ygcc.org
SUMMARY:Happy Hour
DESCRIPTION:
URL:https://www.ygcc.org/event/happy-hour/2027-01-05/
END:VEVENT
BEGIN:VEVENT
DTSTART;TZID=America/Phoenix:20270106T150000
DTEND;TZID=America/Phoenix:20270106T180000
DTSTAMP:20260422T114316
CREATED:20240725T214417Z
LAST-MODIFIED:20240725T214417Z
UID:10009707-1799247600-1799258400@www.ygcc.org
SUMMARY:Happy Hour
DESCRIPTION:
URL:https://www.ygcc.org/event/happy-hour/2027-01-06/
END:VEVENT
BEGIN:VEVENT
DTSTART;TZID=America/Phoenix:20270107T150000
DTEND;TZID=America/Phoenix:20270107T180000
DTSTAMP:20260422T114316
CREATED:20240725T214417Z
LAST-MODIFIED:20240725T214417Z
UID:10009708-1799334000-1799344800@www.ygcc.org
SUMMARY:Happy Hour
DESCRIPTION:
URL:https://www.ygcc.org/event/happy-hour/2027-01-07/
END:VEVENT
BEGIN:VEVENT
DTSTART;TZID=America/Phoenix:20270108T150000
DTEND;TZID=America/Phoenix:20270108T180000
DTSTAMP:20260422T114316
CREATED:20240725T214417Z
LAST-MODIFIED:20240725T214417Z
UID:10009709-1799420400-1799431200@www.ygcc.org
SUMMARY:Happy Hour
DESCRIPTION:
URL:https://www.ygcc.org/event/happy-hour/2027-01-08/
END:VEVENT
BEGIN:VEVENT
DTSTART;TZID=America/Phoenix:20270109T150000
DTEND;TZID=America/Phoenix:20270109T180000
DTSTAMP:20260422T114316
CREATED:20240725T214417Z
LAST-MODIFIED:20240725T214417Z
UID:10009710-1799506800-1799517600@www.ygcc.org
SUMMARY:Happy Hour
DESCRIPTION:
URL:https://www.ygcc.org/event/happy-hour/2027-01-09/
END:VEVENT
BEGIN:VEVENT
DTSTART;TZID=America/Phoenix:20270112T150000
DTEND;TZID=America/Phoenix:20270112T180000
DTSTAMP:20260422T114316
CREATED:20240725T214417Z
LAST-MODIFIED:20240725T214417Z
UID:10009711-1799766000-1799776800@www.ygcc.org
SUMMARY:Happy Hour
DESCRIPTION:
URL:https://www.ygcc.org/event/happy-hour/2027-01-12/
END:VEVENT
BEGIN:VEVENT
DTSTART;TZID=America/Phoenix:20270113T150000
DTEND;TZID=America/Phoenix:20270113T180000
DTSTAMP:20260422T114316
CREATED:20240725T214417Z
LAST-MODIFIED:20240725T214417Z
UID:10009712-1799852400-1799863200@www.ygcc.org
SUMMARY:Happy Hour
DESCRIPTION:
URL:https://www.ygcc.org/event/happy-hour/2027-01-13/
END:VEVENT
BEGIN:VEVENT
DTSTART;TZID=America/Phoenix:20270114T150000
DTEND;TZID=America/Phoenix:20270114T180000
DTSTAMP:20260422T114316
CREATED:20240725T214417Z
LAST-MODIFIED:20240725T214417Z
UID:10009713-1799938800-1799949600@www.ygcc.org
SUMMARY:Happy Hour
DESCRIPTION:
URL:https://www.ygcc.org/event/happy-hour/2027-01-14/
END:VEVENT
BEGIN:VEVENT
DTSTART;TZID=America/Phoenix:20270115T150000
DTEND;TZID=America/Phoenix:20270115T180000
DTSTAMP:20260422T114316
CREATED:20240725T214417Z
LAST-MODIFIED:20240725T214417Z
UID:10009714-1800025200-1800036000@www.ygcc.org
SUMMARY:Happy Hour
DESCRIPTION:
URL:https://www.ygcc.org/event/happy-hour/2027-01-15/
END:VEVENT
BEGIN:VEVENT
DTSTART;TZID=America/Phoenix:20270116T150000
DTEND;TZID=America/Phoenix:20270116T180000
DTSTAMP:20260422T114316
CREATED:20240725T214417Z
LAST-MODIFIED:20240725T214417Z
UID:10009715-1800111600-1800122400@www.ygcc.org
SUMMARY:Happy Hour
DESCRIPTION:
URL:https://www.ygcc.org/event/happy-hour/2027-01-16/
END:VEVENT
BEGIN:VEVENT
DTSTART;TZID=America/Phoenix:20270119T150000
DTEND;TZID=America/Phoenix:20270119T180000
DTSTAMP:20260422T114316
CREATED:20240725T214417Z
LAST-MODIFIED:20240725T214417Z
UID:10009716-1800370800-1800381600@www.ygcc.org
SUMMARY:Happy Hour
DESCRIPTION:
URL:https://www.ygcc.org/event/happy-hour/2027-01-19/
END:VEVENT
BEGIN:VEVENT
DTSTART;TZID=America/Phoenix:20270120T150000
DTEND;TZID=America/Phoenix:20270120T180000
DTSTAMP:20260422T114316
CREATED:20240725T214417Z
LAST-MODIFIED:20240725T214417Z
UID:10009717-1800457200-1800468000@www.ygcc.org
SUMMARY:Happy Hour
DESCRIPTION:
URL:https://www.ygcc.org/event/happy-hour/2027-01-20/
END:VEVENT
BEGIN:VEVENT
DTSTART;TZID=America/Phoenix:20270121T150000
DTEND;TZID=America/Phoenix:20270121T180000
DTSTAMP:20260422T114316
CREATED:20240725T214417Z
LAST-MODIFIED:20240725T214417Z
UID:10009718-1800543600-1800554400@www.ygcc.org
SUMMARY:Happy Hour
DESCRIPTION:
URL:https://www.ygcc.org/event/happy-hour/2027-01-21/
END:VEVENT
BEGIN:VEVENT
DTSTART;TZID=America/Phoenix:20270122T150000
DTEND;TZID=America/Phoenix:20270122T180000
DTSTAMP:20260422T114316
CREATED:20240725T214417Z
LAST-MODIFIED:20240725T214417Z
UID:10009719-1800630000-1800640800@www.ygcc.org
SUMMARY:Happy Hour
DESCRIPTION:
URL:https://www.ygcc.org/event/happy-hour/2027-01-22/
END:VEVENT
END:VCALENDAR