BEGIN:VCALENDAR
VERSION:2.0
PRODID:-//Yuma Golf &amp; Country Club - ECPv6.15.18//NONSGML v1.0//EN
CALSCALE:GREGORIAN
METHOD:PUBLISH
X-ORIGINAL-URL:https://www.ygcc.org
X-WR-CALDESC:Events for Yuma Golf &amp; Country Club
REFRESH-INTERVAL;VALUE=DURATION:PT1H
X-Robots-Tag:noindex
X-PUBLISHED-TTL:PT1H
BEGIN:VTIMEZONE
TZID:America/Phoenix
BEGIN:STANDARD
TZOFFSETFROM:-0700
TZOFFSETTO:-0700
TZNAME:MST
DTSTART:20260101T000000
END:STANDARD
END:VTIMEZONE
BEGIN:VEVENT
DTSTART;TZID=America/Phoenix:20270115T150000
DTEND;TZID=America/Phoenix:20270115T180000
DTSTAMP:20260422T150122
CREATED:20240725T214417Z
LAST-MODIFIED:20240725T214417Z
UID:10009714-1800025200-1800036000@www.ygcc.org
SUMMARY:Happy Hour
DESCRIPTION:
URL:https://www.ygcc.org/event/happy-hour/2027-01-15/
END:VEVENT
BEGIN:VEVENT
DTSTART;TZID=America/Phoenix:20270116T150000
DTEND;TZID=America/Phoenix:20270116T180000
DTSTAMP:20260422T150122
CREATED:20240725T214417Z
LAST-MODIFIED:20240725T214417Z
UID:10009715-1800111600-1800122400@www.ygcc.org
SUMMARY:Happy Hour
DESCRIPTION:
URL:https://www.ygcc.org/event/happy-hour/2027-01-16/
END:VEVENT
BEGIN:VEVENT
DTSTART;TZID=America/Phoenix:20270119T150000
DTEND;TZID=America/Phoenix:20270119T180000
DTSTAMP:20260422T150122
CREATED:20240725T214417Z
LAST-MODIFIED:20240725T214417Z
UID:10009716-1800370800-1800381600@www.ygcc.org
SUMMARY:Happy Hour
DESCRIPTION:
URL:https://www.ygcc.org/event/happy-hour/2027-01-19/
END:VEVENT
BEGIN:VEVENT
DTSTART;TZID=America/Phoenix:20270120T150000
DTEND;TZID=America/Phoenix:20270120T180000
DTSTAMP:20260422T150122
CREATED:20240725T214417Z
LAST-MODIFIED:20240725T214417Z
UID:10009717-1800457200-1800468000@www.ygcc.org
SUMMARY:Happy Hour
DESCRIPTION:
URL:https://www.ygcc.org/event/happy-hour/2027-01-20/
END:VEVENT
BEGIN:VEVENT
DTSTART;TZID=America/Phoenix:20270121T150000
DTEND;TZID=America/Phoenix:20270121T180000
DTSTAMP:20260422T150122
CREATED:20240725T214417Z
LAST-MODIFIED:20240725T214417Z
UID:10009718-1800543600-1800554400@www.ygcc.org
SUMMARY:Happy Hour
DESCRIPTION:
URL:https://www.ygcc.org/event/happy-hour/2027-01-21/
END:VEVENT
BEGIN:VEVENT
DTSTART;TZID=America/Phoenix:20270122T150000
DTEND;TZID=America/Phoenix:20270122T180000
DTSTAMP:20260422T150122
CREATED:20240725T214417Z
LAST-MODIFIED:20240725T214417Z
UID:10009719-1800630000-1800640800@www.ygcc.org
SUMMARY:Happy Hour
DESCRIPTION:
URL:https://www.ygcc.org/event/happy-hour/2027-01-22/
END:VEVENT
BEGIN:VEVENT
DTSTART;TZID=America/Phoenix:20270123T150000
DTEND;TZID=America/Phoenix:20270123T180000
DTSTAMP:20260422T150122
CREATED:20240725T214417Z
LAST-MODIFIED:20240725T214417Z
UID:10009720-1800716400-1800727200@www.ygcc.org
SUMMARY:Happy Hour
DESCRIPTION:
URL:https://www.ygcc.org/event/happy-hour/2027-01-23/
END:VEVENT
BEGIN:VEVENT
DTSTART;TZID=America/Phoenix:20270126T150000
DTEND;TZID=America/Phoenix:20270126T180000
DTSTAMP:20260422T150122
CREATED:20240725T214417Z
LAST-MODIFIED:20240725T214417Z
UID:10009721-1800975600-1800986400@www.ygcc.org
SUMMARY:Happy Hour
DESCRIPTION:
URL:https://www.ygcc.org/event/happy-hour/2027-01-26/
END:VEVENT
BEGIN:VEVENT
DTSTART;TZID=America/Phoenix:20270127T150000
DTEND;TZID=America/Phoenix:20270127T180000
DTSTAMP:20260422T150122
CREATED:20240725T214417Z
LAST-MODIFIED:20240725T214417Z
UID:10009722-1801062000-1801072800@www.ygcc.org
SUMMARY:Happy Hour
DESCRIPTION:
URL:https://www.ygcc.org/event/happy-hour/2027-01-27/
END:VEVENT
BEGIN:VEVENT
DTSTART;TZID=America/Phoenix:20270128T150000
DTEND;TZID=America/Phoenix:20270128T180000
DTSTAMP:20260422T150122
CREATED:20240725T214417Z
LAST-MODIFIED:20240725T214417Z
UID:10009723-1801148400-1801159200@www.ygcc.org
SUMMARY:Happy Hour
DESCRIPTION:
URL:https://www.ygcc.org/event/happy-hour/2027-01-28/
END:VEVENT
BEGIN:VEVENT
DTSTART;TZID=America/Phoenix:20270129T150000
DTEND;TZID=America/Phoenix:20270129T180000
DTSTAMP:20260422T150122
CREATED:20240725T214417Z
LAST-MODIFIED:20240725T214417Z
UID:10009724-1801234800-1801245600@www.ygcc.org
SUMMARY:Happy Hour
DESCRIPTION:
URL:https://www.ygcc.org/event/happy-hour/2027-01-29/
END:VEVENT
BEGIN:VEVENT
DTSTART;TZID=America/Phoenix:20270130T150000
DTEND;TZID=America/Phoenix:20270130T180000
DTSTAMP:20260422T150122
CREATED:20240725T214417Z
LAST-MODIFIED:20240725T214417Z
UID:10009725-1801321200-1801332000@www.ygcc.org
SUMMARY:Happy Hour
DESCRIPTION:
URL:https://www.ygcc.org/event/happy-hour/2027-01-30/
END:VEVENT
BEGIN:VEVENT
DTSTART;TZID=America/Phoenix:20270202T150000
DTEND;TZID=America/Phoenix:20270202T180000
DTSTAMP:20260422T150122
CREATED:20240725T214417Z
LAST-MODIFIED:20240725T214417Z
UID:10009726-1801580400-1801591200@www.ygcc.org
SUMMARY:Happy Hour
DESCRIPTION:
URL:https://www.ygcc.org/event/happy-hour/2027-02-02/
END:VEVENT
BEGIN:VEVENT
DTSTART;TZID=America/Phoenix:20270203T150000
DTEND;TZID=America/Phoenix:20270203T180000
DTSTAMP:20260422T150122
CREATED:20240725T214417Z
LAST-MODIFIED:20240725T214417Z
UID:10009727-1801666800-1801677600@www.ygcc.org
SUMMARY:Happy Hour
DESCRIPTION:
URL:https://www.ygcc.org/event/happy-hour/2027-02-03/
END:VEVENT
BEGIN:VEVENT
DTSTART;TZID=America/Phoenix:20270204T150000
DTEND;TZID=America/Phoenix:20270204T180000
DTSTAMP:20260422T150122
CREATED:20240725T214417Z
LAST-MODIFIED:20240725T214417Z
UID:10009728-1801753200-1801764000@www.ygcc.org
SUMMARY:Happy Hour
DESCRIPTION:
URL:https://www.ygcc.org/event/happy-hour/2027-02-04/
END:VEVENT
BEGIN:VEVENT
DTSTART;TZID=America/Phoenix:20270205T150000
DTEND;TZID=America/Phoenix:20270205T180000
DTSTAMP:20260422T150122
CREATED:20240725T214417Z
LAST-MODIFIED:20240725T214417Z
UID:10009729-1801839600-1801850400@www.ygcc.org
SUMMARY:Happy Hour
DESCRIPTION:
URL:https://www.ygcc.org/event/happy-hour/2027-02-05/
END:VEVENT
BEGIN:VEVENT
DTSTART;TZID=America/Phoenix:20270206T150000
DTEND;TZID=America/Phoenix:20270206T180000
DTSTAMP:20260422T150122
CREATED:20240725T214417Z
LAST-MODIFIED:20240725T214417Z
UID:10009730-1801926000-1801936800@www.ygcc.org
SUMMARY:Happy Hour
DESCRIPTION:
URL:https://www.ygcc.org/event/happy-hour/2027-02-06/
END:VEVENT
BEGIN:VEVENT
DTSTART;TZID=America/Phoenix:20270209T150000
DTEND;TZID=America/Phoenix:20270209T180000
DTSTAMP:20260422T150122
CREATED:20240725T214417Z
LAST-MODIFIED:20240725T214417Z
UID:10009731-1802185200-1802196000@www.ygcc.org
SUMMARY:Happy Hour
DESCRIPTION:
URL:https://www.ygcc.org/event/happy-hour/2027-02-09/
END:VEVENT
BEGIN:VEVENT
DTSTART;TZID=America/Phoenix:20270210T150000
DTEND;TZID=America/Phoenix:20270210T180000
DTSTAMP:20260422T150122
CREATED:20240725T214417Z
LAST-MODIFIED:20240725T214417Z
UID:10009732-1802271600-1802282400@www.ygcc.org
SUMMARY:Happy Hour
DESCRIPTION:
URL:https://www.ygcc.org/event/happy-hour/2027-02-10/
END:VEVENT
BEGIN:VEVENT
DTSTART;TZID=America/Phoenix:20270211T150000
DTEND;TZID=America/Phoenix:20270211T180000
DTSTAMP:20260422T150122
CREATED:20240725T214417Z
LAST-MODIFIED:20240725T214417Z
UID:10009733-1802358000-1802368800@www.ygcc.org
SUMMARY:Happy Hour
DESCRIPTION:
URL:https://www.ygcc.org/event/happy-hour/2027-02-11/
END:VEVENT
BEGIN:VEVENT
DTSTART;TZID=America/Phoenix:20270212T150000
DTEND;TZID=America/Phoenix:20270212T180000
DTSTAMP:20260422T150122
CREATED:20240725T214417Z
LAST-MODIFIED:20240725T214417Z
UID:10009734-1802444400-1802455200@www.ygcc.org
SUMMARY:Happy Hour
DESCRIPTION:
URL:https://www.ygcc.org/event/happy-hour/2027-02-12/
END:VEVENT
BEGIN:VEVENT
DTSTART;TZID=America/Phoenix:20270213T150000
DTEND;TZID=America/Phoenix:20270213T180000
DTSTAMP:20260422T150122
CREATED:20240725T214417Z
LAST-MODIFIED:20240725T214417Z
UID:10009735-1802530800-1802541600@www.ygcc.org
SUMMARY:Happy Hour
DESCRIPTION:
URL:https://www.ygcc.org/event/happy-hour/2027-02-13/
END:VEVENT
BEGIN:VEVENT
DTSTART;TZID=America/Phoenix:20270216T150000
DTEND;TZID=America/Phoenix:20270216T180000
DTSTAMP:20260422T150122
CREATED:20240725T214417Z
LAST-MODIFIED:20240725T214417Z
UID:10009736-1802790000-1802800800@www.ygcc.org
SUMMARY:Happy Hour
DESCRIPTION:
URL:https://www.ygcc.org/event/happy-hour/2027-02-16/
END:VEVENT
BEGIN:VEVENT
DTSTART;TZID=America/Phoenix:20270217T150000
DTEND;TZID=America/Phoenix:20270217T180000
DTSTAMP:20260422T150122
CREATED:20240725T214417Z
LAST-MODIFIED:20240725T214417Z
UID:10009737-1802876400-1802887200@www.ygcc.org
SUMMARY:Happy Hour
DESCRIPTION:
URL:https://www.ygcc.org/event/happy-hour/2027-02-17/
END:VEVENT
BEGIN:VEVENT
DTSTART;TZID=America/Phoenix:20270218T150000
DTEND;TZID=America/Phoenix:20270218T180000
DTSTAMP:20260422T150122
CREATED:20240725T214417Z
LAST-MODIFIED:20240725T214417Z
UID:10009738-1802962800-1802973600@www.ygcc.org
SUMMARY:Happy Hour
DESCRIPTION:
URL:https://www.ygcc.org/event/happy-hour/2027-02-18/
END:VEVENT
BEGIN:VEVENT
DTSTART;TZID=America/Phoenix:20270219T150000
DTEND;TZID=America/Phoenix:20270219T180000
DTSTAMP:20260422T150122
CREATED:20240725T214417Z
LAST-MODIFIED:20240725T214417Z
UID:10009739-1803049200-1803060000@www.ygcc.org
SUMMARY:Happy Hour
DESCRIPTION:
URL:https://www.ygcc.org/event/happy-hour/2027-02-19/
END:VEVENT
BEGIN:VEVENT
DTSTART;TZID=America/Phoenix:20270220T150000
DTEND;TZID=America/Phoenix:20270220T180000
DTSTAMP:20260422T150122
CREATED:20240725T214417Z
LAST-MODIFIED:20240725T214417Z
UID:10009740-1803135600-1803146400@www.ygcc.org
SUMMARY:Happy Hour
DESCRIPTION:
URL:https://www.ygcc.org/event/happy-hour/2027-02-20/
END:VEVENT
BEGIN:VEVENT
DTSTART;TZID=America/Phoenix:20270223T150000
DTEND;TZID=America/Phoenix:20270223T180000
DTSTAMP:20260422T150122
CREATED:20240725T214417Z
LAST-MODIFIED:20240725T214417Z
UID:10009741-1803394800-1803405600@www.ygcc.org
SUMMARY:Happy Hour
DESCRIPTION:
URL:https://www.ygcc.org/event/happy-hour/2027-02-23/
END:VEVENT
BEGIN:VEVENT
DTSTART;TZID=America/Phoenix:20270224T150000
DTEND;TZID=America/Phoenix:20270224T180000
DTSTAMP:20260422T150122
CREATED:20240725T214417Z
LAST-MODIFIED:20240725T214417Z
UID:10009742-1803481200-1803492000@www.ygcc.org
SUMMARY:Happy Hour
DESCRIPTION:
URL:https://www.ygcc.org/event/happy-hour/2027-02-24/
END:VEVENT
BEGIN:VEVENT
DTSTART;TZID=America/Phoenix:20270225T150000
DTEND;TZID=America/Phoenix:20270225T180000
DTSTAMP:20260422T150122
CREATED:20240725T214417Z
LAST-MODIFIED:20240725T214417Z
UID:10009743-1803567600-1803578400@www.ygcc.org
SUMMARY:Happy Hour
DESCRIPTION:
URL:https://www.ygcc.org/event/happy-hour/2027-02-25/
END:VEVENT
END:VCALENDAR