BEGIN:VCALENDAR
VERSION:2.0
PRODID:-//Yuma Golf &amp; Country Club - ECPv6.15.18//NONSGML v1.0//EN
CALSCALE:GREGORIAN
METHOD:PUBLISH
X-WR-CALNAME:Yuma Golf &amp; Country Club
X-ORIGINAL-URL:https://www.ygcc.org
X-WR-CALDESC:Events for Yuma Golf &amp; Country Club
REFRESH-INTERVAL;VALUE=DURATION:PT1H
X-Robots-Tag:noindex
X-PUBLISHED-TTL:PT1H
BEGIN:VTIMEZONE
TZID:America/Phoenix
BEGIN:STANDARD
TZOFFSETFROM:-0700
TZOFFSETTO:-0700
TZNAME:MST
DTSTART:20260101T000000
END:STANDARD
END:VTIMEZONE
BEGIN:VEVENT
DTSTART;TZID=America/Phoenix:20270325T150000
DTEND;TZID=America/Phoenix:20270325T180000
DTSTAMP:20260422T213630
CREATED:20240725T214417Z
LAST-MODIFIED:20240725T214417Z
UID:10009763-1805986800-1805997600@www.ygcc.org
SUMMARY:Happy Hour
DESCRIPTION:
URL:https://www.ygcc.org/event/happy-hour/2027-03-25/
END:VEVENT
BEGIN:VEVENT
DTSTART;TZID=America/Phoenix:20270326T150000
DTEND;TZID=America/Phoenix:20270326T180000
DTSTAMP:20260422T213630
CREATED:20240725T214417Z
LAST-MODIFIED:20240725T214417Z
UID:10009764-1806073200-1806084000@www.ygcc.org
SUMMARY:Happy Hour
DESCRIPTION:
URL:https://www.ygcc.org/event/happy-hour/2027-03-26/
END:VEVENT
BEGIN:VEVENT
DTSTART;TZID=America/Phoenix:20270327T150000
DTEND;TZID=America/Phoenix:20270327T180000
DTSTAMP:20260422T213630
CREATED:20240725T214417Z
LAST-MODIFIED:20240725T214417Z
UID:10009765-1806159600-1806170400@www.ygcc.org
SUMMARY:Happy Hour
DESCRIPTION:
URL:https://www.ygcc.org/event/happy-hour/2027-03-27/
END:VEVENT
BEGIN:VEVENT
DTSTART;TZID=America/Phoenix:20270330T150000
DTEND;TZID=America/Phoenix:20270330T180000
DTSTAMP:20260422T213630
CREATED:20240725T214417Z
LAST-MODIFIED:20240725T214417Z
UID:10009766-1806418800-1806429600@www.ygcc.org
SUMMARY:Happy Hour
DESCRIPTION:
URL:https://www.ygcc.org/event/happy-hour/2027-03-30/
END:VEVENT
BEGIN:VEVENT
DTSTART;TZID=America/Phoenix:20270331T150000
DTEND;TZID=America/Phoenix:20270331T180000
DTSTAMP:20260422T213630
CREATED:20240725T214417Z
LAST-MODIFIED:20240725T214417Z
UID:10009767-1806505200-1806516000@www.ygcc.org
SUMMARY:Happy Hour
DESCRIPTION:
URL:https://www.ygcc.org/event/happy-hour/2027-03-31/
END:VEVENT
BEGIN:VEVENT
DTSTART;TZID=America/Phoenix:20270401T150000
DTEND;TZID=America/Phoenix:20270401T180000
DTSTAMP:20260422T213630
CREATED:20240725T214417Z
LAST-MODIFIED:20240725T214417Z
UID:10009768-1806591600-1806602400@www.ygcc.org
SUMMARY:Happy Hour
DESCRIPTION:
URL:https://www.ygcc.org/event/happy-hour/2027-04-01/
END:VEVENT
BEGIN:VEVENT
DTSTART;TZID=America/Phoenix:20270402T150000
DTEND;TZID=America/Phoenix:20270402T180000
DTSTAMP:20260422T213630
CREATED:20240725T214417Z
LAST-MODIFIED:20240725T214417Z
UID:10009769-1806678000-1806688800@www.ygcc.org
SUMMARY:Happy Hour
DESCRIPTION:
URL:https://www.ygcc.org/event/happy-hour/2027-04-02/
END:VEVENT
BEGIN:VEVENT
DTSTART;TZID=America/Phoenix:20270403T150000
DTEND;TZID=America/Phoenix:20270403T180000
DTSTAMP:20260422T213630
CREATED:20240725T214417Z
LAST-MODIFIED:20240725T214417Z
UID:10009770-1806764400-1806775200@www.ygcc.org
SUMMARY:Happy Hour
DESCRIPTION:
URL:https://www.ygcc.org/event/happy-hour/2027-04-03/
END:VEVENT
BEGIN:VEVENT
DTSTART;TZID=America/Phoenix:20270406T150000
DTEND;TZID=America/Phoenix:20270406T180000
DTSTAMP:20260422T213630
CREATED:20240725T214417Z
LAST-MODIFIED:20240725T214417Z
UID:10009771-1807023600-1807034400@www.ygcc.org
SUMMARY:Happy Hour
DESCRIPTION:
URL:https://www.ygcc.org/event/happy-hour/2027-04-06/
END:VEVENT
BEGIN:VEVENT
DTSTART;TZID=America/Phoenix:20270407T150000
DTEND;TZID=America/Phoenix:20270407T180000
DTSTAMP:20260422T213630
CREATED:20240725T214417Z
LAST-MODIFIED:20240725T214417Z
UID:10009772-1807110000-1807120800@www.ygcc.org
SUMMARY:Happy Hour
DESCRIPTION:
URL:https://www.ygcc.org/event/happy-hour/2027-04-07/
END:VEVENT
BEGIN:VEVENT
DTSTART;TZID=America/Phoenix:20270408T150000
DTEND;TZID=America/Phoenix:20270408T180000
DTSTAMP:20260422T213630
CREATED:20240725T214417Z
LAST-MODIFIED:20240725T214417Z
UID:10009773-1807196400-1807207200@www.ygcc.org
SUMMARY:Happy Hour
DESCRIPTION:
URL:https://www.ygcc.org/event/happy-hour/2027-04-08/
END:VEVENT
BEGIN:VEVENT
DTSTART;TZID=America/Phoenix:20270409T150000
DTEND;TZID=America/Phoenix:20270409T180000
DTSTAMP:20260422T213630
CREATED:20240725T214417Z
LAST-MODIFIED:20240725T214417Z
UID:10009774-1807282800-1807293600@www.ygcc.org
SUMMARY:Happy Hour
DESCRIPTION:
URL:https://www.ygcc.org/event/happy-hour/2027-04-09/
END:VEVENT
BEGIN:VEVENT
DTSTART;TZID=America/Phoenix:20270410T150000
DTEND;TZID=America/Phoenix:20270410T180000
DTSTAMP:20260422T213630
CREATED:20240725T214417Z
LAST-MODIFIED:20240725T214417Z
UID:10009775-1807369200-1807380000@www.ygcc.org
SUMMARY:Happy Hour
DESCRIPTION:
URL:https://www.ygcc.org/event/happy-hour/2027-04-10/
END:VEVENT
BEGIN:VEVENT
DTSTART;TZID=America/Phoenix:20270413T150000
DTEND;TZID=America/Phoenix:20270413T180000
DTSTAMP:20260422T213630
CREATED:20240725T214417Z
LAST-MODIFIED:20240725T214417Z
UID:10009776-1807628400-1807639200@www.ygcc.org
SUMMARY:Happy Hour
DESCRIPTION:
URL:https://www.ygcc.org/event/happy-hour/2027-04-13/
END:VEVENT
BEGIN:VEVENT
DTSTART;TZID=America/Phoenix:20270414T150000
DTEND;TZID=America/Phoenix:20270414T180000
DTSTAMP:20260422T213630
CREATED:20240725T214417Z
LAST-MODIFIED:20240725T214417Z
UID:10009777-1807714800-1807725600@www.ygcc.org
SUMMARY:Happy Hour
DESCRIPTION:
URL:https://www.ygcc.org/event/happy-hour/2027-04-14/
END:VEVENT
BEGIN:VEVENT
DTSTART;TZID=America/Phoenix:20270415T150000
DTEND;TZID=America/Phoenix:20270415T180000
DTSTAMP:20260422T213630
CREATED:20240725T214417Z
LAST-MODIFIED:20240725T214417Z
UID:10009778-1807801200-1807812000@www.ygcc.org
SUMMARY:Happy Hour
DESCRIPTION:
URL:https://www.ygcc.org/event/happy-hour/2027-04-15/
END:VEVENT
BEGIN:VEVENT
DTSTART;TZID=America/Phoenix:20270416T150000
DTEND;TZID=America/Phoenix:20270416T180000
DTSTAMP:20260422T213630
CREATED:20240725T214417Z
LAST-MODIFIED:20240725T214417Z
UID:10009779-1807887600-1807898400@www.ygcc.org
SUMMARY:Happy Hour
DESCRIPTION:
URL:https://www.ygcc.org/event/happy-hour/2027-04-16/
END:VEVENT
BEGIN:VEVENT
DTSTART;TZID=America/Phoenix:20270417T150000
DTEND;TZID=America/Phoenix:20270417T180000
DTSTAMP:20260422T213630
CREATED:20240725T214417Z
LAST-MODIFIED:20240725T214417Z
UID:10009780-1807974000-1807984800@www.ygcc.org
SUMMARY:Happy Hour
DESCRIPTION:
URL:https://www.ygcc.org/event/happy-hour/2027-04-17/
END:VEVENT
BEGIN:VEVENT
DTSTART;TZID=America/Phoenix:20270420T150000
DTEND;TZID=America/Phoenix:20270420T180000
DTSTAMP:20260422T213630
CREATED:20240725T214417Z
LAST-MODIFIED:20240725T214417Z
UID:10009781-1808233200-1808244000@www.ygcc.org
SUMMARY:Happy Hour
DESCRIPTION:
URL:https://www.ygcc.org/event/happy-hour/2027-04-20/
END:VEVENT
BEGIN:VEVENT
DTSTART;TZID=America/Phoenix:20270421T150000
DTEND;TZID=America/Phoenix:20270421T180000
DTSTAMP:20260422T213630
CREATED:20240725T214417Z
LAST-MODIFIED:20240725T214417Z
UID:10009782-1808319600-1808330400@www.ygcc.org
SUMMARY:Happy Hour
DESCRIPTION:
URL:https://www.ygcc.org/event/happy-hour/2027-04-21/
END:VEVENT
BEGIN:VEVENT
DTSTART;TZID=America/Phoenix:20270422T150000
DTEND;TZID=America/Phoenix:20270422T180000
DTSTAMP:20260422T213630
CREATED:20240725T214417Z
LAST-MODIFIED:20240725T214417Z
UID:10009783-1808406000-1808416800@www.ygcc.org
SUMMARY:Happy Hour
DESCRIPTION:
URL:https://www.ygcc.org/event/happy-hour/2027-04-22/
END:VEVENT
BEGIN:VEVENT
DTSTART;TZID=America/Phoenix:20270423T150000
DTEND;TZID=America/Phoenix:20270423T180000
DTSTAMP:20260422T213630
CREATED:20240725T214417Z
LAST-MODIFIED:20240725T214417Z
UID:10009784-1808492400-1808503200@www.ygcc.org
SUMMARY:Happy Hour
DESCRIPTION:
URL:https://www.ygcc.org/event/happy-hour/2027-04-23/
END:VEVENT
BEGIN:VEVENT
DTSTART;TZID=America/Phoenix:20270424T150000
DTEND;TZID=America/Phoenix:20270424T180000
DTSTAMP:20260422T213630
CREATED:20240725T214417Z
LAST-MODIFIED:20240725T214417Z
UID:10009785-1808578800-1808589600@www.ygcc.org
SUMMARY:Happy Hour
DESCRIPTION:
URL:https://www.ygcc.org/event/happy-hour/2027-04-24/
END:VEVENT
BEGIN:VEVENT
DTSTART;TZID=America/Phoenix:20270427T150000
DTEND;TZID=America/Phoenix:20270427T180000
DTSTAMP:20260422T213630
CREATED:20240725T214417Z
LAST-MODIFIED:20240725T214417Z
UID:10009786-1808838000-1808848800@www.ygcc.org
SUMMARY:Happy Hour
DESCRIPTION:
URL:https://www.ygcc.org/event/happy-hour/2027-04-27/
END:VEVENT
BEGIN:VEVENT
DTSTART;TZID=America/Phoenix:20270428T150000
DTEND;TZID=America/Phoenix:20270428T180000
DTSTAMP:20260422T213630
CREATED:20240725T214417Z
LAST-MODIFIED:20240725T214417Z
UID:10009787-1808924400-1808935200@www.ygcc.org
SUMMARY:Happy Hour
DESCRIPTION:
URL:https://www.ygcc.org/event/happy-hour/2027-04-28/
END:VEVENT
BEGIN:VEVENT
DTSTART;TZID=America/Phoenix:20270429T150000
DTEND;TZID=America/Phoenix:20270429T180000
DTSTAMP:20260422T213630
CREATED:20240725T214417Z
LAST-MODIFIED:20240725T214417Z
UID:10009788-1809010800-1809021600@www.ygcc.org
SUMMARY:Happy Hour
DESCRIPTION:
URL:https://www.ygcc.org/event/happy-hour/2027-04-29/
END:VEVENT
BEGIN:VEVENT
DTSTART;TZID=America/Phoenix:20270430T150000
DTEND;TZID=America/Phoenix:20270430T180000
DTSTAMP:20260422T213630
CREATED:20240725T214417Z
LAST-MODIFIED:20240725T214417Z
UID:10009789-1809097200-1809108000@www.ygcc.org
SUMMARY:Happy Hour
DESCRIPTION:
URL:https://www.ygcc.org/event/happy-hour/2027-04-30/
END:VEVENT
BEGIN:VEVENT
DTSTART;TZID=America/Phoenix:20270501T150000
DTEND;TZID=America/Phoenix:20270501T180000
DTSTAMP:20260422T213630
CREATED:20240725T214417Z
LAST-MODIFIED:20240725T214417Z
UID:10009790-1809183600-1809194400@www.ygcc.org
SUMMARY:Happy Hour
DESCRIPTION:
URL:https://www.ygcc.org/event/happy-hour/2027-05-01/
END:VEVENT
BEGIN:VEVENT
DTSTART;TZID=America/Phoenix:20270504T150000
DTEND;TZID=America/Phoenix:20270504T180000
DTSTAMP:20260422T213630
CREATED:20240725T214417Z
LAST-MODIFIED:20240725T214417Z
UID:10009791-1809442800-1809453600@www.ygcc.org
SUMMARY:Happy Hour
DESCRIPTION:
URL:https://www.ygcc.org/event/happy-hour/2027-05-04/
END:VEVENT
BEGIN:VEVENT
DTSTART;TZID=America/Phoenix:20270505T150000
DTEND;TZID=America/Phoenix:20270505T180000
DTSTAMP:20260422T213630
CREATED:20240725T214417Z
LAST-MODIFIED:20240725T214417Z
UID:10009792-1809529200-1809540000@www.ygcc.org
SUMMARY:Happy Hour
DESCRIPTION:
URL:https://www.ygcc.org/event/happy-hour/2027-05-05/
END:VEVENT
END:VCALENDAR