BEGIN:VCALENDAR
VERSION:2.0
PRODID:-//Yuma Golf &amp; Country Club - ECPv6.15.18//NONSGML v1.0//EN
CALSCALE:GREGORIAN
METHOD:PUBLISH
X-WR-CALNAME:Yuma Golf &amp; Country Club
X-ORIGINAL-URL:https://www.ygcc.org
X-WR-CALDESC:Events for Yuma Golf &amp; Country Club
REFRESH-INTERVAL;VALUE=DURATION:PT1H
X-Robots-Tag:noindex
X-PUBLISHED-TTL:PT1H
BEGIN:VTIMEZONE
TZID:America/Phoenix
BEGIN:STANDARD
TZOFFSETFROM:-0700
TZOFFSETTO:-0700
TZNAME:MST
DTSTART:20260101T000000
END:STANDARD
END:VTIMEZONE
BEGIN:VEVENT
DTSTART;TZID=America/Phoenix:20270428T150000
DTEND;TZID=America/Phoenix:20270428T180000
DTSTAMP:20260423T003014
CREATED:20240725T214417Z
LAST-MODIFIED:20240725T214417Z
UID:10009787-1808924400-1808935200@www.ygcc.org
SUMMARY:Happy Hour
DESCRIPTION:
URL:https://www.ygcc.org/event/happy-hour/2027-04-28/
END:VEVENT
BEGIN:VEVENT
DTSTART;TZID=America/Phoenix:20270429T150000
DTEND;TZID=America/Phoenix:20270429T180000
DTSTAMP:20260423T003014
CREATED:20240725T214417Z
LAST-MODIFIED:20240725T214417Z
UID:10009788-1809010800-1809021600@www.ygcc.org
SUMMARY:Happy Hour
DESCRIPTION:
URL:https://www.ygcc.org/event/happy-hour/2027-04-29/
END:VEVENT
BEGIN:VEVENT
DTSTART;TZID=America/Phoenix:20270430T150000
DTEND;TZID=America/Phoenix:20270430T180000
DTSTAMP:20260423T003014
CREATED:20240725T214417Z
LAST-MODIFIED:20240725T214417Z
UID:10009789-1809097200-1809108000@www.ygcc.org
SUMMARY:Happy Hour
DESCRIPTION:
URL:https://www.ygcc.org/event/happy-hour/2027-04-30/
END:VEVENT
BEGIN:VEVENT
DTSTART;TZID=America/Phoenix:20270501T150000
DTEND;TZID=America/Phoenix:20270501T180000
DTSTAMP:20260423T003014
CREATED:20240725T214417Z
LAST-MODIFIED:20240725T214417Z
UID:10009790-1809183600-1809194400@www.ygcc.org
SUMMARY:Happy Hour
DESCRIPTION:
URL:https://www.ygcc.org/event/happy-hour/2027-05-01/
END:VEVENT
BEGIN:VEVENT
DTSTART;TZID=America/Phoenix:20270504T150000
DTEND;TZID=America/Phoenix:20270504T180000
DTSTAMP:20260423T003014
CREATED:20240725T214417Z
LAST-MODIFIED:20240725T214417Z
UID:10009791-1809442800-1809453600@www.ygcc.org
SUMMARY:Happy Hour
DESCRIPTION:
URL:https://www.ygcc.org/event/happy-hour/2027-05-04/
END:VEVENT
BEGIN:VEVENT
DTSTART;TZID=America/Phoenix:20270505T150000
DTEND;TZID=America/Phoenix:20270505T180000
DTSTAMP:20260423T003014
CREATED:20240725T214417Z
LAST-MODIFIED:20240725T214417Z
UID:10009792-1809529200-1809540000@www.ygcc.org
SUMMARY:Happy Hour
DESCRIPTION:
URL:https://www.ygcc.org/event/happy-hour/2027-05-05/
END:VEVENT
BEGIN:VEVENT
DTSTART;TZID=America/Phoenix:20270506T150000
DTEND;TZID=America/Phoenix:20270506T180000
DTSTAMP:20260423T003014
CREATED:20240725T214417Z
LAST-MODIFIED:20240725T214417Z
UID:10009793-1809615600-1809626400@www.ygcc.org
SUMMARY:Happy Hour
DESCRIPTION:
URL:https://www.ygcc.org/event/happy-hour/2027-05-06/
END:VEVENT
BEGIN:VEVENT
DTSTART;TZID=America/Phoenix:20270507T150000
DTEND;TZID=America/Phoenix:20270507T180000
DTSTAMP:20260423T003014
CREATED:20240725T214417Z
LAST-MODIFIED:20240725T214417Z
UID:10009794-1809702000-1809712800@www.ygcc.org
SUMMARY:Happy Hour
DESCRIPTION:
URL:https://www.ygcc.org/event/happy-hour/2027-05-07/
END:VEVENT
BEGIN:VEVENT
DTSTART;TZID=America/Phoenix:20270508T150000
DTEND;TZID=America/Phoenix:20270508T180000
DTSTAMP:20260423T003014
CREATED:20240725T214417Z
LAST-MODIFIED:20240725T214417Z
UID:10009795-1809788400-1809799200@www.ygcc.org
SUMMARY:Happy Hour
DESCRIPTION:
URL:https://www.ygcc.org/event/happy-hour/2027-05-08/
END:VEVENT
BEGIN:VEVENT
DTSTART;TZID=America/Phoenix:20270511T150000
DTEND;TZID=America/Phoenix:20270511T180000
DTSTAMP:20260423T003014
CREATED:20240725T214417Z
LAST-MODIFIED:20240725T214417Z
UID:10009796-1810047600-1810058400@www.ygcc.org
SUMMARY:Happy Hour
DESCRIPTION:
URL:https://www.ygcc.org/event/happy-hour/2027-05-11/
END:VEVENT
BEGIN:VEVENT
DTSTART;TZID=America/Phoenix:20270512T150000
DTEND;TZID=America/Phoenix:20270512T180000
DTSTAMP:20260423T003014
CREATED:20240725T214417Z
LAST-MODIFIED:20240725T214417Z
UID:10009797-1810134000-1810144800@www.ygcc.org
SUMMARY:Happy Hour
DESCRIPTION:
URL:https://www.ygcc.org/event/happy-hour/2027-05-12/
END:VEVENT
BEGIN:VEVENT
DTSTART;TZID=America/Phoenix:20270513T150000
DTEND;TZID=America/Phoenix:20270513T180000
DTSTAMP:20260423T003014
CREATED:20240725T214417Z
LAST-MODIFIED:20240725T214417Z
UID:10009798-1810220400-1810231200@www.ygcc.org
SUMMARY:Happy Hour
DESCRIPTION:
URL:https://www.ygcc.org/event/happy-hour/2027-05-13/
END:VEVENT
BEGIN:VEVENT
DTSTART;TZID=America/Phoenix:20270514T150000
DTEND;TZID=America/Phoenix:20270514T180000
DTSTAMP:20260423T003014
CREATED:20240725T214417Z
LAST-MODIFIED:20240725T214417Z
UID:10009799-1810306800-1810317600@www.ygcc.org
SUMMARY:Happy Hour
DESCRIPTION:
URL:https://www.ygcc.org/event/happy-hour/2027-05-14/
END:VEVENT
BEGIN:VEVENT
DTSTART;TZID=America/Phoenix:20270515T150000
DTEND;TZID=America/Phoenix:20270515T180000
DTSTAMP:20260423T003014
CREATED:20240725T214417Z
LAST-MODIFIED:20240725T214417Z
UID:10009800-1810393200-1810404000@www.ygcc.org
SUMMARY:Happy Hour
DESCRIPTION:
URL:https://www.ygcc.org/event/happy-hour/2027-05-15/
END:VEVENT
BEGIN:VEVENT
DTSTART;TZID=America/Phoenix:20270518T150000
DTEND;TZID=America/Phoenix:20270518T180000
DTSTAMP:20260423T003014
CREATED:20240725T214417Z
LAST-MODIFIED:20240725T214417Z
UID:10009801-1810652400-1810663200@www.ygcc.org
SUMMARY:Happy Hour
DESCRIPTION:
URL:https://www.ygcc.org/event/happy-hour/2027-05-18/
END:VEVENT
BEGIN:VEVENT
DTSTART;TZID=America/Phoenix:20270519T150000
DTEND;TZID=America/Phoenix:20270519T180000
DTSTAMP:20260423T003014
CREATED:20240725T214417Z
LAST-MODIFIED:20240725T214417Z
UID:10009802-1810738800-1810749600@www.ygcc.org
SUMMARY:Happy Hour
DESCRIPTION:
URL:https://www.ygcc.org/event/happy-hour/2027-05-19/
END:VEVENT
BEGIN:VEVENT
DTSTART;TZID=America/Phoenix:20270520T150000
DTEND;TZID=America/Phoenix:20270520T180000
DTSTAMP:20260423T003014
CREATED:20240725T214417Z
LAST-MODIFIED:20240725T214417Z
UID:10009803-1810825200-1810836000@www.ygcc.org
SUMMARY:Happy Hour
DESCRIPTION:
URL:https://www.ygcc.org/event/happy-hour/2027-05-20/
END:VEVENT
BEGIN:VEVENT
DTSTART;TZID=America/Phoenix:20270521T150000
DTEND;TZID=America/Phoenix:20270521T180000
DTSTAMP:20260423T003014
CREATED:20240725T214417Z
LAST-MODIFIED:20240725T214417Z
UID:10009804-1810911600-1810922400@www.ygcc.org
SUMMARY:Happy Hour
DESCRIPTION:
URL:https://www.ygcc.org/event/happy-hour/2027-05-21/
END:VEVENT
BEGIN:VEVENT
DTSTART;TZID=America/Phoenix:20270522T150000
DTEND;TZID=America/Phoenix:20270522T180000
DTSTAMP:20260423T003014
CREATED:20240725T214417Z
LAST-MODIFIED:20240725T214417Z
UID:10009805-1810998000-1811008800@www.ygcc.org
SUMMARY:Happy Hour
DESCRIPTION:
URL:https://www.ygcc.org/event/happy-hour/2027-05-22/
END:VEVENT
BEGIN:VEVENT
DTSTART;TZID=America/Phoenix:20270525T150000
DTEND;TZID=America/Phoenix:20270525T180000
DTSTAMP:20260423T003014
CREATED:20240725T214417Z
LAST-MODIFIED:20240725T214417Z
UID:10009806-1811257200-1811268000@www.ygcc.org
SUMMARY:Happy Hour
DESCRIPTION:
URL:https://www.ygcc.org/event/happy-hour/2027-05-25/
END:VEVENT
BEGIN:VEVENT
DTSTART;TZID=America/Phoenix:20270526T150000
DTEND;TZID=America/Phoenix:20270526T180000
DTSTAMP:20260423T003014
CREATED:20240725T214417Z
LAST-MODIFIED:20240725T214417Z
UID:10009807-1811343600-1811354400@www.ygcc.org
SUMMARY:Happy Hour
DESCRIPTION:
URL:https://www.ygcc.org/event/happy-hour/2027-05-26/
END:VEVENT
BEGIN:VEVENT
DTSTART;TZID=America/Phoenix:20270527T150000
DTEND;TZID=America/Phoenix:20270527T180000
DTSTAMP:20260423T003014
CREATED:20240725T214417Z
LAST-MODIFIED:20240725T214417Z
UID:10009808-1811430000-1811440800@www.ygcc.org
SUMMARY:Happy Hour
DESCRIPTION:
URL:https://www.ygcc.org/event/happy-hour/2027-05-27/
END:VEVENT
BEGIN:VEVENT
DTSTART;TZID=America/Phoenix:20270528T150000
DTEND;TZID=America/Phoenix:20270528T180000
DTSTAMP:20260423T003014
CREATED:20240725T214417Z
LAST-MODIFIED:20240725T214417Z
UID:10009809-1811516400-1811527200@www.ygcc.org
SUMMARY:Happy Hour
DESCRIPTION:
URL:https://www.ygcc.org/event/happy-hour/2027-05-28/
END:VEVENT
BEGIN:VEVENT
DTSTART;TZID=America/Phoenix:20270529T150000
DTEND;TZID=America/Phoenix:20270529T180000
DTSTAMP:20260423T003014
CREATED:20240725T214417Z
LAST-MODIFIED:20240725T214417Z
UID:10009810-1811602800-1811613600@www.ygcc.org
SUMMARY:Happy Hour
DESCRIPTION:
URL:https://www.ygcc.org/event/happy-hour/2027-05-29/
END:VEVENT
BEGIN:VEVENT
DTSTART;TZID=America/Phoenix:20270601T150000
DTEND;TZID=America/Phoenix:20270601T180000
DTSTAMP:20260423T003014
CREATED:20240725T214417Z
LAST-MODIFIED:20240725T214417Z
UID:10009811-1811862000-1811872800@www.ygcc.org
SUMMARY:Happy Hour
DESCRIPTION:
URL:https://www.ygcc.org/event/happy-hour/2027-06-01/
END:VEVENT
BEGIN:VEVENT
DTSTART;TZID=America/Phoenix:20270602T150000
DTEND;TZID=America/Phoenix:20270602T180000
DTSTAMP:20260423T003014
CREATED:20240725T214417Z
LAST-MODIFIED:20240725T214417Z
UID:10009812-1811948400-1811959200@www.ygcc.org
SUMMARY:Happy Hour
DESCRIPTION:
URL:https://www.ygcc.org/event/happy-hour/2027-06-02/
END:VEVENT
BEGIN:VEVENT
DTSTART;TZID=America/Phoenix:20270603T150000
DTEND;TZID=America/Phoenix:20270603T180000
DTSTAMP:20260423T003014
CREATED:20240725T214417Z
LAST-MODIFIED:20240725T214417Z
UID:10009813-1812034800-1812045600@www.ygcc.org
SUMMARY:Happy Hour
DESCRIPTION:
URL:https://www.ygcc.org/event/happy-hour/2027-06-03/
END:VEVENT
BEGIN:VEVENT
DTSTART;TZID=America/Phoenix:20270604T150000
DTEND;TZID=America/Phoenix:20270604T180000
DTSTAMP:20260423T003014
CREATED:20240725T214417Z
LAST-MODIFIED:20240725T214417Z
UID:10009814-1812121200-1812132000@www.ygcc.org
SUMMARY:Happy Hour
DESCRIPTION:
URL:https://www.ygcc.org/event/happy-hour/2027-06-04/
END:VEVENT
BEGIN:VEVENT
DTSTART;TZID=America/Phoenix:20270605T150000
DTEND;TZID=America/Phoenix:20270605T180000
DTSTAMP:20260423T003014
CREATED:20240725T214417Z
LAST-MODIFIED:20240725T214417Z
UID:10009815-1812207600-1812218400@www.ygcc.org
SUMMARY:Happy Hour
DESCRIPTION:
URL:https://www.ygcc.org/event/happy-hour/2027-06-05/
END:VEVENT
BEGIN:VEVENT
DTSTART;TZID=America/Phoenix:20270608T150000
DTEND;TZID=America/Phoenix:20270608T180000
DTSTAMP:20260423T003014
CREATED:20240725T214417Z
LAST-MODIFIED:20240725T214417Z
UID:10009816-1812466800-1812477600@www.ygcc.org
SUMMARY:Happy Hour
DESCRIPTION:
URL:https://www.ygcc.org/event/happy-hour/2027-06-08/
END:VEVENT
END:VCALENDAR