BEGIN:VCALENDAR
VERSION:2.0
PRODID:-//Yuma Golf &amp; Country Club - ECPv6.15.18//NONSGML v1.0//EN
CALSCALE:GREGORIAN
METHOD:PUBLISH
X-WR-CALNAME:Yuma Golf &amp; Country Club
X-ORIGINAL-URL:https://www.ygcc.org
X-WR-CALDESC:Events for Yuma Golf &amp; Country Club
REFRESH-INTERVAL;VALUE=DURATION:PT1H
X-Robots-Tag:noindex
X-PUBLISHED-TTL:PT1H
BEGIN:VTIMEZONE
TZID:America/Phoenix
BEGIN:STANDARD
TZOFFSETFROM:-0700
TZOFFSETTO:-0700
TZNAME:MST
DTSTART:20260101T000000
END:STANDARD
END:VTIMEZONE
BEGIN:VEVENT
DTSTART;TZID=America/Phoenix:20270723T150000
DTEND;TZID=America/Phoenix:20270723T180000
DTSTAMP:20260425T070339
CREATED:20240725T214417Z
LAST-MODIFIED:20240725T214417Z
UID:10009849-1816354800-1816365600@www.ygcc.org
SUMMARY:Happy Hour
DESCRIPTION:
URL:https://www.ygcc.org/event/happy-hour/2027-07-23/
END:VEVENT
BEGIN:VEVENT
DTSTART;TZID=America/Phoenix:20270724T150000
DTEND;TZID=America/Phoenix:20270724T180000
DTSTAMP:20260425T070339
CREATED:20240725T214417Z
LAST-MODIFIED:20240725T214417Z
UID:10009850-1816441200-1816452000@www.ygcc.org
SUMMARY:Happy Hour
DESCRIPTION:
URL:https://www.ygcc.org/event/happy-hour/2027-07-24/
END:VEVENT
BEGIN:VEVENT
DTSTART;TZID=America/Phoenix:20270727T150000
DTEND;TZID=America/Phoenix:20270727T180000
DTSTAMP:20260425T070339
CREATED:20240725T214417Z
LAST-MODIFIED:20240725T214417Z
UID:10009851-1816700400-1816711200@www.ygcc.org
SUMMARY:Happy Hour
DESCRIPTION:
URL:https://www.ygcc.org/event/happy-hour/2027-07-27/
END:VEVENT
BEGIN:VEVENT
DTSTART;TZID=America/Phoenix:20270728T150000
DTEND;TZID=America/Phoenix:20270728T180000
DTSTAMP:20260425T070339
CREATED:20240725T214417Z
LAST-MODIFIED:20240725T214417Z
UID:10009852-1816786800-1816797600@www.ygcc.org
SUMMARY:Happy Hour
DESCRIPTION:
URL:https://www.ygcc.org/event/happy-hour/2027-07-28/
END:VEVENT
BEGIN:VEVENT
DTSTART;TZID=America/Phoenix:20270729T150000
DTEND;TZID=America/Phoenix:20270729T180000
DTSTAMP:20260425T070339
CREATED:20240725T214417Z
LAST-MODIFIED:20240725T214417Z
UID:10009853-1816873200-1816884000@www.ygcc.org
SUMMARY:Happy Hour
DESCRIPTION:
URL:https://www.ygcc.org/event/happy-hour/2027-07-29/
END:VEVENT
BEGIN:VEVENT
DTSTART;TZID=America/Phoenix:20270730T150000
DTEND;TZID=America/Phoenix:20270730T180000
DTSTAMP:20260425T070339
CREATED:20240725T214417Z
LAST-MODIFIED:20240725T214417Z
UID:10009854-1816959600-1816970400@www.ygcc.org
SUMMARY:Happy Hour
DESCRIPTION:
URL:https://www.ygcc.org/event/happy-hour/2027-07-30/
END:VEVENT
BEGIN:VEVENT
DTSTART;TZID=America/Phoenix:20270731T150000
DTEND;TZID=America/Phoenix:20270731T180000
DTSTAMP:20260425T070339
CREATED:20240725T214417Z
LAST-MODIFIED:20240725T214417Z
UID:10009855-1817046000-1817056800@www.ygcc.org
SUMMARY:Happy Hour
DESCRIPTION:
URL:https://www.ygcc.org/event/happy-hour/2027-07-31/
END:VEVENT
BEGIN:VEVENT
DTSTART;TZID=America/Phoenix:20270803T150000
DTEND;TZID=America/Phoenix:20270803T180000
DTSTAMP:20260425T070339
CREATED:20240725T214417Z
LAST-MODIFIED:20240725T214417Z
UID:10009856-1817305200-1817316000@www.ygcc.org
SUMMARY:Happy Hour
DESCRIPTION:
URL:https://www.ygcc.org/event/happy-hour/2027-08-03/
END:VEVENT
BEGIN:VEVENT
DTSTART;TZID=America/Phoenix:20270804T150000
DTEND;TZID=America/Phoenix:20270804T180000
DTSTAMP:20260425T070339
CREATED:20240725T214417Z
LAST-MODIFIED:20240725T214417Z
UID:10009857-1817391600-1817402400@www.ygcc.org
SUMMARY:Happy Hour
DESCRIPTION:
URL:https://www.ygcc.org/event/happy-hour/2027-08-04/
END:VEVENT
BEGIN:VEVENT
DTSTART;TZID=America/Phoenix:20270805T150000
DTEND;TZID=America/Phoenix:20270805T180000
DTSTAMP:20260425T070339
CREATED:20240725T214417Z
LAST-MODIFIED:20240725T214417Z
UID:10009858-1817478000-1817488800@www.ygcc.org
SUMMARY:Happy Hour
DESCRIPTION:
URL:https://www.ygcc.org/event/happy-hour/2027-08-05/
END:VEVENT
BEGIN:VEVENT
DTSTART;TZID=America/Phoenix:20270806T150000
DTEND;TZID=America/Phoenix:20270806T180000
DTSTAMP:20260425T070339
CREATED:20240725T214417Z
LAST-MODIFIED:20240725T214417Z
UID:10009859-1817564400-1817575200@www.ygcc.org
SUMMARY:Happy Hour
DESCRIPTION:
URL:https://www.ygcc.org/event/happy-hour/2027-08-06/
END:VEVENT
BEGIN:VEVENT
DTSTART;TZID=America/Phoenix:20270807T150000
DTEND;TZID=America/Phoenix:20270807T180000
DTSTAMP:20260425T070339
CREATED:20240725T214417Z
LAST-MODIFIED:20240725T214417Z
UID:10009860-1817650800-1817661600@www.ygcc.org
SUMMARY:Happy Hour
DESCRIPTION:
URL:https://www.ygcc.org/event/happy-hour/2027-08-07/
END:VEVENT
BEGIN:VEVENT
DTSTART;TZID=America/Phoenix:20270810T150000
DTEND;TZID=America/Phoenix:20270810T180000
DTSTAMP:20260425T070339
CREATED:20240725T214417Z
LAST-MODIFIED:20240725T214417Z
UID:10009861-1817910000-1817920800@www.ygcc.org
SUMMARY:Happy Hour
DESCRIPTION:
URL:https://www.ygcc.org/event/happy-hour/2027-08-10/
END:VEVENT
BEGIN:VEVENT
DTSTART;TZID=America/Phoenix:20270811T150000
DTEND;TZID=America/Phoenix:20270811T180000
DTSTAMP:20260425T070339
CREATED:20240725T214417Z
LAST-MODIFIED:20240725T214417Z
UID:10009862-1817996400-1818007200@www.ygcc.org
SUMMARY:Happy Hour
DESCRIPTION:
URL:https://www.ygcc.org/event/happy-hour/2027-08-11/
END:VEVENT
BEGIN:VEVENT
DTSTART;TZID=America/Phoenix:20270812T150000
DTEND;TZID=America/Phoenix:20270812T180000
DTSTAMP:20260425T070339
CREATED:20240725T214417Z
LAST-MODIFIED:20240725T214417Z
UID:10009863-1818082800-1818093600@www.ygcc.org
SUMMARY:Happy Hour
DESCRIPTION:
URL:https://www.ygcc.org/event/happy-hour/2027-08-12/
END:VEVENT
BEGIN:VEVENT
DTSTART;TZID=America/Phoenix:20270813T150000
DTEND;TZID=America/Phoenix:20270813T180000
DTSTAMP:20260425T070339
CREATED:20240725T214417Z
LAST-MODIFIED:20240725T214417Z
UID:10009864-1818169200-1818180000@www.ygcc.org
SUMMARY:Happy Hour
DESCRIPTION:
URL:https://www.ygcc.org/event/happy-hour/2027-08-13/
END:VEVENT
BEGIN:VEVENT
DTSTART;TZID=America/Phoenix:20270814T150000
DTEND;TZID=America/Phoenix:20270814T180000
DTSTAMP:20260425T070339
CREATED:20240725T214417Z
LAST-MODIFIED:20240725T214417Z
UID:10009865-1818255600-1818266400@www.ygcc.org
SUMMARY:Happy Hour
DESCRIPTION:
URL:https://www.ygcc.org/event/happy-hour/2027-08-14/
END:VEVENT
BEGIN:VEVENT
DTSTART;TZID=America/Phoenix:20270817T150000
DTEND;TZID=America/Phoenix:20270817T180000
DTSTAMP:20260425T070339
CREATED:20240725T214417Z
LAST-MODIFIED:20240725T214417Z
UID:10009866-1818514800-1818525600@www.ygcc.org
SUMMARY:Happy Hour
DESCRIPTION:
URL:https://www.ygcc.org/event/happy-hour/2027-08-17/
END:VEVENT
BEGIN:VEVENT
DTSTART;TZID=America/Phoenix:20270818T150000
DTEND;TZID=America/Phoenix:20270818T180000
DTSTAMP:20260425T070339
CREATED:20240725T214417Z
LAST-MODIFIED:20240725T214417Z
UID:10009867-1818601200-1818612000@www.ygcc.org
SUMMARY:Happy Hour
DESCRIPTION:
URL:https://www.ygcc.org/event/happy-hour/2027-08-18/
END:VEVENT
BEGIN:VEVENT
DTSTART;TZID=America/Phoenix:20270819T150000
DTEND;TZID=America/Phoenix:20270819T180000
DTSTAMP:20260425T070339
CREATED:20240725T214417Z
LAST-MODIFIED:20240725T214417Z
UID:10009868-1818687600-1818698400@www.ygcc.org
SUMMARY:Happy Hour
DESCRIPTION:
URL:https://www.ygcc.org/event/happy-hour/2027-08-19/
END:VEVENT
BEGIN:VEVENT
DTSTART;TZID=America/Phoenix:20270820T150000
DTEND;TZID=America/Phoenix:20270820T180000
DTSTAMP:20260425T070339
CREATED:20240725T214417Z
LAST-MODIFIED:20240725T214417Z
UID:10009869-1818774000-1818784800@www.ygcc.org
SUMMARY:Happy Hour
DESCRIPTION:
URL:https://www.ygcc.org/event/happy-hour/2027-08-20/
END:VEVENT
BEGIN:VEVENT
DTSTART;TZID=America/Phoenix:20270821T150000
DTEND;TZID=America/Phoenix:20270821T180000
DTSTAMP:20260425T070339
CREATED:20240725T214417Z
LAST-MODIFIED:20240725T214417Z
UID:10009870-1818860400-1818871200@www.ygcc.org
SUMMARY:Happy Hour
DESCRIPTION:
URL:https://www.ygcc.org/event/happy-hour/2027-08-21/
END:VEVENT
BEGIN:VEVENT
DTSTART;TZID=America/Phoenix:20270824T150000
DTEND;TZID=America/Phoenix:20270824T180000
DTSTAMP:20260425T070339
CREATED:20240725T214417Z
LAST-MODIFIED:20240725T214417Z
UID:10009871-1819119600-1819130400@www.ygcc.org
SUMMARY:Happy Hour
DESCRIPTION:
URL:https://www.ygcc.org/event/happy-hour/2027-08-24/
END:VEVENT
BEGIN:VEVENT
DTSTART;TZID=America/Phoenix:20270825T150000
DTEND;TZID=America/Phoenix:20270825T180000
DTSTAMP:20260425T070339
CREATED:20240725T214417Z
LAST-MODIFIED:20240725T214417Z
UID:10009872-1819206000-1819216800@www.ygcc.org
SUMMARY:Happy Hour
DESCRIPTION:
URL:https://www.ygcc.org/event/happy-hour/2027-08-25/
END:VEVENT
BEGIN:VEVENT
DTSTART;TZID=America/Phoenix:20270826T150000
DTEND;TZID=America/Phoenix:20270826T180000
DTSTAMP:20260425T070339
CREATED:20240725T214417Z
LAST-MODIFIED:20240725T214417Z
UID:10009873-1819292400-1819303200@www.ygcc.org
SUMMARY:Happy Hour
DESCRIPTION:
URL:https://www.ygcc.org/event/happy-hour/2027-08-26/
END:VEVENT
BEGIN:VEVENT
DTSTART;TZID=America/Phoenix:20270827T150000
DTEND;TZID=America/Phoenix:20270827T180000
DTSTAMP:20260425T070339
CREATED:20240725T214417Z
LAST-MODIFIED:20240725T214417Z
UID:10009874-1819378800-1819389600@www.ygcc.org
SUMMARY:Happy Hour
DESCRIPTION:
URL:https://www.ygcc.org/event/happy-hour/2027-08-27/
END:VEVENT
BEGIN:VEVENT
DTSTART;TZID=America/Phoenix:20270828T150000
DTEND;TZID=America/Phoenix:20270828T180000
DTSTAMP:20260425T070339
CREATED:20240725T214417Z
LAST-MODIFIED:20240725T214417Z
UID:10009875-1819465200-1819476000@www.ygcc.org
SUMMARY:Happy Hour
DESCRIPTION:
URL:https://www.ygcc.org/event/happy-hour/2027-08-28/
END:VEVENT
BEGIN:VEVENT
DTSTART;TZID=America/Phoenix:20270831T150000
DTEND;TZID=America/Phoenix:20270831T180000
DTSTAMP:20260425T070339
CREATED:20240725T214417Z
LAST-MODIFIED:20240725T214417Z
UID:10009876-1819724400-1819735200@www.ygcc.org
SUMMARY:Happy Hour
DESCRIPTION:
URL:https://www.ygcc.org/event/happy-hour/2027-08-31/
END:VEVENT
BEGIN:VEVENT
DTSTART;TZID=America/Phoenix:20270901T150000
DTEND;TZID=America/Phoenix:20270901T180000
DTSTAMP:20260425T070339
CREATED:20240725T214417Z
LAST-MODIFIED:20240725T214417Z
UID:10009877-1819810800-1819821600@www.ygcc.org
SUMMARY:Happy Hour
DESCRIPTION:
URL:https://www.ygcc.org/event/happy-hour/2027-09-01/
END:VEVENT
BEGIN:VEVENT
DTSTART;TZID=America/Phoenix:20270902T150000
DTEND;TZID=America/Phoenix:20270902T180000
DTSTAMP:20260425T070339
CREATED:20240725T214417Z
LAST-MODIFIED:20240725T214417Z
UID:10009878-1819897200-1819908000@www.ygcc.org
SUMMARY:Happy Hour
DESCRIPTION:
URL:https://www.ygcc.org/event/happy-hour/2027-09-02/
END:VEVENT
END:VCALENDAR