BEGIN:VCALENDAR
VERSION:2.0
PRODID:-//Yuma Golf &amp; Country Club - ECPv6.15.18//NONSGML v1.0//EN
CALSCALE:GREGORIAN
METHOD:PUBLISH
X-WR-CALNAME:Yuma Golf &amp; Country Club
X-ORIGINAL-URL:https://www.ygcc.org
X-WR-CALDESC:Events for Yuma Golf &amp; Country Club
REFRESH-INTERVAL;VALUE=DURATION:PT1H
X-Robots-Tag:noindex
X-PUBLISHED-TTL:PT1H
BEGIN:VTIMEZONE
TZID:America/Phoenix
BEGIN:STANDARD
TZOFFSETFROM:-0700
TZOFFSETTO:-0700
TZNAME:MST
DTSTART:20260101T000000
END:STANDARD
END:VTIMEZONE
BEGIN:VEVENT
DTSTART;TZID=America/Phoenix:20270826T150000
DTEND;TZID=America/Phoenix:20270826T180000
DTSTAMP:20260425T101431
CREATED:20240725T214417Z
LAST-MODIFIED:20240725T214417Z
UID:10009873-1819292400-1819303200@www.ygcc.org
SUMMARY:Happy Hour
DESCRIPTION:
URL:https://www.ygcc.org/event/happy-hour/2027-08-26/
END:VEVENT
BEGIN:VEVENT
DTSTART;TZID=America/Phoenix:20270827T150000
DTEND;TZID=America/Phoenix:20270827T180000
DTSTAMP:20260425T101431
CREATED:20240725T214417Z
LAST-MODIFIED:20240725T214417Z
UID:10009874-1819378800-1819389600@www.ygcc.org
SUMMARY:Happy Hour
DESCRIPTION:
URL:https://www.ygcc.org/event/happy-hour/2027-08-27/
END:VEVENT
BEGIN:VEVENT
DTSTART;TZID=America/Phoenix:20270828T150000
DTEND;TZID=America/Phoenix:20270828T180000
DTSTAMP:20260425T101431
CREATED:20240725T214417Z
LAST-MODIFIED:20240725T214417Z
UID:10009875-1819465200-1819476000@www.ygcc.org
SUMMARY:Happy Hour
DESCRIPTION:
URL:https://www.ygcc.org/event/happy-hour/2027-08-28/
END:VEVENT
BEGIN:VEVENT
DTSTART;TZID=America/Phoenix:20270831T150000
DTEND;TZID=America/Phoenix:20270831T180000
DTSTAMP:20260425T101431
CREATED:20240725T214417Z
LAST-MODIFIED:20240725T214417Z
UID:10009876-1819724400-1819735200@www.ygcc.org
SUMMARY:Happy Hour
DESCRIPTION:
URL:https://www.ygcc.org/event/happy-hour/2027-08-31/
END:VEVENT
BEGIN:VEVENT
DTSTART;TZID=America/Phoenix:20270901T150000
DTEND;TZID=America/Phoenix:20270901T180000
DTSTAMP:20260425T101431
CREATED:20240725T214417Z
LAST-MODIFIED:20240725T214417Z
UID:10009877-1819810800-1819821600@www.ygcc.org
SUMMARY:Happy Hour
DESCRIPTION:
URL:https://www.ygcc.org/event/happy-hour/2027-09-01/
END:VEVENT
BEGIN:VEVENT
DTSTART;TZID=America/Phoenix:20270902T150000
DTEND;TZID=America/Phoenix:20270902T180000
DTSTAMP:20260425T101431
CREATED:20240725T214417Z
LAST-MODIFIED:20240725T214417Z
UID:10009878-1819897200-1819908000@www.ygcc.org
SUMMARY:Happy Hour
DESCRIPTION:
URL:https://www.ygcc.org/event/happy-hour/2027-09-02/
END:VEVENT
BEGIN:VEVENT
DTSTART;TZID=America/Phoenix:20270903T150000
DTEND;TZID=America/Phoenix:20270903T180000
DTSTAMP:20260425T101431
CREATED:20240725T214417Z
LAST-MODIFIED:20240725T214417Z
UID:10009879-1819983600-1819994400@www.ygcc.org
SUMMARY:Happy Hour
DESCRIPTION:
URL:https://www.ygcc.org/event/happy-hour/2027-09-03/
END:VEVENT
BEGIN:VEVENT
DTSTART;TZID=America/Phoenix:20270904T150000
DTEND;TZID=America/Phoenix:20270904T180000
DTSTAMP:20260425T101431
CREATED:20240725T214417Z
LAST-MODIFIED:20240725T214417Z
UID:10009880-1820070000-1820080800@www.ygcc.org
SUMMARY:Happy Hour
DESCRIPTION:
URL:https://www.ygcc.org/event/happy-hour/2027-09-04/
END:VEVENT
BEGIN:VEVENT
DTSTART;TZID=America/Phoenix:20270907T150000
DTEND;TZID=America/Phoenix:20270907T180000
DTSTAMP:20260425T101431
CREATED:20240725T214417Z
LAST-MODIFIED:20240725T214417Z
UID:10009881-1820329200-1820340000@www.ygcc.org
SUMMARY:Happy Hour
DESCRIPTION:
URL:https://www.ygcc.org/event/happy-hour/2027-09-07/
END:VEVENT
BEGIN:VEVENT
DTSTART;TZID=America/Phoenix:20270908T150000
DTEND;TZID=America/Phoenix:20270908T180000
DTSTAMP:20260425T101431
CREATED:20240725T214417Z
LAST-MODIFIED:20240725T214417Z
UID:10009882-1820415600-1820426400@www.ygcc.org
SUMMARY:Happy Hour
DESCRIPTION:
URL:https://www.ygcc.org/event/happy-hour/2027-09-08/
END:VEVENT
BEGIN:VEVENT
DTSTART;TZID=America/Phoenix:20270909T150000
DTEND;TZID=America/Phoenix:20270909T180000
DTSTAMP:20260425T101431
CREATED:20240725T214417Z
LAST-MODIFIED:20240725T214417Z
UID:10009883-1820502000-1820512800@www.ygcc.org
SUMMARY:Happy Hour
DESCRIPTION:
URL:https://www.ygcc.org/event/happy-hour/2027-09-09/
END:VEVENT
BEGIN:VEVENT
DTSTART;TZID=America/Phoenix:20270910T150000
DTEND;TZID=America/Phoenix:20270910T180000
DTSTAMP:20260425T101431
CREATED:20240725T214417Z
LAST-MODIFIED:20240725T214417Z
UID:10009884-1820588400-1820599200@www.ygcc.org
SUMMARY:Happy Hour
DESCRIPTION:
URL:https://www.ygcc.org/event/happy-hour/2027-09-10/
END:VEVENT
BEGIN:VEVENT
DTSTART;TZID=America/Phoenix:20270911T150000
DTEND;TZID=America/Phoenix:20270911T180000
DTSTAMP:20260425T101431
CREATED:20240725T214417Z
LAST-MODIFIED:20240725T214417Z
UID:10009885-1820674800-1820685600@www.ygcc.org
SUMMARY:Happy Hour
DESCRIPTION:
URL:https://www.ygcc.org/event/happy-hour/2027-09-11/
END:VEVENT
BEGIN:VEVENT
DTSTART;TZID=America/Phoenix:20270914T150000
DTEND;TZID=America/Phoenix:20270914T180000
DTSTAMP:20260425T101431
CREATED:20240725T214417Z
LAST-MODIFIED:20240725T214417Z
UID:10009886-1820934000-1820944800@www.ygcc.org
SUMMARY:Happy Hour
DESCRIPTION:
URL:https://www.ygcc.org/event/happy-hour/2027-09-14/
END:VEVENT
BEGIN:VEVENT
DTSTART;TZID=America/Phoenix:20270915T150000
DTEND;TZID=America/Phoenix:20270915T180000
DTSTAMP:20260425T101431
CREATED:20240725T214417Z
LAST-MODIFIED:20240725T214417Z
UID:10009887-1821020400-1821031200@www.ygcc.org
SUMMARY:Happy Hour
DESCRIPTION:
URL:https://www.ygcc.org/event/happy-hour/2027-09-15/
END:VEVENT
BEGIN:VEVENT
DTSTART;TZID=America/Phoenix:20270916T150000
DTEND;TZID=America/Phoenix:20270916T180000
DTSTAMP:20260425T101431
CREATED:20240725T214417Z
LAST-MODIFIED:20240725T214417Z
UID:10009888-1821106800-1821117600@www.ygcc.org
SUMMARY:Happy Hour
DESCRIPTION:
URL:https://www.ygcc.org/event/happy-hour/2027-09-16/
END:VEVENT
BEGIN:VEVENT
DTSTART;TZID=America/Phoenix:20270917T150000
DTEND;TZID=America/Phoenix:20270917T180000
DTSTAMP:20260425T101431
CREATED:20240725T214417Z
LAST-MODIFIED:20240725T214417Z
UID:10009889-1821193200-1821204000@www.ygcc.org
SUMMARY:Happy Hour
DESCRIPTION:
URL:https://www.ygcc.org/event/happy-hour/2027-09-17/
END:VEVENT
BEGIN:VEVENT
DTSTART;TZID=America/Phoenix:20270918T150000
DTEND;TZID=America/Phoenix:20270918T180000
DTSTAMP:20260425T101431
CREATED:20240725T214417Z
LAST-MODIFIED:20240725T214417Z
UID:10009890-1821279600-1821290400@www.ygcc.org
SUMMARY:Happy Hour
DESCRIPTION:
URL:https://www.ygcc.org/event/happy-hour/2027-09-18/
END:VEVENT
BEGIN:VEVENT
DTSTART;TZID=America/Phoenix:20270921T150000
DTEND;TZID=America/Phoenix:20270921T180000
DTSTAMP:20260425T101431
CREATED:20240725T214417Z
LAST-MODIFIED:20240725T214417Z
UID:10009891-1821538800-1821549600@www.ygcc.org
SUMMARY:Happy Hour
DESCRIPTION:
URL:https://www.ygcc.org/event/happy-hour/2027-09-21/
END:VEVENT
BEGIN:VEVENT
DTSTART;TZID=America/Phoenix:20270922T150000
DTEND;TZID=America/Phoenix:20270922T180000
DTSTAMP:20260425T101432
CREATED:20240725T214417Z
LAST-MODIFIED:20240725T214417Z
UID:10009892-1821625200-1821636000@www.ygcc.org
SUMMARY:Happy Hour
DESCRIPTION:
URL:https://www.ygcc.org/event/happy-hour/2027-09-22/
END:VEVENT
BEGIN:VEVENT
DTSTART;TZID=America/Phoenix:20270923T150000
DTEND;TZID=America/Phoenix:20270923T180000
DTSTAMP:20260425T101432
CREATED:20240725T214417Z
LAST-MODIFIED:20240725T214417Z
UID:10009893-1821711600-1821722400@www.ygcc.org
SUMMARY:Happy Hour
DESCRIPTION:
URL:https://www.ygcc.org/event/happy-hour/2027-09-23/
END:VEVENT
BEGIN:VEVENT
DTSTART;TZID=America/Phoenix:20270924T150000
DTEND;TZID=America/Phoenix:20270924T180000
DTSTAMP:20260425T101432
CREATED:20240725T214417Z
LAST-MODIFIED:20240725T214417Z
UID:10009894-1821798000-1821808800@www.ygcc.org
SUMMARY:Happy Hour
DESCRIPTION:
URL:https://www.ygcc.org/event/happy-hour/2027-09-24/
END:VEVENT
BEGIN:VEVENT
DTSTART;TZID=America/Phoenix:20270925T150000
DTEND;TZID=America/Phoenix:20270925T180000
DTSTAMP:20260425T101432
CREATED:20240725T214417Z
LAST-MODIFIED:20240725T214417Z
UID:10009895-1821884400-1821895200@www.ygcc.org
SUMMARY:Happy Hour
DESCRIPTION:
URL:https://www.ygcc.org/event/happy-hour/2027-09-25/
END:VEVENT
BEGIN:VEVENT
DTSTART;TZID=America/Phoenix:20270928T150000
DTEND;TZID=America/Phoenix:20270928T180000
DTSTAMP:20260425T101432
CREATED:20240725T214417Z
LAST-MODIFIED:20240725T214417Z
UID:10009896-1822143600-1822154400@www.ygcc.org
SUMMARY:Happy Hour
DESCRIPTION:
URL:https://www.ygcc.org/event/happy-hour/2027-09-28/
END:VEVENT
BEGIN:VEVENT
DTSTART;TZID=America/Phoenix:20270929T150000
DTEND;TZID=America/Phoenix:20270929T180000
DTSTAMP:20260425T101432
CREATED:20240725T214417Z
LAST-MODIFIED:20240725T214417Z
UID:10009897-1822230000-1822240800@www.ygcc.org
SUMMARY:Happy Hour
DESCRIPTION:
URL:https://www.ygcc.org/event/happy-hour/2027-09-29/
END:VEVENT
BEGIN:VEVENT
DTSTART;TZID=America/Phoenix:20270930T150000
DTEND;TZID=America/Phoenix:20270930T180000
DTSTAMP:20260425T101432
CREATED:20240725T214417Z
LAST-MODIFIED:20240725T214417Z
UID:10009898-1822316400-1822327200@www.ygcc.org
SUMMARY:Happy Hour
DESCRIPTION:
URL:https://www.ygcc.org/event/happy-hour/2027-09-30/
END:VEVENT
BEGIN:VEVENT
DTSTART;TZID=America/Phoenix:20271001T150000
DTEND;TZID=America/Phoenix:20271001T180000
DTSTAMP:20260425T101432
CREATED:20240725T214417Z
LAST-MODIFIED:20240725T214417Z
UID:10009899-1822402800-1822413600@www.ygcc.org
SUMMARY:Happy Hour
DESCRIPTION:
URL:https://www.ygcc.org/event/happy-hour/2027-10-01/
END:VEVENT
BEGIN:VEVENT
DTSTART;TZID=America/Phoenix:20271002T150000
DTEND;TZID=America/Phoenix:20271002T180000
DTSTAMP:20260425T101432
CREATED:20240725T214417Z
LAST-MODIFIED:20240725T214417Z
UID:10009900-1822489200-1822500000@www.ygcc.org
SUMMARY:Happy Hour
DESCRIPTION:
URL:https://www.ygcc.org/event/happy-hour/2027-10-02/
END:VEVENT
BEGIN:VEVENT
DTSTART;TZID=America/Phoenix:20271005T150000
DTEND;TZID=America/Phoenix:20271005T180000
DTSTAMP:20260425T101432
CREATED:20240725T214417Z
LAST-MODIFIED:20240725T214417Z
UID:10009901-1822748400-1822759200@www.ygcc.org
SUMMARY:Happy Hour
DESCRIPTION:
URL:https://www.ygcc.org/event/happy-hour/2027-10-05/
END:VEVENT
BEGIN:VEVENT
DTSTART;TZID=America/Phoenix:20271006T150000
DTEND;TZID=America/Phoenix:20271006T180000
DTSTAMP:20260425T101432
CREATED:20240725T214417Z
LAST-MODIFIED:20240725T214417Z
UID:10009902-1822834800-1822845600@www.ygcc.org
SUMMARY:Happy Hour
DESCRIPTION:
URL:https://www.ygcc.org/event/happy-hour/2027-10-06/
END:VEVENT
END:VCALENDAR