BEGIN:VCALENDAR
VERSION:2.0
PRODID:-//Yuma Golf &amp; Country Club - ECPv6.15.18//NONSGML v1.0//EN
CALSCALE:GREGORIAN
METHOD:PUBLISH
X-WR-CALNAME:Yuma Golf &amp; Country Club
X-ORIGINAL-URL:https://www.ygcc.org
X-WR-CALDESC:Events for Yuma Golf &amp; Country Club
REFRESH-INTERVAL;VALUE=DURATION:PT1H
X-Robots-Tag:noindex
X-PUBLISHED-TTL:PT1H
BEGIN:VTIMEZONE
TZID:America/Phoenix
BEGIN:STANDARD
TZOFFSETFROM:-0700
TZOFFSETTO:-0700
TZNAME:MST
DTSTART:20260101T000000
END:STANDARD
END:VTIMEZONE
BEGIN:VEVENT
DTSTART;TZID=America/Phoenix:20270929T150000
DTEND;TZID=America/Phoenix:20270929T180000
DTSTAMP:20260425T132313
CREATED:20240725T214417Z
LAST-MODIFIED:20240725T214417Z
UID:10009897-1822230000-1822240800@www.ygcc.org
SUMMARY:Happy Hour
DESCRIPTION:
URL:https://www.ygcc.org/event/happy-hour/2027-09-29/
END:VEVENT
BEGIN:VEVENT
DTSTART;TZID=America/Phoenix:20270930T150000
DTEND;TZID=America/Phoenix:20270930T180000
DTSTAMP:20260425T132313
CREATED:20240725T214417Z
LAST-MODIFIED:20240725T214417Z
UID:10009898-1822316400-1822327200@www.ygcc.org
SUMMARY:Happy Hour
DESCRIPTION:
URL:https://www.ygcc.org/event/happy-hour/2027-09-30/
END:VEVENT
BEGIN:VEVENT
DTSTART;TZID=America/Phoenix:20271001T150000
DTEND;TZID=America/Phoenix:20271001T180000
DTSTAMP:20260425T132313
CREATED:20240725T214417Z
LAST-MODIFIED:20240725T214417Z
UID:10009899-1822402800-1822413600@www.ygcc.org
SUMMARY:Happy Hour
DESCRIPTION:
URL:https://www.ygcc.org/event/happy-hour/2027-10-01/
END:VEVENT
BEGIN:VEVENT
DTSTART;TZID=America/Phoenix:20271002T150000
DTEND;TZID=America/Phoenix:20271002T180000
DTSTAMP:20260425T132313
CREATED:20240725T214417Z
LAST-MODIFIED:20240725T214417Z
UID:10009900-1822489200-1822500000@www.ygcc.org
SUMMARY:Happy Hour
DESCRIPTION:
URL:https://www.ygcc.org/event/happy-hour/2027-10-02/
END:VEVENT
BEGIN:VEVENT
DTSTART;TZID=America/Phoenix:20271005T150000
DTEND;TZID=America/Phoenix:20271005T180000
DTSTAMP:20260425T132313
CREATED:20240725T214417Z
LAST-MODIFIED:20240725T214417Z
UID:10009901-1822748400-1822759200@www.ygcc.org
SUMMARY:Happy Hour
DESCRIPTION:
URL:https://www.ygcc.org/event/happy-hour/2027-10-05/
END:VEVENT
BEGIN:VEVENT
DTSTART;TZID=America/Phoenix:20271006T150000
DTEND;TZID=America/Phoenix:20271006T180000
DTSTAMP:20260425T132313
CREATED:20240725T214417Z
LAST-MODIFIED:20240725T214417Z
UID:10009902-1822834800-1822845600@www.ygcc.org
SUMMARY:Happy Hour
DESCRIPTION:
URL:https://www.ygcc.org/event/happy-hour/2027-10-06/
END:VEVENT
BEGIN:VEVENT
DTSTART;TZID=America/Phoenix:20271007T150000
DTEND;TZID=America/Phoenix:20271007T180000
DTSTAMP:20260425T132313
CREATED:20240725T214417Z
LAST-MODIFIED:20240725T214417Z
UID:10009903-1822921200-1822932000@www.ygcc.org
SUMMARY:Happy Hour
DESCRIPTION:
URL:https://www.ygcc.org/event/happy-hour/2027-10-07/
END:VEVENT
BEGIN:VEVENT
DTSTART;TZID=America/Phoenix:20271008T150000
DTEND;TZID=America/Phoenix:20271008T180000
DTSTAMP:20260425T132313
CREATED:20240725T214417Z
LAST-MODIFIED:20240725T214417Z
UID:10009904-1823007600-1823018400@www.ygcc.org
SUMMARY:Happy Hour
DESCRIPTION:
URL:https://www.ygcc.org/event/happy-hour/2027-10-08/
END:VEVENT
BEGIN:VEVENT
DTSTART;TZID=America/Phoenix:20271009T150000
DTEND;TZID=America/Phoenix:20271009T180000
DTSTAMP:20260425T132313
CREATED:20240725T214417Z
LAST-MODIFIED:20240725T214417Z
UID:10009905-1823094000-1823104800@www.ygcc.org
SUMMARY:Happy Hour
DESCRIPTION:
URL:https://www.ygcc.org/event/happy-hour/2027-10-09/
END:VEVENT
BEGIN:VEVENT
DTSTART;TZID=America/Phoenix:20271012T150000
DTEND;TZID=America/Phoenix:20271012T180000
DTSTAMP:20260425T132313
CREATED:20240725T214417Z
LAST-MODIFIED:20240725T214417Z
UID:10009906-1823353200-1823364000@www.ygcc.org
SUMMARY:Happy Hour
DESCRIPTION:
URL:https://www.ygcc.org/event/happy-hour/2027-10-12/
END:VEVENT
BEGIN:VEVENT
DTSTART;TZID=America/Phoenix:20271013T150000
DTEND;TZID=America/Phoenix:20271013T180000
DTSTAMP:20260425T132313
CREATED:20240725T214417Z
LAST-MODIFIED:20240725T214417Z
UID:10009907-1823439600-1823450400@www.ygcc.org
SUMMARY:Happy Hour
DESCRIPTION:
URL:https://www.ygcc.org/event/happy-hour/2027-10-13/
END:VEVENT
BEGIN:VEVENT
DTSTART;TZID=America/Phoenix:20271014T150000
DTEND;TZID=America/Phoenix:20271014T180000
DTSTAMP:20260425T132313
CREATED:20240725T214417Z
LAST-MODIFIED:20240725T214417Z
UID:10009908-1823526000-1823536800@www.ygcc.org
SUMMARY:Happy Hour
DESCRIPTION:
URL:https://www.ygcc.org/event/happy-hour/2027-10-14/
END:VEVENT
BEGIN:VEVENT
DTSTART;TZID=America/Phoenix:20271015T150000
DTEND;TZID=America/Phoenix:20271015T180000
DTSTAMP:20260425T132313
CREATED:20240725T214417Z
LAST-MODIFIED:20240725T214417Z
UID:10009909-1823612400-1823623200@www.ygcc.org
SUMMARY:Happy Hour
DESCRIPTION:
URL:https://www.ygcc.org/event/happy-hour/2027-10-15/
END:VEVENT
BEGIN:VEVENT
DTSTART;TZID=America/Phoenix:20271016T150000
DTEND;TZID=America/Phoenix:20271016T180000
DTSTAMP:20260425T132313
CREATED:20240725T214417Z
LAST-MODIFIED:20240725T214417Z
UID:10009910-1823698800-1823709600@www.ygcc.org
SUMMARY:Happy Hour
DESCRIPTION:
URL:https://www.ygcc.org/event/happy-hour/2027-10-16/
END:VEVENT
BEGIN:VEVENT
DTSTART;TZID=America/Phoenix:20271019T150000
DTEND;TZID=America/Phoenix:20271019T180000
DTSTAMP:20260425T132313
CREATED:20240725T214417Z
LAST-MODIFIED:20240725T214417Z
UID:10009911-1823958000-1823968800@www.ygcc.org
SUMMARY:Happy Hour
DESCRIPTION:
URL:https://www.ygcc.org/event/happy-hour/2027-10-19/
END:VEVENT
BEGIN:VEVENT
DTSTART;TZID=America/Phoenix:20271020T150000
DTEND;TZID=America/Phoenix:20271020T180000
DTSTAMP:20260425T132313
CREATED:20240725T214417Z
LAST-MODIFIED:20240725T214417Z
UID:10009912-1824044400-1824055200@www.ygcc.org
SUMMARY:Happy Hour
DESCRIPTION:
URL:https://www.ygcc.org/event/happy-hour/2027-10-20/
END:VEVENT
BEGIN:VEVENT
DTSTART;TZID=America/Phoenix:20271021T150000
DTEND;TZID=America/Phoenix:20271021T180000
DTSTAMP:20260425T132313
CREATED:20240725T214417Z
LAST-MODIFIED:20240725T214417Z
UID:10009913-1824130800-1824141600@www.ygcc.org
SUMMARY:Happy Hour
DESCRIPTION:
URL:https://www.ygcc.org/event/happy-hour/2027-10-21/
END:VEVENT
BEGIN:VEVENT
DTSTART;TZID=America/Phoenix:20271022T150000
DTEND;TZID=America/Phoenix:20271022T180000
DTSTAMP:20260425T132313
CREATED:20240725T214417Z
LAST-MODIFIED:20240725T214417Z
UID:10009914-1824217200-1824228000@www.ygcc.org
SUMMARY:Happy Hour
DESCRIPTION:
URL:https://www.ygcc.org/event/happy-hour/2027-10-22/
END:VEVENT
BEGIN:VEVENT
DTSTART;TZID=America/Phoenix:20271023T150000
DTEND;TZID=America/Phoenix:20271023T180000
DTSTAMP:20260425T132313
CREATED:20240725T214417Z
LAST-MODIFIED:20240725T214417Z
UID:10009915-1824303600-1824314400@www.ygcc.org
SUMMARY:Happy Hour
DESCRIPTION:
URL:https://www.ygcc.org/event/happy-hour/2027-10-23/
END:VEVENT
BEGIN:VEVENT
DTSTART;TZID=America/Phoenix:20271026T150000
DTEND;TZID=America/Phoenix:20271026T180000
DTSTAMP:20260425T132313
CREATED:20240725T214417Z
LAST-MODIFIED:20240725T214417Z
UID:10009916-1824562800-1824573600@www.ygcc.org
SUMMARY:Happy Hour
DESCRIPTION:
URL:https://www.ygcc.org/event/happy-hour/2027-10-26/
END:VEVENT
BEGIN:VEVENT
DTSTART;TZID=America/Phoenix:20271027T150000
DTEND;TZID=America/Phoenix:20271027T180000
DTSTAMP:20260425T132313
CREATED:20240725T214417Z
LAST-MODIFIED:20240725T214417Z
UID:10009917-1824649200-1824660000@www.ygcc.org
SUMMARY:Happy Hour
DESCRIPTION:
URL:https://www.ygcc.org/event/happy-hour/2027-10-27/
END:VEVENT
BEGIN:VEVENT
DTSTART;TZID=America/Phoenix:20271028T150000
DTEND;TZID=America/Phoenix:20271028T180000
DTSTAMP:20260425T132313
CREATED:20240725T214417Z
LAST-MODIFIED:20240725T214417Z
UID:10009918-1824735600-1824746400@www.ygcc.org
SUMMARY:Happy Hour
DESCRIPTION:
URL:https://www.ygcc.org/event/happy-hour/2027-10-28/
END:VEVENT
BEGIN:VEVENT
DTSTART;TZID=America/Phoenix:20271029T150000
DTEND;TZID=America/Phoenix:20271029T180000
DTSTAMP:20260425T132313
CREATED:20240725T214417Z
LAST-MODIFIED:20240725T214417Z
UID:10009919-1824822000-1824832800@www.ygcc.org
SUMMARY:Happy Hour
DESCRIPTION:
URL:https://www.ygcc.org/event/happy-hour/2027-10-29/
END:VEVENT
BEGIN:VEVENT
DTSTART;TZID=America/Phoenix:20271030T150000
DTEND;TZID=America/Phoenix:20271030T180000
DTSTAMP:20260425T132313
CREATED:20240725T214417Z
LAST-MODIFIED:20240725T214417Z
UID:10009920-1824908400-1824919200@www.ygcc.org
SUMMARY:Happy Hour
DESCRIPTION:
URL:https://www.ygcc.org/event/happy-hour/2027-10-30/
END:VEVENT
BEGIN:VEVENT
DTSTART;TZID=America/Phoenix:20271102T150000
DTEND;TZID=America/Phoenix:20271102T180000
DTSTAMP:20260425T132313
CREATED:20240725T214417Z
LAST-MODIFIED:20240725T214417Z
UID:10009921-1825167600-1825178400@www.ygcc.org
SUMMARY:Happy Hour
DESCRIPTION:
URL:https://www.ygcc.org/event/happy-hour/2027-11-02/
END:VEVENT
BEGIN:VEVENT
DTSTART;TZID=America/Phoenix:20271103T150000
DTEND;TZID=America/Phoenix:20271103T180000
DTSTAMP:20260425T132313
CREATED:20240725T214417Z
LAST-MODIFIED:20240725T214417Z
UID:10009922-1825254000-1825264800@www.ygcc.org
SUMMARY:Happy Hour
DESCRIPTION:
URL:https://www.ygcc.org/event/happy-hour/2027-11-03/
END:VEVENT
BEGIN:VEVENT
DTSTART;TZID=America/Phoenix:20271104T150000
DTEND;TZID=America/Phoenix:20271104T180000
DTSTAMP:20260425T132313
CREATED:20240725T214417Z
LAST-MODIFIED:20240725T214417Z
UID:10009923-1825340400-1825351200@www.ygcc.org
SUMMARY:Happy Hour
DESCRIPTION:
URL:https://www.ygcc.org/event/happy-hour/2027-11-04/
END:VEVENT
BEGIN:VEVENT
DTSTART;TZID=America/Phoenix:20271105T150000
DTEND;TZID=America/Phoenix:20271105T180000
DTSTAMP:20260425T132313
CREATED:20240725T214417Z
LAST-MODIFIED:20240725T214417Z
UID:10009924-1825426800-1825437600@www.ygcc.org
SUMMARY:Happy Hour
DESCRIPTION:
URL:https://www.ygcc.org/event/happy-hour/2027-11-05/
END:VEVENT
BEGIN:VEVENT
DTSTART;TZID=America/Phoenix:20271106T150000
DTEND;TZID=America/Phoenix:20271106T180000
DTSTAMP:20260425T132313
CREATED:20240725T214417Z
LAST-MODIFIED:20240725T214417Z
UID:10009925-1825513200-1825524000@www.ygcc.org
SUMMARY:Happy Hour
DESCRIPTION:
URL:https://www.ygcc.org/event/happy-hour/2027-11-06/
END:VEVENT
BEGIN:VEVENT
DTSTART;TZID=America/Phoenix:20271109T150000
DTEND;TZID=America/Phoenix:20271109T180000
DTSTAMP:20260425T132313
CREATED:20240725T214417Z
LAST-MODIFIED:20240725T214417Z
UID:10009926-1825772400-1825783200@www.ygcc.org
SUMMARY:Happy Hour
DESCRIPTION:
URL:https://www.ygcc.org/event/happy-hour/2027-11-09/
END:VEVENT
END:VCALENDAR