BEGIN:VCALENDAR
VERSION:2.0
PRODID:-//Yuma Golf &amp; Country Club - ECPv6.15.18//NONSGML v1.0//EN
CALSCALE:GREGORIAN
METHOD:PUBLISH
X-WR-CALNAME:Yuma Golf &amp; Country Club
X-ORIGINAL-URL:https://www.ygcc.org
X-WR-CALDESC:Events for Yuma Golf &amp; Country Club
REFRESH-INTERVAL;VALUE=DURATION:PT1H
X-Robots-Tag:noindex
X-PUBLISHED-TTL:PT1H
BEGIN:VTIMEZONE
TZID:America/Phoenix
BEGIN:STANDARD
TZOFFSETFROM:-0700
TZOFFSETTO:-0700
TZNAME:MST
DTSTART:20260101T000000
END:STANDARD
END:VTIMEZONE
BEGIN:VEVENT
DTSTART;TZID=America/Phoenix:20271102T150000
DTEND;TZID=America/Phoenix:20271102T180000
DTSTAMP:20260425T160623
CREATED:20240725T214417Z
LAST-MODIFIED:20240725T214417Z
UID:10009921-1825167600-1825178400@www.ygcc.org
SUMMARY:Happy Hour
DESCRIPTION:
URL:https://www.ygcc.org/event/happy-hour/2027-11-02/
END:VEVENT
BEGIN:VEVENT
DTSTART;TZID=America/Phoenix:20271103T150000
DTEND;TZID=America/Phoenix:20271103T180000
DTSTAMP:20260425T160623
CREATED:20240725T214417Z
LAST-MODIFIED:20240725T214417Z
UID:10009922-1825254000-1825264800@www.ygcc.org
SUMMARY:Happy Hour
DESCRIPTION:
URL:https://www.ygcc.org/event/happy-hour/2027-11-03/
END:VEVENT
BEGIN:VEVENT
DTSTART;TZID=America/Phoenix:20271104T150000
DTEND;TZID=America/Phoenix:20271104T180000
DTSTAMP:20260425T160623
CREATED:20240725T214417Z
LAST-MODIFIED:20240725T214417Z
UID:10009923-1825340400-1825351200@www.ygcc.org
SUMMARY:Happy Hour
DESCRIPTION:
URL:https://www.ygcc.org/event/happy-hour/2027-11-04/
END:VEVENT
BEGIN:VEVENT
DTSTART;TZID=America/Phoenix:20271105T150000
DTEND;TZID=America/Phoenix:20271105T180000
DTSTAMP:20260425T160623
CREATED:20240725T214417Z
LAST-MODIFIED:20240725T214417Z
UID:10009924-1825426800-1825437600@www.ygcc.org
SUMMARY:Happy Hour
DESCRIPTION:
URL:https://www.ygcc.org/event/happy-hour/2027-11-05/
END:VEVENT
BEGIN:VEVENT
DTSTART;TZID=America/Phoenix:20271106T150000
DTEND;TZID=America/Phoenix:20271106T180000
DTSTAMP:20260425T160623
CREATED:20240725T214417Z
LAST-MODIFIED:20240725T214417Z
UID:10009925-1825513200-1825524000@www.ygcc.org
SUMMARY:Happy Hour
DESCRIPTION:
URL:https://www.ygcc.org/event/happy-hour/2027-11-06/
END:VEVENT
BEGIN:VEVENT
DTSTART;TZID=America/Phoenix:20271109T150000
DTEND;TZID=America/Phoenix:20271109T180000
DTSTAMP:20260425T160623
CREATED:20240725T214417Z
LAST-MODIFIED:20240725T214417Z
UID:10009926-1825772400-1825783200@www.ygcc.org
SUMMARY:Happy Hour
DESCRIPTION:
URL:https://www.ygcc.org/event/happy-hour/2027-11-09/
END:VEVENT
BEGIN:VEVENT
DTSTART;TZID=America/Phoenix:20271110T150000
DTEND;TZID=America/Phoenix:20271110T180000
DTSTAMP:20260425T160623
CREATED:20240725T214417Z
LAST-MODIFIED:20240725T214417Z
UID:10009927-1825858800-1825869600@www.ygcc.org
SUMMARY:Happy Hour
DESCRIPTION:
URL:https://www.ygcc.org/event/happy-hour/2027-11-10/
END:VEVENT
BEGIN:VEVENT
DTSTART;TZID=America/Phoenix:20271111T150000
DTEND;TZID=America/Phoenix:20271111T180000
DTSTAMP:20260425T160623
CREATED:20240725T214417Z
LAST-MODIFIED:20240725T214417Z
UID:10009928-1825945200-1825956000@www.ygcc.org
SUMMARY:Happy Hour
DESCRIPTION:
URL:https://www.ygcc.org/event/happy-hour/2027-11-11/
END:VEVENT
BEGIN:VEVENT
DTSTART;TZID=America/Phoenix:20271112T150000
DTEND;TZID=America/Phoenix:20271112T180000
DTSTAMP:20260425T160623
CREATED:20240725T214417Z
LAST-MODIFIED:20240725T214417Z
UID:10009929-1826031600-1826042400@www.ygcc.org
SUMMARY:Happy Hour
DESCRIPTION:
URL:https://www.ygcc.org/event/happy-hour/2027-11-12/
END:VEVENT
BEGIN:VEVENT
DTSTART;TZID=America/Phoenix:20271113T150000
DTEND;TZID=America/Phoenix:20271113T180000
DTSTAMP:20260425T160623
CREATED:20240725T214417Z
LAST-MODIFIED:20240725T214417Z
UID:10009930-1826118000-1826128800@www.ygcc.org
SUMMARY:Happy Hour
DESCRIPTION:
URL:https://www.ygcc.org/event/happy-hour/2027-11-13/
END:VEVENT
BEGIN:VEVENT
DTSTART;TZID=America/Phoenix:20271116T150000
DTEND;TZID=America/Phoenix:20271116T180000
DTSTAMP:20260425T160623
CREATED:20240725T214417Z
LAST-MODIFIED:20240725T214417Z
UID:10009931-1826377200-1826388000@www.ygcc.org
SUMMARY:Happy Hour
DESCRIPTION:
URL:https://www.ygcc.org/event/happy-hour/2027-11-16/
END:VEVENT
BEGIN:VEVENT
DTSTART;TZID=America/Phoenix:20271117T150000
DTEND;TZID=America/Phoenix:20271117T180000
DTSTAMP:20260425T160623
CREATED:20240725T214417Z
LAST-MODIFIED:20240725T214417Z
UID:10009932-1826463600-1826474400@www.ygcc.org
SUMMARY:Happy Hour
DESCRIPTION:
URL:https://www.ygcc.org/event/happy-hour/2027-11-17/
END:VEVENT
BEGIN:VEVENT
DTSTART;TZID=America/Phoenix:20271118T150000
DTEND;TZID=America/Phoenix:20271118T180000
DTSTAMP:20260425T160623
CREATED:20240725T214417Z
LAST-MODIFIED:20240725T214417Z
UID:10009933-1826550000-1826560800@www.ygcc.org
SUMMARY:Happy Hour
DESCRIPTION:
URL:https://www.ygcc.org/event/happy-hour/2027-11-18/
END:VEVENT
BEGIN:VEVENT
DTSTART;TZID=America/Phoenix:20271119T150000
DTEND;TZID=America/Phoenix:20271119T180000
DTSTAMP:20260425T160623
CREATED:20240725T214417Z
LAST-MODIFIED:20240725T214417Z
UID:10009934-1826636400-1826647200@www.ygcc.org
SUMMARY:Happy Hour
DESCRIPTION:
URL:https://www.ygcc.org/event/happy-hour/2027-11-19/
END:VEVENT
BEGIN:VEVENT
DTSTART;TZID=America/Phoenix:20271120T150000
DTEND;TZID=America/Phoenix:20271120T180000
DTSTAMP:20260425T160623
CREATED:20240725T214417Z
LAST-MODIFIED:20240725T214417Z
UID:10009935-1826722800-1826733600@www.ygcc.org
SUMMARY:Happy Hour
DESCRIPTION:
URL:https://www.ygcc.org/event/happy-hour/2027-11-20/
END:VEVENT
BEGIN:VEVENT
DTSTART;TZID=America/Phoenix:20271123T150000
DTEND;TZID=America/Phoenix:20271123T180000
DTSTAMP:20260425T160623
CREATED:20240725T214417Z
LAST-MODIFIED:20240725T214417Z
UID:10009936-1826982000-1826992800@www.ygcc.org
SUMMARY:Happy Hour
DESCRIPTION:
URL:https://www.ygcc.org/event/happy-hour/2027-11-23/
END:VEVENT
BEGIN:VEVENT
DTSTART;TZID=America/Phoenix:20271124T150000
DTEND;TZID=America/Phoenix:20271124T180000
DTSTAMP:20260425T160623
CREATED:20240725T214417Z
LAST-MODIFIED:20240725T214417Z
UID:10009937-1827068400-1827079200@www.ygcc.org
SUMMARY:Happy Hour
DESCRIPTION:
URL:https://www.ygcc.org/event/happy-hour/2027-11-24/
END:VEVENT
BEGIN:VEVENT
DTSTART;TZID=America/Phoenix:20271125T150000
DTEND;TZID=America/Phoenix:20271125T180000
DTSTAMP:20260425T160623
CREATED:20240725T214417Z
LAST-MODIFIED:20240725T214417Z
UID:10009938-1827154800-1827165600@www.ygcc.org
SUMMARY:Happy Hour
DESCRIPTION:
URL:https://www.ygcc.org/event/happy-hour/2027-11-25/
END:VEVENT
BEGIN:VEVENT
DTSTART;TZID=America/Phoenix:20271126T150000
DTEND;TZID=America/Phoenix:20271126T180000
DTSTAMP:20260425T160624
CREATED:20240725T214417Z
LAST-MODIFIED:20240725T214417Z
UID:10009939-1827241200-1827252000@www.ygcc.org
SUMMARY:Happy Hour
DESCRIPTION:
URL:https://www.ygcc.org/event/happy-hour/2027-11-26/
END:VEVENT
BEGIN:VEVENT
DTSTART;TZID=America/Phoenix:20271127T150000
DTEND;TZID=America/Phoenix:20271127T180000
DTSTAMP:20260425T160624
CREATED:20240725T214417Z
LAST-MODIFIED:20240725T214417Z
UID:10009940-1827327600-1827338400@www.ygcc.org
SUMMARY:Happy Hour
DESCRIPTION:
URL:https://www.ygcc.org/event/happy-hour/2027-11-27/
END:VEVENT
BEGIN:VEVENT
DTSTART;TZID=America/Phoenix:20271130T150000
DTEND;TZID=America/Phoenix:20271130T180000
DTSTAMP:20260425T160624
CREATED:20240725T214417Z
LAST-MODIFIED:20240725T214417Z
UID:10009941-1827586800-1827597600@www.ygcc.org
SUMMARY:Happy Hour
DESCRIPTION:
URL:https://www.ygcc.org/event/happy-hour/2027-11-30/
END:VEVENT
BEGIN:VEVENT
DTSTART;TZID=America/Phoenix:20271201T150000
DTEND;TZID=America/Phoenix:20271201T180000
DTSTAMP:20260425T160624
CREATED:20240725T214417Z
LAST-MODIFIED:20240725T214417Z
UID:10009942-1827673200-1827684000@www.ygcc.org
SUMMARY:Happy Hour
DESCRIPTION:
URL:https://www.ygcc.org/event/happy-hour/2027-12-01/
END:VEVENT
BEGIN:VEVENT
DTSTART;TZID=America/Phoenix:20271202T150000
DTEND;TZID=America/Phoenix:20271202T180000
DTSTAMP:20260425T160624
CREATED:20240725T214417Z
LAST-MODIFIED:20240725T214417Z
UID:10009943-1827759600-1827770400@www.ygcc.org
SUMMARY:Happy Hour
DESCRIPTION:
URL:https://www.ygcc.org/event/happy-hour/2027-12-02/
END:VEVENT
BEGIN:VEVENT
DTSTART;TZID=America/Phoenix:20271203T150000
DTEND;TZID=America/Phoenix:20271203T180000
DTSTAMP:20260425T160624
CREATED:20240725T214417Z
LAST-MODIFIED:20240725T214417Z
UID:10009944-1827846000-1827856800@www.ygcc.org
SUMMARY:Happy Hour
DESCRIPTION:
URL:https://www.ygcc.org/event/happy-hour/2027-12-03/
END:VEVENT
BEGIN:VEVENT
DTSTART;TZID=America/Phoenix:20271204T150000
DTEND;TZID=America/Phoenix:20271204T180000
DTSTAMP:20260425T160624
CREATED:20240725T214417Z
LAST-MODIFIED:20240725T214417Z
UID:10009945-1827932400-1827943200@www.ygcc.org
SUMMARY:Happy Hour
DESCRIPTION:
URL:https://www.ygcc.org/event/happy-hour/2027-12-04/
END:VEVENT
BEGIN:VEVENT
DTSTART;TZID=America/Phoenix:20271207T150000
DTEND;TZID=America/Phoenix:20271207T180000
DTSTAMP:20260425T160624
CREATED:20240725T214417Z
LAST-MODIFIED:20240725T214417Z
UID:10009946-1828191600-1828202400@www.ygcc.org
SUMMARY:Happy Hour
DESCRIPTION:
URL:https://www.ygcc.org/event/happy-hour/2027-12-07/
END:VEVENT
BEGIN:VEVENT
DTSTART;TZID=America/Phoenix:20271208T150000
DTEND;TZID=America/Phoenix:20271208T180000
DTSTAMP:20260425T160624
CREATED:20240725T214417Z
LAST-MODIFIED:20240725T214417Z
UID:10009947-1828278000-1828288800@www.ygcc.org
SUMMARY:Happy Hour
DESCRIPTION:
URL:https://www.ygcc.org/event/happy-hour/2027-12-08/
END:VEVENT
BEGIN:VEVENT
DTSTART;TZID=America/Phoenix:20271209T150000
DTEND;TZID=America/Phoenix:20271209T180000
DTSTAMP:20260425T160624
CREATED:20240725T214417Z
LAST-MODIFIED:20240725T214417Z
UID:10009948-1828364400-1828375200@www.ygcc.org
SUMMARY:Happy Hour
DESCRIPTION:
URL:https://www.ygcc.org/event/happy-hour/2027-12-09/
END:VEVENT
BEGIN:VEVENT
DTSTART;TZID=America/Phoenix:20271210T150000
DTEND;TZID=America/Phoenix:20271210T180000
DTSTAMP:20260425T160624
CREATED:20240725T214417Z
LAST-MODIFIED:20240725T214417Z
UID:10009949-1828450800-1828461600@www.ygcc.org
SUMMARY:Happy Hour
DESCRIPTION:
URL:https://www.ygcc.org/event/happy-hour/2027-12-10/
END:VEVENT
BEGIN:VEVENT
DTSTART;TZID=America/Phoenix:20271211T150000
DTEND;TZID=America/Phoenix:20271211T180000
DTSTAMP:20260425T160624
CREATED:20240725T214417Z
LAST-MODIFIED:20240725T214417Z
UID:10009950-1828537200-1828548000@www.ygcc.org
SUMMARY:Happy Hour
DESCRIPTION:
URL:https://www.ygcc.org/event/happy-hour/2027-12-11/
END:VEVENT
END:VCALENDAR