BEGIN:VCALENDAR
VERSION:2.0
PRODID:-//Yuma Golf &amp; Country Club - ECPv6.15.18//NONSGML v1.0//EN
CALSCALE:GREGORIAN
METHOD:PUBLISH
X-ORIGINAL-URL:https://www.ygcc.org
X-WR-CALDESC:Events for Yuma Golf &amp; Country Club
REFRESH-INTERVAL;VALUE=DURATION:PT1H
X-Robots-Tag:noindex
X-PUBLISHED-TTL:PT1H
BEGIN:VTIMEZONE
TZID:America/Phoenix
BEGIN:STANDARD
TZOFFSETFROM:-0700
TZOFFSETTO:-0700
TZNAME:MST
DTSTART:20250101T000000
END:STANDARD
END:VTIMEZONE
BEGIN:VEVENT
DTSTART;TZID=America/Phoenix:20260626T150000
DTEND;TZID=America/Phoenix:20260626T180000
DTSTAMP:20260419T164012
CREATED:20240725T214417Z
LAST-MODIFIED:20240725T214417Z
UID:10009569-1782486000-1782496800@www.ygcc.org
SUMMARY:Happy Hour
DESCRIPTION:
URL:https://www.ygcc.org/event/happy-hour/2026-06-26/
END:VEVENT
BEGIN:VEVENT
DTSTART;TZID=America/Phoenix:20260627T150000
DTEND;TZID=America/Phoenix:20260627T180000
DTSTAMP:20260419T164012
CREATED:20240725T214417Z
LAST-MODIFIED:20240725T214417Z
UID:10009570-1782572400-1782583200@www.ygcc.org
SUMMARY:Happy Hour
DESCRIPTION:
URL:https://www.ygcc.org/event/happy-hour/2026-06-27/
END:VEVENT
BEGIN:VEVENT
DTSTART;TZID=America/Phoenix:20260630T150000
DTEND;TZID=America/Phoenix:20260630T180000
DTSTAMP:20260419T164012
CREATED:20240725T214417Z
LAST-MODIFIED:20240725T214417Z
UID:10009571-1782831600-1782842400@www.ygcc.org
SUMMARY:Happy Hour
DESCRIPTION:
URL:https://www.ygcc.org/event/happy-hour/2026-06-30/
END:VEVENT
BEGIN:VEVENT
DTSTART;TZID=America/Phoenix:20260701T150000
DTEND;TZID=America/Phoenix:20260701T180000
DTSTAMP:20260419T164012
CREATED:20240725T214417Z
LAST-MODIFIED:20240725T214417Z
UID:10009572-1782918000-1782928800@www.ygcc.org
SUMMARY:Happy Hour
DESCRIPTION:
URL:https://www.ygcc.org/event/happy-hour/2026-07-01/
END:VEVENT
BEGIN:VEVENT
DTSTART;TZID=America/Phoenix:20260702T150000
DTEND;TZID=America/Phoenix:20260702T180000
DTSTAMP:20260419T164012
CREATED:20240725T214417Z
LAST-MODIFIED:20240725T214417Z
UID:10009573-1783004400-1783015200@www.ygcc.org
SUMMARY:Happy Hour
DESCRIPTION:
URL:https://www.ygcc.org/event/happy-hour/2026-07-02/
END:VEVENT
BEGIN:VEVENT
DTSTART;TZID=America/Phoenix:20260703T150000
DTEND;TZID=America/Phoenix:20260703T180000
DTSTAMP:20260419T164012
CREATED:20240725T214417Z
LAST-MODIFIED:20240725T214417Z
UID:10009574-1783090800-1783101600@www.ygcc.org
SUMMARY:Happy Hour
DESCRIPTION:
URL:https://www.ygcc.org/event/happy-hour/2026-07-03/
END:VEVENT
BEGIN:VEVENT
DTSTART;TZID=America/Phoenix:20260704T150000
DTEND;TZID=America/Phoenix:20260704T180000
DTSTAMP:20260419T164012
CREATED:20240725T214417Z
LAST-MODIFIED:20240725T214417Z
UID:10009575-1783177200-1783188000@www.ygcc.org
SUMMARY:Happy Hour
DESCRIPTION:
URL:https://www.ygcc.org/event/happy-hour/2026-07-04/
END:VEVENT
BEGIN:VEVENT
DTSTART;TZID=America/Phoenix:20260707T150000
DTEND;TZID=America/Phoenix:20260707T180000
DTSTAMP:20260419T164012
CREATED:20240725T214417Z
LAST-MODIFIED:20240725T214417Z
UID:10009576-1783436400-1783447200@www.ygcc.org
SUMMARY:Happy Hour
DESCRIPTION:
URL:https://www.ygcc.org/event/happy-hour/2026-07-07/
END:VEVENT
BEGIN:VEVENT
DTSTART;TZID=America/Phoenix:20260708T150000
DTEND;TZID=America/Phoenix:20260708T180000
DTSTAMP:20260419T164012
CREATED:20240725T214417Z
LAST-MODIFIED:20240725T214417Z
UID:10009577-1783522800-1783533600@www.ygcc.org
SUMMARY:Happy Hour
DESCRIPTION:
URL:https://www.ygcc.org/event/happy-hour/2026-07-08/
END:VEVENT
BEGIN:VEVENT
DTSTART;TZID=America/Phoenix:20260709T150000
DTEND;TZID=America/Phoenix:20260709T180000
DTSTAMP:20260419T164012
CREATED:20240725T214417Z
LAST-MODIFIED:20240725T214417Z
UID:10009578-1783609200-1783620000@www.ygcc.org
SUMMARY:Happy Hour
DESCRIPTION:
URL:https://www.ygcc.org/event/happy-hour/2026-07-09/
END:VEVENT
BEGIN:VEVENT
DTSTART;TZID=America/Phoenix:20260710T150000
DTEND;TZID=America/Phoenix:20260710T180000
DTSTAMP:20260419T164012
CREATED:20240725T214417Z
LAST-MODIFIED:20240725T214417Z
UID:10009579-1783695600-1783706400@www.ygcc.org
SUMMARY:Happy Hour
DESCRIPTION:
URL:https://www.ygcc.org/event/happy-hour/2026-07-10/
END:VEVENT
BEGIN:VEVENT
DTSTART;TZID=America/Phoenix:20260711T150000
DTEND;TZID=America/Phoenix:20260711T180000
DTSTAMP:20260419T164012
CREATED:20240725T214417Z
LAST-MODIFIED:20240725T214417Z
UID:10009580-1783782000-1783792800@www.ygcc.org
SUMMARY:Happy Hour
DESCRIPTION:
URL:https://www.ygcc.org/event/happy-hour/2026-07-11/
END:VEVENT
BEGIN:VEVENT
DTSTART;TZID=America/Phoenix:20260714T150000
DTEND;TZID=America/Phoenix:20260714T180000
DTSTAMP:20260419T164012
CREATED:20240725T214417Z
LAST-MODIFIED:20240725T214417Z
UID:10009581-1784041200-1784052000@www.ygcc.org
SUMMARY:Happy Hour
DESCRIPTION:
URL:https://www.ygcc.org/event/happy-hour/2026-07-14/
END:VEVENT
BEGIN:VEVENT
DTSTART;TZID=America/Phoenix:20260715T150000
DTEND;TZID=America/Phoenix:20260715T180000
DTSTAMP:20260419T164012
CREATED:20240725T214417Z
LAST-MODIFIED:20240725T214417Z
UID:10009582-1784127600-1784138400@www.ygcc.org
SUMMARY:Happy Hour
DESCRIPTION:
URL:https://www.ygcc.org/event/happy-hour/2026-07-15/
END:VEVENT
BEGIN:VEVENT
DTSTART;TZID=America/Phoenix:20260716T150000
DTEND;TZID=America/Phoenix:20260716T180000
DTSTAMP:20260419T164012
CREATED:20240725T214417Z
LAST-MODIFIED:20240725T214417Z
UID:10009583-1784214000-1784224800@www.ygcc.org
SUMMARY:Happy Hour
DESCRIPTION:
URL:https://www.ygcc.org/event/happy-hour/2026-07-16/
END:VEVENT
BEGIN:VEVENT
DTSTART;TZID=America/Phoenix:20260717T150000
DTEND;TZID=America/Phoenix:20260717T180000
DTSTAMP:20260419T164012
CREATED:20240725T214417Z
LAST-MODIFIED:20240725T214417Z
UID:10009584-1784300400-1784311200@www.ygcc.org
SUMMARY:Happy Hour
DESCRIPTION:
URL:https://www.ygcc.org/event/happy-hour/2026-07-17/
END:VEVENT
BEGIN:VEVENT
DTSTART;TZID=America/Phoenix:20260718T150000
DTEND;TZID=America/Phoenix:20260718T180000
DTSTAMP:20260419T164012
CREATED:20240725T214417Z
LAST-MODIFIED:20240725T214417Z
UID:10009585-1784386800-1784397600@www.ygcc.org
SUMMARY:Happy Hour
DESCRIPTION:
URL:https://www.ygcc.org/event/happy-hour/2026-07-18/
END:VEVENT
BEGIN:VEVENT
DTSTART;TZID=America/Phoenix:20260721T150000
DTEND;TZID=America/Phoenix:20260721T180000
DTSTAMP:20260419T164012
CREATED:20240725T214417Z
LAST-MODIFIED:20240725T214417Z
UID:10009586-1784646000-1784656800@www.ygcc.org
SUMMARY:Happy Hour
DESCRIPTION:
URL:https://www.ygcc.org/event/happy-hour/2026-07-21/
END:VEVENT
BEGIN:VEVENT
DTSTART;TZID=America/Phoenix:20260722T150000
DTEND;TZID=America/Phoenix:20260722T180000
DTSTAMP:20260419T164012
CREATED:20240725T214417Z
LAST-MODIFIED:20240725T214417Z
UID:10009587-1784732400-1784743200@www.ygcc.org
SUMMARY:Happy Hour
DESCRIPTION:
URL:https://www.ygcc.org/event/happy-hour/2026-07-22/
END:VEVENT
BEGIN:VEVENT
DTSTART;TZID=America/Phoenix:20260723T150000
DTEND;TZID=America/Phoenix:20260723T180000
DTSTAMP:20260419T164012
CREATED:20240725T214417Z
LAST-MODIFIED:20240725T214417Z
UID:10009588-1784818800-1784829600@www.ygcc.org
SUMMARY:Happy Hour
DESCRIPTION:
URL:https://www.ygcc.org/event/happy-hour/2026-07-23/
END:VEVENT
BEGIN:VEVENT
DTSTART;TZID=America/Phoenix:20260724T150000
DTEND;TZID=America/Phoenix:20260724T180000
DTSTAMP:20260419T164012
CREATED:20240725T214417Z
LAST-MODIFIED:20240725T214417Z
UID:10009589-1784905200-1784916000@www.ygcc.org
SUMMARY:Happy Hour
DESCRIPTION:
URL:https://www.ygcc.org/event/happy-hour/2026-07-24/
END:VEVENT
BEGIN:VEVENT
DTSTART;TZID=America/Phoenix:20260725T150000
DTEND;TZID=America/Phoenix:20260725T180000
DTSTAMP:20260419T164012
CREATED:20240725T214417Z
LAST-MODIFIED:20240725T214417Z
UID:10009590-1784991600-1785002400@www.ygcc.org
SUMMARY:Happy Hour
DESCRIPTION:
URL:https://www.ygcc.org/event/happy-hour/2026-07-25/
END:VEVENT
BEGIN:VEVENT
DTSTART;TZID=America/Phoenix:20260728T150000
DTEND;TZID=America/Phoenix:20260728T180000
DTSTAMP:20260419T164012
CREATED:20240725T214417Z
LAST-MODIFIED:20240725T214417Z
UID:10009591-1785250800-1785261600@www.ygcc.org
SUMMARY:Happy Hour
DESCRIPTION:
URL:https://www.ygcc.org/event/happy-hour/2026-07-28/
END:VEVENT
BEGIN:VEVENT
DTSTART;TZID=America/Phoenix:20260729T150000
DTEND;TZID=America/Phoenix:20260729T180000
DTSTAMP:20260419T164012
CREATED:20240725T214417Z
LAST-MODIFIED:20240725T214417Z
UID:10009592-1785337200-1785348000@www.ygcc.org
SUMMARY:Happy Hour
DESCRIPTION:
URL:https://www.ygcc.org/event/happy-hour/2026-07-29/
END:VEVENT
BEGIN:VEVENT
DTSTART;TZID=America/Phoenix:20260730T150000
DTEND;TZID=America/Phoenix:20260730T180000
DTSTAMP:20260419T164012
CREATED:20240725T214417Z
LAST-MODIFIED:20240725T214417Z
UID:10009593-1785423600-1785434400@www.ygcc.org
SUMMARY:Happy Hour
DESCRIPTION:
URL:https://www.ygcc.org/event/happy-hour/2026-07-30/
END:VEVENT
BEGIN:VEVENT
DTSTART;TZID=America/Phoenix:20260731T150000
DTEND;TZID=America/Phoenix:20260731T180000
DTSTAMP:20260419T164012
CREATED:20240725T214417Z
LAST-MODIFIED:20240725T214417Z
UID:10009594-1785510000-1785520800@www.ygcc.org
SUMMARY:Happy Hour
DESCRIPTION:
URL:https://www.ygcc.org/event/happy-hour/2026-07-31/
END:VEVENT
BEGIN:VEVENT
DTSTART;TZID=America/Phoenix:20260801T150000
DTEND;TZID=America/Phoenix:20260801T180000
DTSTAMP:20260419T164012
CREATED:20240725T214417Z
LAST-MODIFIED:20240725T214417Z
UID:10009595-1785596400-1785607200@www.ygcc.org
SUMMARY:Happy Hour
DESCRIPTION:
URL:https://www.ygcc.org/event/happy-hour/2026-08-01/
END:VEVENT
BEGIN:VEVENT
DTSTART;TZID=America/Phoenix:20260804T150000
DTEND;TZID=America/Phoenix:20260804T180000
DTSTAMP:20260419T164012
CREATED:20240725T214417Z
LAST-MODIFIED:20240725T214417Z
UID:10009596-1785855600-1785866400@www.ygcc.org
SUMMARY:Happy Hour
DESCRIPTION:
URL:https://www.ygcc.org/event/happy-hour/2026-08-04/
END:VEVENT
BEGIN:VEVENT
DTSTART;TZID=America/Phoenix:20260805T150000
DTEND;TZID=America/Phoenix:20260805T180000
DTSTAMP:20260419T164012
CREATED:20240725T214417Z
LAST-MODIFIED:20240725T214417Z
UID:10009597-1785942000-1785952800@www.ygcc.org
SUMMARY:Happy Hour
DESCRIPTION:
URL:https://www.ygcc.org/event/happy-hour/2026-08-05/
END:VEVENT
BEGIN:VEVENT
DTSTART;TZID=America/Phoenix:20260806T150000
DTEND;TZID=America/Phoenix:20260806T180000
DTSTAMP:20260419T164012
CREATED:20240725T214417Z
LAST-MODIFIED:20240725T214417Z
UID:10009598-1786028400-1786039200@www.ygcc.org
SUMMARY:Happy Hour
DESCRIPTION:
URL:https://www.ygcc.org/event/happy-hour/2026-08-06/
END:VEVENT
END:VCALENDAR