BEGIN:VCALENDAR
VERSION:2.0
PRODID:-//Yuma Golf &amp; Country Club - ECPv6.15.18//NONSGML v1.0//EN
CALSCALE:GREGORIAN
METHOD:PUBLISH
X-WR-CALNAME:Yuma Golf &amp; Country Club
X-ORIGINAL-URL:https://www.ygcc.org
X-WR-CALDESC:Events for Yuma Golf &amp; Country Club
REFRESH-INTERVAL;VALUE=DURATION:PT1H
X-Robots-Tag:noindex
X-PUBLISHED-TTL:PT1H
BEGIN:VTIMEZONE
TZID:America/Phoenix
BEGIN:STANDARD
TZOFFSETFROM:-0700
TZOFFSETTO:-0700
TZNAME:MST
DTSTART:20250101T000000
END:STANDARD
END:VTIMEZONE
BEGIN:VEVENT
DTSTART;TZID=America/Phoenix:20260815T150000
DTEND;TZID=America/Phoenix:20260815T180000
DTSTAMP:20260419T221619
CREATED:20240725T214417Z
LAST-MODIFIED:20240725T214417Z
UID:10009605-1786806000-1786816800@www.ygcc.org
SUMMARY:Happy Hour
DESCRIPTION:
URL:https://www.ygcc.org/event/happy-hour/2026-08-15/
END:VEVENT
BEGIN:VEVENT
DTSTART;TZID=America/Phoenix:20260818T150000
DTEND;TZID=America/Phoenix:20260818T180000
DTSTAMP:20260419T221620
CREATED:20240725T214417Z
LAST-MODIFIED:20240725T214417Z
UID:10009606-1787065200-1787076000@www.ygcc.org
SUMMARY:Happy Hour
DESCRIPTION:
URL:https://www.ygcc.org/event/happy-hour/2026-08-18/
END:VEVENT
BEGIN:VEVENT
DTSTART;TZID=America/Phoenix:20260819T150000
DTEND;TZID=America/Phoenix:20260819T180000
DTSTAMP:20260419T221620
CREATED:20240725T214417Z
LAST-MODIFIED:20240725T214417Z
UID:10009607-1787151600-1787162400@www.ygcc.org
SUMMARY:Happy Hour
DESCRIPTION:
URL:https://www.ygcc.org/event/happy-hour/2026-08-19/
END:VEVENT
BEGIN:VEVENT
DTSTART;TZID=America/Phoenix:20260820T150000
DTEND;TZID=America/Phoenix:20260820T180000
DTSTAMP:20260419T221620
CREATED:20240725T214417Z
LAST-MODIFIED:20240725T214417Z
UID:10009608-1787238000-1787248800@www.ygcc.org
SUMMARY:Happy Hour
DESCRIPTION:
URL:https://www.ygcc.org/event/happy-hour/2026-08-20/
END:VEVENT
BEGIN:VEVENT
DTSTART;TZID=America/Phoenix:20260821T150000
DTEND;TZID=America/Phoenix:20260821T180000
DTSTAMP:20260419T221620
CREATED:20240725T214417Z
LAST-MODIFIED:20240725T214417Z
UID:10009609-1787324400-1787335200@www.ygcc.org
SUMMARY:Happy Hour
DESCRIPTION:
URL:https://www.ygcc.org/event/happy-hour/2026-08-21/
END:VEVENT
BEGIN:VEVENT
DTSTART;TZID=America/Phoenix:20260822T150000
DTEND;TZID=America/Phoenix:20260822T180000
DTSTAMP:20260419T221620
CREATED:20240725T214417Z
LAST-MODIFIED:20240725T214417Z
UID:10009610-1787410800-1787421600@www.ygcc.org
SUMMARY:Happy Hour
DESCRIPTION:
URL:https://www.ygcc.org/event/happy-hour/2026-08-22/
END:VEVENT
BEGIN:VEVENT
DTSTART;TZID=America/Phoenix:20260825T150000
DTEND;TZID=America/Phoenix:20260825T180000
DTSTAMP:20260419T221620
CREATED:20240725T214417Z
LAST-MODIFIED:20240725T214417Z
UID:10009611-1787670000-1787680800@www.ygcc.org
SUMMARY:Happy Hour
DESCRIPTION:
URL:https://www.ygcc.org/event/happy-hour/2026-08-25/
END:VEVENT
BEGIN:VEVENT
DTSTART;TZID=America/Phoenix:20260826T150000
DTEND;TZID=America/Phoenix:20260826T180000
DTSTAMP:20260419T221620
CREATED:20240725T214417Z
LAST-MODIFIED:20240725T214417Z
UID:10009612-1787756400-1787767200@www.ygcc.org
SUMMARY:Happy Hour
DESCRIPTION:
URL:https://www.ygcc.org/event/happy-hour/2026-08-26/
END:VEVENT
BEGIN:VEVENT
DTSTART;TZID=America/Phoenix:20260827T150000
DTEND;TZID=America/Phoenix:20260827T180000
DTSTAMP:20260419T221620
CREATED:20240725T214417Z
LAST-MODIFIED:20240725T214417Z
UID:10009613-1787842800-1787853600@www.ygcc.org
SUMMARY:Happy Hour
DESCRIPTION:
URL:https://www.ygcc.org/event/happy-hour/2026-08-27/
END:VEVENT
BEGIN:VEVENT
DTSTART;TZID=America/Phoenix:20260828T150000
DTEND;TZID=America/Phoenix:20260828T180000
DTSTAMP:20260419T221620
CREATED:20240725T214417Z
LAST-MODIFIED:20240725T214417Z
UID:10009614-1787929200-1787940000@www.ygcc.org
SUMMARY:Happy Hour
DESCRIPTION:
URL:https://www.ygcc.org/event/happy-hour/2026-08-28/
END:VEVENT
BEGIN:VEVENT
DTSTART;TZID=America/Phoenix:20260829T150000
DTEND;TZID=America/Phoenix:20260829T180000
DTSTAMP:20260419T221620
CREATED:20240725T214417Z
LAST-MODIFIED:20240725T214417Z
UID:10009615-1788015600-1788026400@www.ygcc.org
SUMMARY:Happy Hour
DESCRIPTION:
URL:https://www.ygcc.org/event/happy-hour/2026-08-29/
END:VEVENT
BEGIN:VEVENT
DTSTART;TZID=America/Phoenix:20260901T150000
DTEND;TZID=America/Phoenix:20260901T180000
DTSTAMP:20260419T221620
CREATED:20240725T214417Z
LAST-MODIFIED:20240725T214417Z
UID:10009616-1788274800-1788285600@www.ygcc.org
SUMMARY:Happy Hour
DESCRIPTION:
URL:https://www.ygcc.org/event/happy-hour/2026-09-01/
END:VEVENT
BEGIN:VEVENT
DTSTART;TZID=America/Phoenix:20260902T150000
DTEND;TZID=America/Phoenix:20260902T180000
DTSTAMP:20260419T221620
CREATED:20240725T214417Z
LAST-MODIFIED:20240725T214417Z
UID:10009617-1788361200-1788372000@www.ygcc.org
SUMMARY:Happy Hour
DESCRIPTION:
URL:https://www.ygcc.org/event/happy-hour/2026-09-02/
END:VEVENT
BEGIN:VEVENT
DTSTART;TZID=America/Phoenix:20260903T150000
DTEND;TZID=America/Phoenix:20260903T180000
DTSTAMP:20260419T221620
CREATED:20240725T214417Z
LAST-MODIFIED:20240725T214417Z
UID:10009618-1788447600-1788458400@www.ygcc.org
SUMMARY:Happy Hour
DESCRIPTION:
URL:https://www.ygcc.org/event/happy-hour/2026-09-03/
END:VEVENT
BEGIN:VEVENT
DTSTART;TZID=America/Phoenix:20260904T150000
DTEND;TZID=America/Phoenix:20260904T180000
DTSTAMP:20260419T221620
CREATED:20240725T214417Z
LAST-MODIFIED:20240725T214417Z
UID:10009619-1788534000-1788544800@www.ygcc.org
SUMMARY:Happy Hour
DESCRIPTION:
URL:https://www.ygcc.org/event/happy-hour/2026-09-04/
END:VEVENT
BEGIN:VEVENT
DTSTART;TZID=America/Phoenix:20260905T150000
DTEND;TZID=America/Phoenix:20260905T180000
DTSTAMP:20260419T221620
CREATED:20240725T214417Z
LAST-MODIFIED:20240725T214417Z
UID:10009620-1788620400-1788631200@www.ygcc.org
SUMMARY:Happy Hour
DESCRIPTION:
URL:https://www.ygcc.org/event/happy-hour/2026-09-05/
END:VEVENT
BEGIN:VEVENT
DTSTART;TZID=America/Phoenix:20260908T150000
DTEND;TZID=America/Phoenix:20260908T180000
DTSTAMP:20260419T221620
CREATED:20240725T214417Z
LAST-MODIFIED:20240725T214417Z
UID:10009621-1788879600-1788890400@www.ygcc.org
SUMMARY:Happy Hour
DESCRIPTION:
URL:https://www.ygcc.org/event/happy-hour/2026-09-08/
END:VEVENT
BEGIN:VEVENT
DTSTART;TZID=America/Phoenix:20260909T150000
DTEND;TZID=America/Phoenix:20260909T180000
DTSTAMP:20260419T221620
CREATED:20240725T214417Z
LAST-MODIFIED:20240725T214417Z
UID:10009622-1788966000-1788976800@www.ygcc.org
SUMMARY:Happy Hour
DESCRIPTION:
URL:https://www.ygcc.org/event/happy-hour/2026-09-09/
END:VEVENT
BEGIN:VEVENT
DTSTART;TZID=America/Phoenix:20260910T150000
DTEND;TZID=America/Phoenix:20260910T180000
DTSTAMP:20260419T221620
CREATED:20240725T214417Z
LAST-MODIFIED:20240725T214417Z
UID:10009623-1789052400-1789063200@www.ygcc.org
SUMMARY:Happy Hour
DESCRIPTION:
URL:https://www.ygcc.org/event/happy-hour/2026-09-10/
END:VEVENT
BEGIN:VEVENT
DTSTART;TZID=America/Phoenix:20260911T150000
DTEND;TZID=America/Phoenix:20260911T180000
DTSTAMP:20260419T221620
CREATED:20240725T214417Z
LAST-MODIFIED:20240725T214417Z
UID:10009624-1789138800-1789149600@www.ygcc.org
SUMMARY:Happy Hour
DESCRIPTION:
URL:https://www.ygcc.org/event/happy-hour/2026-09-11/
END:VEVENT
BEGIN:VEVENT
DTSTART;TZID=America/Phoenix:20260912T150000
DTEND;TZID=America/Phoenix:20260912T180000
DTSTAMP:20260419T221620
CREATED:20240725T214417Z
LAST-MODIFIED:20240725T214417Z
UID:10009625-1789225200-1789236000@www.ygcc.org
SUMMARY:Happy Hour
DESCRIPTION:
URL:https://www.ygcc.org/event/happy-hour/2026-09-12/
END:VEVENT
BEGIN:VEVENT
DTSTART;TZID=America/Phoenix:20260915T150000
DTEND;TZID=America/Phoenix:20260915T180000
DTSTAMP:20260419T221620
CREATED:20240725T214417Z
LAST-MODIFIED:20240725T214417Z
UID:10009626-1789484400-1789495200@www.ygcc.org
SUMMARY:Happy Hour
DESCRIPTION:
URL:https://www.ygcc.org/event/happy-hour/2026-09-15/
END:VEVENT
BEGIN:VEVENT
DTSTART;TZID=America/Phoenix:20260916T150000
DTEND;TZID=America/Phoenix:20260916T180000
DTSTAMP:20260419T221620
CREATED:20240725T214417Z
LAST-MODIFIED:20240725T214417Z
UID:10009627-1789570800-1789581600@www.ygcc.org
SUMMARY:Happy Hour
DESCRIPTION:
URL:https://www.ygcc.org/event/happy-hour/2026-09-16/
END:VEVENT
BEGIN:VEVENT
DTSTART;TZID=America/Phoenix:20260917T150000
DTEND;TZID=America/Phoenix:20260917T180000
DTSTAMP:20260419T221620
CREATED:20240725T214417Z
LAST-MODIFIED:20240725T214417Z
UID:10009628-1789657200-1789668000@www.ygcc.org
SUMMARY:Happy Hour
DESCRIPTION:
URL:https://www.ygcc.org/event/happy-hour/2026-09-17/
END:VEVENT
BEGIN:VEVENT
DTSTART;TZID=America/Phoenix:20260918T150000
DTEND;TZID=America/Phoenix:20260918T180000
DTSTAMP:20260419T221620
CREATED:20240725T214417Z
LAST-MODIFIED:20240725T214417Z
UID:10009629-1789743600-1789754400@www.ygcc.org
SUMMARY:Happy Hour
DESCRIPTION:
URL:https://www.ygcc.org/event/happy-hour/2026-09-18/
END:VEVENT
BEGIN:VEVENT
DTSTART;TZID=America/Phoenix:20260919T150000
DTEND;TZID=America/Phoenix:20260919T180000
DTSTAMP:20260419T221620
CREATED:20240725T214417Z
LAST-MODIFIED:20240725T214417Z
UID:10009630-1789830000-1789840800@www.ygcc.org
SUMMARY:Happy Hour
DESCRIPTION:
URL:https://www.ygcc.org/event/happy-hour/2026-09-19/
END:VEVENT
BEGIN:VEVENT
DTSTART;TZID=America/Phoenix:20260922T150000
DTEND;TZID=America/Phoenix:20260922T180000
DTSTAMP:20260419T221620
CREATED:20240725T214417Z
LAST-MODIFIED:20240725T214417Z
UID:10009631-1790089200-1790100000@www.ygcc.org
SUMMARY:Happy Hour
DESCRIPTION:
URL:https://www.ygcc.org/event/happy-hour/2026-09-22/
END:VEVENT
BEGIN:VEVENT
DTSTART;TZID=America/Phoenix:20260923T150000
DTEND;TZID=America/Phoenix:20260923T180000
DTSTAMP:20260419T221620
CREATED:20240725T214417Z
LAST-MODIFIED:20240725T214417Z
UID:10009632-1790175600-1790186400@www.ygcc.org
SUMMARY:Happy Hour
DESCRIPTION:
URL:https://www.ygcc.org/event/happy-hour/2026-09-23/
END:VEVENT
BEGIN:VEVENT
DTSTART;TZID=America/Phoenix:20260924T150000
DTEND;TZID=America/Phoenix:20260924T180000
DTSTAMP:20260419T221620
CREATED:20240725T214417Z
LAST-MODIFIED:20240725T214417Z
UID:10009633-1790262000-1790272800@www.ygcc.org
SUMMARY:Happy Hour
DESCRIPTION:
URL:https://www.ygcc.org/event/happy-hour/2026-09-24/
END:VEVENT
BEGIN:VEVENT
DTSTART;TZID=America/Phoenix:20260925T150000
DTEND;TZID=America/Phoenix:20260925T180000
DTSTAMP:20260419T221620
CREATED:20240725T214417Z
LAST-MODIFIED:20240725T214417Z
UID:10009634-1790348400-1790359200@www.ygcc.org
SUMMARY:Happy Hour
DESCRIPTION:
URL:https://www.ygcc.org/event/happy-hour/2026-09-25/
END:VEVENT
END:VCALENDAR