BEGIN:VCALENDAR
VERSION:2.0
PRODID:-//Yuma Golf &amp; Country Club - ECPv6.15.18//NONSGML v1.0//EN
CALSCALE:GREGORIAN
METHOD:PUBLISH
X-ORIGINAL-URL:https://www.ygcc.org
X-WR-CALDESC:Events for Yuma Golf &amp; Country Club
REFRESH-INTERVAL;VALUE=DURATION:PT1H
X-Robots-Tag:noindex
X-PUBLISHED-TTL:PT1H
BEGIN:VTIMEZONE
TZID:America/Phoenix
BEGIN:STANDARD
TZOFFSETFROM:-0700
TZOFFSETTO:-0700
TZNAME:MST
DTSTART:20260101T000000
END:STANDARD
END:VTIMEZONE
BEGIN:VEVENT
DTSTART;TZID=America/Phoenix:20271201T110000
DTEND;TZID=America/Phoenix:20271201T180000
DTSTAMP:20260421T012426
CREATED:20240725T214050Z
LAST-MODIFIED:20240725T214050Z
UID:10008723-1827658800-1827684000@www.ygcc.org
SUMMARY:Wing Wednesday
DESCRIPTION:
URL:https://www.ygcc.org/event/wing-wednesday/2027-12-01/
END:VEVENT
BEGIN:VEVENT
DTSTART;TZID=America/Phoenix:20271208T110000
DTEND;TZID=America/Phoenix:20271208T180000
DTSTAMP:20260421T012426
CREATED:20240725T214050Z
LAST-MODIFIED:20240725T214050Z
UID:10008724-1828263600-1828288800@www.ygcc.org
SUMMARY:Wing Wednesday
DESCRIPTION:
URL:https://www.ygcc.org/event/wing-wednesday/2027-12-08/
END:VEVENT
BEGIN:VEVENT
DTSTART;TZID=America/Phoenix:20271215T110000
DTEND;TZID=America/Phoenix:20271215T180000
DTSTAMP:20260421T012426
CREATED:20240725T214050Z
LAST-MODIFIED:20240725T214050Z
UID:10008725-1828868400-1828893600@www.ygcc.org
SUMMARY:Wing Wednesday
DESCRIPTION:
URL:https://www.ygcc.org/event/wing-wednesday/2027-12-15/
END:VEVENT
BEGIN:VEVENT
DTSTART;TZID=America/Phoenix:20271222T110000
DTEND;TZID=America/Phoenix:20271222T180000
DTSTAMP:20260421T012426
CREATED:20240725T214050Z
LAST-MODIFIED:20240725T214050Z
UID:10008726-1829473200-1829498400@www.ygcc.org
SUMMARY:Wing Wednesday
DESCRIPTION:
URL:https://www.ygcc.org/event/wing-wednesday/2027-12-22/
END:VEVENT
BEGIN:VEVENT
DTSTART;TZID=America/Phoenix:20271229T110000
DTEND;TZID=America/Phoenix:20271229T180000
DTSTAMP:20260421T012426
CREATED:20240725T214050Z
LAST-MODIFIED:20240725T214050Z
UID:10008727-1830078000-1830103200@www.ygcc.org
SUMMARY:Wing Wednesday
DESCRIPTION:
URL:https://www.ygcc.org/event/wing-wednesday/2027-12-29/
END:VEVENT
BEGIN:VEVENT
DTSTART;TZID=America/Phoenix:20280105T110000
DTEND;TZID=America/Phoenix:20280105T180000
DTSTAMP:20260421T012426
CREATED:20240725T214050Z
LAST-MODIFIED:20240725T214050Z
UID:10008728-1830682800-1830708000@www.ygcc.org
SUMMARY:Wing Wednesday
DESCRIPTION:
URL:https://www.ygcc.org/event/wing-wednesday/2028-01-05/
END:VEVENT
BEGIN:VEVENT
DTSTART;TZID=America/Phoenix:20280112T110000
DTEND;TZID=America/Phoenix:20280112T180000
DTSTAMP:20260421T012426
CREATED:20240725T214050Z
LAST-MODIFIED:20240725T214050Z
UID:10008729-1831287600-1831312800@www.ygcc.org
SUMMARY:Wing Wednesday
DESCRIPTION:
URL:https://www.ygcc.org/event/wing-wednesday/2028-01-12/
END:VEVENT
BEGIN:VEVENT
DTSTART;TZID=America/Phoenix:20280119T110000
DTEND;TZID=America/Phoenix:20280119T180000
DTSTAMP:20260421T012426
CREATED:20240725T214050Z
LAST-MODIFIED:20240725T214050Z
UID:10008730-1831892400-1831917600@www.ygcc.org
SUMMARY:Wing Wednesday
DESCRIPTION:
URL:https://www.ygcc.org/event/wing-wednesday/2028-01-19/
END:VEVENT
BEGIN:VEVENT
DTSTART;TZID=America/Phoenix:20280126T110000
DTEND;TZID=America/Phoenix:20280126T180000
DTSTAMP:20260421T012426
CREATED:20240725T214050Z
LAST-MODIFIED:20240725T214050Z
UID:10008731-1832497200-1832522400@www.ygcc.org
SUMMARY:Wing Wednesday
DESCRIPTION:
URL:https://www.ygcc.org/event/wing-wednesday/2028-01-26/
END:VEVENT
BEGIN:VEVENT
DTSTART;TZID=America/Phoenix:20280202T110000
DTEND;TZID=America/Phoenix:20280202T180000
DTSTAMP:20260421T012426
CREATED:20240725T214050Z
LAST-MODIFIED:20240725T214050Z
UID:10008732-1833102000-1833127200@www.ygcc.org
SUMMARY:Wing Wednesday
DESCRIPTION:
URL:https://www.ygcc.org/event/wing-wednesday/2028-02-02/
END:VEVENT
BEGIN:VEVENT
DTSTART;TZID=America/Phoenix:20280209T110000
DTEND;TZID=America/Phoenix:20280209T180000
DTSTAMP:20260421T012426
CREATED:20240725T214050Z
LAST-MODIFIED:20240725T214050Z
UID:10008733-1833706800-1833732000@www.ygcc.org
SUMMARY:Wing Wednesday
DESCRIPTION:
URL:https://www.ygcc.org/event/wing-wednesday/2028-02-09/
END:VEVENT
BEGIN:VEVENT
DTSTART;TZID=America/Phoenix:20280216T110000
DTEND;TZID=America/Phoenix:20280216T180000
DTSTAMP:20260421T012426
CREATED:20240725T214050Z
LAST-MODIFIED:20240725T214050Z
UID:10008734-1834311600-1834336800@www.ygcc.org
SUMMARY:Wing Wednesday
DESCRIPTION:
URL:https://www.ygcc.org/event/wing-wednesday/2028-02-16/
END:VEVENT
BEGIN:VEVENT
DTSTART;TZID=America/Phoenix:20280223T110000
DTEND;TZID=America/Phoenix:20280223T180000
DTSTAMP:20260421T012426
CREATED:20240725T214050Z
LAST-MODIFIED:20240725T214050Z
UID:10008735-1834916400-1834941600@www.ygcc.org
SUMMARY:Wing Wednesday
DESCRIPTION:
URL:https://www.ygcc.org/event/wing-wednesday/2028-02-23/
END:VEVENT
BEGIN:VEVENT
DTSTART;TZID=America/Phoenix:20280301T110000
DTEND;TZID=America/Phoenix:20280301T180000
DTSTAMP:20260421T012426
CREATED:20240725T214050Z
LAST-MODIFIED:20240725T214050Z
UID:10008736-1835521200-1835546400@www.ygcc.org
SUMMARY:Wing Wednesday
DESCRIPTION:
URL:https://www.ygcc.org/event/wing-wednesday/2028-03-01/
END:VEVENT
BEGIN:VEVENT
DTSTART;TZID=America/Phoenix:20280308T110000
DTEND;TZID=America/Phoenix:20280308T180000
DTSTAMP:20260421T012426
CREATED:20240725T214050Z
LAST-MODIFIED:20240725T214050Z
UID:10008737-1836126000-1836151200@www.ygcc.org
SUMMARY:Wing Wednesday
DESCRIPTION:
URL:https://www.ygcc.org/event/wing-wednesday/2028-03-08/
END:VEVENT
BEGIN:VEVENT
DTSTART;TZID=America/Phoenix:20280315T110000
DTEND;TZID=America/Phoenix:20280315T180000
DTSTAMP:20260421T012426
CREATED:20240725T214050Z
LAST-MODIFIED:20240725T214050Z
UID:10008738-1836730800-1836756000@www.ygcc.org
SUMMARY:Wing Wednesday
DESCRIPTION:
URL:https://www.ygcc.org/event/wing-wednesday/2028-03-15/
END:VEVENT
BEGIN:VEVENT
DTSTART;TZID=America/Phoenix:20280322T110000
DTEND;TZID=America/Phoenix:20280322T180000
DTSTAMP:20260421T012426
CREATED:20240725T214050Z
LAST-MODIFIED:20240725T214050Z
UID:10008739-1837335600-1837360800@www.ygcc.org
SUMMARY:Wing Wednesday
DESCRIPTION:
URL:https://www.ygcc.org/event/wing-wednesday/2028-03-22/
END:VEVENT
BEGIN:VEVENT
DTSTART;TZID=America/Phoenix:20280329T110000
DTEND;TZID=America/Phoenix:20280329T180000
DTSTAMP:20260421T012426
CREATED:20240725T214050Z
LAST-MODIFIED:20240725T214050Z
UID:10008740-1837940400-1837965600@www.ygcc.org
SUMMARY:Wing Wednesday
DESCRIPTION:
URL:https://www.ygcc.org/event/wing-wednesday/2028-03-29/
END:VEVENT
BEGIN:VEVENT
DTSTART;TZID=America/Phoenix:20280405T110000
DTEND;TZID=America/Phoenix:20280405T180000
DTSTAMP:20260421T012426
CREATED:20240725T214050Z
LAST-MODIFIED:20240725T214050Z
UID:10008741-1838545200-1838570400@www.ygcc.org
SUMMARY:Wing Wednesday
DESCRIPTION:
URL:https://www.ygcc.org/event/wing-wednesday/2028-04-05/
END:VEVENT
BEGIN:VEVENT
DTSTART;TZID=America/Phoenix:20280412T110000
DTEND;TZID=America/Phoenix:20280412T180000
DTSTAMP:20260421T012426
CREATED:20240725T214050Z
LAST-MODIFIED:20240725T214050Z
UID:10008742-1839150000-1839175200@www.ygcc.org
SUMMARY:Wing Wednesday
DESCRIPTION:
URL:https://www.ygcc.org/event/wing-wednesday/2028-04-12/
END:VEVENT
BEGIN:VEVENT
DTSTART;TZID=America/Phoenix:20280419T110000
DTEND;TZID=America/Phoenix:20280419T180000
DTSTAMP:20260421T012426
CREATED:20240725T214050Z
LAST-MODIFIED:20240725T214050Z
UID:10008743-1839754800-1839780000@www.ygcc.org
SUMMARY:Wing Wednesday
DESCRIPTION:
URL:https://www.ygcc.org/event/wing-wednesday/2028-04-19/
END:VEVENT
BEGIN:VEVENT
DTSTART;TZID=America/Phoenix:20280426T110000
DTEND;TZID=America/Phoenix:20280426T180000
DTSTAMP:20260421T012426
CREATED:20240725T214050Z
LAST-MODIFIED:20240725T214050Z
UID:10008744-1840359600-1840384800@www.ygcc.org
SUMMARY:Wing Wednesday
DESCRIPTION:
URL:https://www.ygcc.org/event/wing-wednesday/2028-04-26/
END:VEVENT
BEGIN:VEVENT
DTSTART;TZID=America/Phoenix:20280503T110000
DTEND;TZID=America/Phoenix:20280503T180000
DTSTAMP:20260421T012426
CREATED:20240725T214050Z
LAST-MODIFIED:20240725T214050Z
UID:10008745-1840964400-1840989600@www.ygcc.org
SUMMARY:Wing Wednesday
DESCRIPTION:
URL:https://www.ygcc.org/event/wing-wednesday/2028-05-03/
END:VEVENT
BEGIN:VEVENT
DTSTART;TZID=America/Phoenix:20280510T110000
DTEND;TZID=America/Phoenix:20280510T180000
DTSTAMP:20260421T012426
CREATED:20240725T214050Z
LAST-MODIFIED:20240725T214050Z
UID:10008746-1841569200-1841594400@www.ygcc.org
SUMMARY:Wing Wednesday
DESCRIPTION:
URL:https://www.ygcc.org/event/wing-wednesday/2028-05-10/
END:VEVENT
BEGIN:VEVENT
DTSTART;TZID=America/Phoenix:20280517T110000
DTEND;TZID=America/Phoenix:20280517T180000
DTSTAMP:20260421T012426
CREATED:20240725T214050Z
LAST-MODIFIED:20240725T214050Z
UID:10008747-1842174000-1842199200@www.ygcc.org
SUMMARY:Wing Wednesday
DESCRIPTION:
URL:https://www.ygcc.org/event/wing-wednesday/2028-05-17/
END:VEVENT
BEGIN:VEVENT
DTSTART;TZID=America/Phoenix:20280524T110000
DTEND;TZID=America/Phoenix:20280524T180000
DTSTAMP:20260421T012426
CREATED:20240725T214050Z
LAST-MODIFIED:20240725T214050Z
UID:10008748-1842778800-1842804000@www.ygcc.org
SUMMARY:Wing Wednesday
DESCRIPTION:
URL:https://www.ygcc.org/event/wing-wednesday/2028-05-24/
END:VEVENT
BEGIN:VEVENT
DTSTART;TZID=America/Phoenix:20280531T110000
DTEND;TZID=America/Phoenix:20280531T180000
DTSTAMP:20260421T012426
CREATED:20240725T214050Z
LAST-MODIFIED:20240725T214050Z
UID:10008749-1843383600-1843408800@www.ygcc.org
SUMMARY:Wing Wednesday
DESCRIPTION:
URL:https://www.ygcc.org/event/wing-wednesday/2028-05-31/
END:VEVENT
BEGIN:VEVENT
DTSTART;TZID=America/Phoenix:20280607T110000
DTEND;TZID=America/Phoenix:20280607T180000
DTSTAMP:20260421T012426
CREATED:20240725T214050Z
LAST-MODIFIED:20240725T214050Z
UID:10008750-1843988400-1844013600@www.ygcc.org
SUMMARY:Wing Wednesday
DESCRIPTION:
URL:https://www.ygcc.org/event/wing-wednesday/2028-06-07/
END:VEVENT
BEGIN:VEVENT
DTSTART;TZID=America/Phoenix:20280614T110000
DTEND;TZID=America/Phoenix:20280614T180000
DTSTAMP:20260421T012426
CREATED:20240725T214050Z
LAST-MODIFIED:20240725T214050Z
UID:10008751-1844593200-1844618400@www.ygcc.org
SUMMARY:Wing Wednesday
DESCRIPTION:
URL:https://www.ygcc.org/event/wing-wednesday/2028-06-14/
END:VEVENT
BEGIN:VEVENT
DTSTART;TZID=America/Phoenix:20280621T110000
DTEND;TZID=America/Phoenix:20280621T180000
DTSTAMP:20260421T012426
CREATED:20240725T214050Z
LAST-MODIFIED:20240725T214050Z
UID:10008752-1845198000-1845223200@www.ygcc.org
SUMMARY:Wing Wednesday
DESCRIPTION:
URL:https://www.ygcc.org/event/wing-wednesday/2028-06-21/
END:VEVENT
END:VCALENDAR