BEGIN:VCALENDAR
VERSION:2.0
PRODID:-//Yuma Golf &amp; Country Club - ECPv6.15.18//NONSGML v1.0//EN
CALSCALE:GREGORIAN
METHOD:PUBLISH
X-WR-CALNAME:Yuma Golf &amp; Country Club
X-ORIGINAL-URL:https://www.ygcc.org
X-WR-CALDESC:Events for Yuma Golf &amp; Country Club
REFRESH-INTERVAL;VALUE=DURATION:PT1H
X-Robots-Tag:noindex
X-PUBLISHED-TTL:PT1H
BEGIN:VTIMEZONE
TZID:America/Phoenix
BEGIN:STANDARD
TZOFFSETFROM:-0700
TZOFFSETTO:-0700
TZNAME:MST
DTSTART:20250101T000000
END:STANDARD
END:VTIMEZONE
BEGIN:VEVENT
DTSTART;TZID=America/Phoenix:20260419T070000
DTEND;TZID=America/Phoenix:20260419T110000
DTSTAMP:20260419T092207
CREATED:20240625T180112Z
LAST-MODIFIED:20240625T180117Z
UID:10007684-1776582000-1776596400@www.ygcc.org
SUMMARY:Breakfast
DESCRIPTION:
URL:https://www.ygcc.org/event/breakfast-2/2026-04-19/
END:VEVENT
BEGIN:VEVENT
DTSTART;TZID=America/Phoenix:20260424T070000
DTEND;TZID=America/Phoenix:20260424T110000
DTSTAMP:20260419T092207
CREATED:20240625T180112Z
LAST-MODIFIED:20240625T180117Z
UID:10000337-1777014000-1777028400@www.ygcc.org
SUMMARY:Breakfast
DESCRIPTION:
URL:https://www.ygcc.org/event/breakfast-2/2026-04-24/
END:VEVENT
BEGIN:VEVENT
DTSTART;TZID=America/Phoenix:20260425T070000
DTEND;TZID=America/Phoenix:20260425T110000
DTSTAMP:20260419T092207
CREATED:20240625T180112Z
LAST-MODIFIED:20240625T180117Z
UID:10007685-1777100400-1777114800@www.ygcc.org
SUMMARY:Breakfast
DESCRIPTION:
URL:https://www.ygcc.org/event/breakfast-2/2026-04-25/
END:VEVENT
BEGIN:VEVENT
DTSTART;TZID=America/Phoenix:20260426T070000
DTEND;TZID=America/Phoenix:20260426T110000
DTSTAMP:20260419T092207
CREATED:20240625T180112Z
LAST-MODIFIED:20240625T180117Z
UID:10000338-1777186800-1777201200@www.ygcc.org
SUMMARY:Breakfast
DESCRIPTION:
URL:https://www.ygcc.org/event/breakfast-2/2026-04-26/
END:VEVENT
BEGIN:VEVENT
DTSTART;TZID=America/Phoenix:20260501T070000
DTEND;TZID=America/Phoenix:20260501T110000
DTSTAMP:20260419T092207
CREATED:20240625T180112Z
LAST-MODIFIED:20240625T180117Z
UID:10007686-1777618800-1777633200@www.ygcc.org
SUMMARY:Breakfast
DESCRIPTION:
URL:https://www.ygcc.org/event/breakfast-2/2026-05-01/
END:VEVENT
BEGIN:VEVENT
DTSTART;TZID=America/Phoenix:20260502T070000
DTEND;TZID=America/Phoenix:20260502T110000
DTSTAMP:20260419T092207
CREATED:20240625T180112Z
LAST-MODIFIED:20240625T180117Z
UID:10000341-1777705200-1777719600@www.ygcc.org
SUMMARY:Breakfast
DESCRIPTION:
URL:https://www.ygcc.org/event/breakfast-2/2026-05-02/
END:VEVENT
BEGIN:VEVENT
DTSTART;TZID=America/Phoenix:20260503T070000
DTEND;TZID=America/Phoenix:20260503T110000
DTSTAMP:20260419T092207
CREATED:20240625T180112Z
LAST-MODIFIED:20240625T180117Z
UID:10007687-1777791600-1777806000@www.ygcc.org
SUMMARY:Breakfast
DESCRIPTION:
URL:https://www.ygcc.org/event/breakfast-2/2026-05-03/
END:VEVENT
BEGIN:VEVENT
DTSTART;TZID=America/Phoenix:20260508T070000
DTEND;TZID=America/Phoenix:20260508T110000
DTSTAMP:20260419T092207
CREATED:20240625T180112Z
LAST-MODIFIED:20240625T180117Z
UID:10000344-1778223600-1778238000@www.ygcc.org
SUMMARY:Breakfast
DESCRIPTION:
URL:https://www.ygcc.org/event/breakfast-2/2026-05-08/
END:VEVENT
BEGIN:VEVENT
DTSTART;TZID=America/Phoenix:20260509T070000
DTEND;TZID=America/Phoenix:20260509T110000
DTSTAMP:20260419T092207
CREATED:20240625T180112Z
LAST-MODIFIED:20240625T180117Z
UID:10007688-1778310000-1778324400@www.ygcc.org
SUMMARY:Breakfast
DESCRIPTION:
URL:https://www.ygcc.org/event/breakfast-2/2026-05-09/
END:VEVENT
BEGIN:VEVENT
DTSTART;TZID=America/Phoenix:20260510T070000
DTEND;TZID=America/Phoenix:20260510T110000
DTSTAMP:20260419T092207
CREATED:20240625T180112Z
LAST-MODIFIED:20240625T180117Z
UID:10000345-1778396400-1778410800@www.ygcc.org
SUMMARY:Breakfast
DESCRIPTION:
URL:https://www.ygcc.org/event/breakfast-2/2026-05-10/
END:VEVENT
BEGIN:VEVENT
DTSTART;TZID=America/Phoenix:20260515T070000
DTEND;TZID=America/Phoenix:20260515T110000
DTSTAMP:20260419T092207
CREATED:20240625T180112Z
LAST-MODIFIED:20240625T180117Z
UID:10007689-1778828400-1778842800@www.ygcc.org
SUMMARY:Breakfast
DESCRIPTION:
URL:https://www.ygcc.org/event/breakfast-2/2026-05-15/
END:VEVENT
BEGIN:VEVENT
DTSTART;TZID=America/Phoenix:20260516T070000
DTEND;TZID=America/Phoenix:20260516T110000
DTSTAMP:20260419T092207
CREATED:20240625T180112Z
LAST-MODIFIED:20240625T180117Z
UID:10000348-1778914800-1778929200@www.ygcc.org
SUMMARY:Breakfast
DESCRIPTION:
URL:https://www.ygcc.org/event/breakfast-2/2026-05-16/
END:VEVENT
BEGIN:VEVENT
DTSTART;TZID=America/Phoenix:20260517T070000
DTEND;TZID=America/Phoenix:20260517T110000
DTSTAMP:20260419T092207
CREATED:20240625T180112Z
LAST-MODIFIED:20240625T180117Z
UID:10007690-1779001200-1779015600@www.ygcc.org
SUMMARY:Breakfast
DESCRIPTION:
URL:https://www.ygcc.org/event/breakfast-2/2026-05-17/
END:VEVENT
BEGIN:VEVENT
DTSTART;TZID=America/Phoenix:20260522T070000
DTEND;TZID=America/Phoenix:20260522T110000
DTSTAMP:20260419T092207
CREATED:20240625T180112Z
LAST-MODIFIED:20240625T180117Z
UID:10000351-1779433200-1779447600@www.ygcc.org
SUMMARY:Breakfast
DESCRIPTION:
URL:https://www.ygcc.org/event/breakfast-2/2026-05-22/
END:VEVENT
BEGIN:VEVENT
DTSTART;TZID=America/Phoenix:20260523T070000
DTEND;TZID=America/Phoenix:20260523T110000
DTSTAMP:20260419T092207
CREATED:20240625T180112Z
LAST-MODIFIED:20240625T180117Z
UID:10007691-1779519600-1779534000@www.ygcc.org
SUMMARY:Breakfast
DESCRIPTION:
URL:https://www.ygcc.org/event/breakfast-2/2026-05-23/
END:VEVENT
BEGIN:VEVENT
DTSTART;TZID=America/Phoenix:20260524T070000
DTEND;TZID=America/Phoenix:20260524T110000
DTSTAMP:20260419T092207
CREATED:20240625T180112Z
LAST-MODIFIED:20240625T180117Z
UID:10000352-1779606000-1779620400@www.ygcc.org
SUMMARY:Breakfast
DESCRIPTION:
URL:https://www.ygcc.org/event/breakfast-2/2026-05-24/
END:VEVENT
BEGIN:VEVENT
DTSTART;TZID=America/Phoenix:20260529T070000
DTEND;TZID=America/Phoenix:20260529T110000
DTSTAMP:20260419T092207
CREATED:20240625T180112Z
LAST-MODIFIED:20240625T180117Z
UID:10007692-1780038000-1780052400@www.ygcc.org
SUMMARY:Breakfast
DESCRIPTION:
URL:https://www.ygcc.org/event/breakfast-2/2026-05-29/
END:VEVENT
BEGIN:VEVENT
DTSTART;TZID=America/Phoenix:20260530T070000
DTEND;TZID=America/Phoenix:20260530T110000
DTSTAMP:20260419T092207
CREATED:20240625T180112Z
LAST-MODIFIED:20240625T180117Z
UID:10000355-1780124400-1780138800@www.ygcc.org
SUMMARY:Breakfast
DESCRIPTION:
URL:https://www.ygcc.org/event/breakfast-2/2026-05-30/
END:VEVENT
BEGIN:VEVENT
DTSTART;TZID=America/Phoenix:20260531T070000
DTEND;TZID=America/Phoenix:20260531T110000
DTSTAMP:20260419T092207
CREATED:20240625T180112Z
LAST-MODIFIED:20240625T180117Z
UID:10007693-1780210800-1780225200@www.ygcc.org
SUMMARY:Breakfast
DESCRIPTION:
URL:https://www.ygcc.org/event/breakfast-2/2026-05-31/
END:VEVENT
BEGIN:VEVENT
DTSTART;TZID=America/Phoenix:20260605T070000
DTEND;TZID=America/Phoenix:20260605T110000
DTSTAMP:20260419T092207
CREATED:20240625T180112Z
LAST-MODIFIED:20240625T180117Z
UID:10000358-1780642800-1780657200@www.ygcc.org
SUMMARY:Breakfast
DESCRIPTION:
URL:https://www.ygcc.org/event/breakfast-2/2026-06-05/
END:VEVENT
BEGIN:VEVENT
DTSTART;TZID=America/Phoenix:20260606T070000
DTEND;TZID=America/Phoenix:20260606T110000
DTSTAMP:20260419T092207
CREATED:20240625T180112Z
LAST-MODIFIED:20240625T180117Z
UID:10007694-1780729200-1780743600@www.ygcc.org
SUMMARY:Breakfast
DESCRIPTION:
URL:https://www.ygcc.org/event/breakfast-2/2026-06-06/
END:VEVENT
BEGIN:VEVENT
DTSTART;TZID=America/Phoenix:20260607T070000
DTEND;TZID=America/Phoenix:20260607T110000
DTSTAMP:20260419T092207
CREATED:20240625T180112Z
LAST-MODIFIED:20240625T180117Z
UID:10000359-1780815600-1780830000@www.ygcc.org
SUMMARY:Breakfast
DESCRIPTION:
URL:https://www.ygcc.org/event/breakfast-2/2026-06-07/
END:VEVENT
BEGIN:VEVENT
DTSTART;TZID=America/Phoenix:20260612T070000
DTEND;TZID=America/Phoenix:20260612T110000
DTSTAMP:20260419T092207
CREATED:20240625T180112Z
LAST-MODIFIED:20240625T180117Z
UID:10007695-1781247600-1781262000@www.ygcc.org
SUMMARY:Breakfast
DESCRIPTION:
URL:https://www.ygcc.org/event/breakfast-2/2026-06-12/
END:VEVENT
BEGIN:VEVENT
DTSTART;TZID=America/Phoenix:20260613T070000
DTEND;TZID=America/Phoenix:20260613T110000
DTSTAMP:20260419T092207
CREATED:20240625T180112Z
LAST-MODIFIED:20240625T180117Z
UID:10000362-1781334000-1781348400@www.ygcc.org
SUMMARY:Breakfast
DESCRIPTION:
URL:https://www.ygcc.org/event/breakfast-2/2026-06-13/
END:VEVENT
BEGIN:VEVENT
DTSTART;TZID=America/Phoenix:20260614T070000
DTEND;TZID=America/Phoenix:20260614T110000
DTSTAMP:20260419T092207
CREATED:20240625T180112Z
LAST-MODIFIED:20240625T180117Z
UID:10007696-1781420400-1781434800@www.ygcc.org
SUMMARY:Breakfast
DESCRIPTION:
URL:https://www.ygcc.org/event/breakfast-2/2026-06-14/
END:VEVENT
BEGIN:VEVENT
DTSTART;TZID=America/Phoenix:20260619T070000
DTEND;TZID=America/Phoenix:20260619T110000
DTSTAMP:20260419T092207
CREATED:20240625T180112Z
LAST-MODIFIED:20240625T180117Z
UID:10000365-1781852400-1781866800@www.ygcc.org
SUMMARY:Breakfast
DESCRIPTION:
URL:https://www.ygcc.org/event/breakfast-2/2026-06-19/
END:VEVENT
BEGIN:VEVENT
DTSTART;TZID=America/Phoenix:20260620T070000
DTEND;TZID=America/Phoenix:20260620T110000
DTSTAMP:20260419T092207
CREATED:20240625T180112Z
LAST-MODIFIED:20240625T180117Z
UID:10007697-1781938800-1781953200@www.ygcc.org
SUMMARY:Breakfast
DESCRIPTION:
URL:https://www.ygcc.org/event/breakfast-2/2026-06-20/
END:VEVENT
BEGIN:VEVENT
DTSTART;TZID=America/Phoenix:20260621T070000
DTEND;TZID=America/Phoenix:20260621T110000
DTSTAMP:20260419T092207
CREATED:20240625T180112Z
LAST-MODIFIED:20240625T180117Z
UID:10000366-1782025200-1782039600@www.ygcc.org
SUMMARY:Breakfast
DESCRIPTION:
URL:https://www.ygcc.org/event/breakfast-2/2026-06-21/
END:VEVENT
BEGIN:VEVENT
DTSTART;TZID=America/Phoenix:20260626T070000
DTEND;TZID=America/Phoenix:20260626T110000
DTSTAMP:20260419T092207
CREATED:20240625T180112Z
LAST-MODIFIED:20240625T180117Z
UID:10007698-1782457200-1782471600@www.ygcc.org
SUMMARY:Breakfast
DESCRIPTION:
URL:https://www.ygcc.org/event/breakfast-2/2026-06-26/
END:VEVENT
BEGIN:VEVENT
DTSTART;TZID=America/Phoenix:20260627T070000
DTEND;TZID=America/Phoenix:20260627T110000
DTSTAMP:20260419T092207
CREATED:20240625T180112Z
LAST-MODIFIED:20240625T180117Z
UID:10000369-1782543600-1782558000@www.ygcc.org
SUMMARY:Breakfast
DESCRIPTION:
URL:https://www.ygcc.org/event/breakfast-2/2026-06-27/
END:VEVENT
END:VCALENDAR